BEGIN:VCALENDAR
VERSION:2.0
PRODID:-//Bindi - ECPv6.15.14//NONSGML v1.0//EN
CALSCALE:GREGORIAN
METHOD:PUBLISH
X-WR-CALNAME:Bindi
X-ORIGINAL-URL:https://bindi.world
X-WR-CALDESC:Eventos para Bindi
REFRESH-INTERVAL;VALUE=DURATION:PT1H
X-Robots-Tag:noindex
X-PUBLISHED-TTL:PT1H
BEGIN:VTIMEZONE
TZID:America/Argentina/Buenos_Aires
BEGIN:STANDARD
TZOFFSETFROM:-0300
TZOFFSETTO:-0300
TZNAME:-03
DTSTART:20240101T000000
END:STANDARD
END:VTIMEZONE
BEGIN:VEVENT
DTSTART;TZID=America/Argentina/Buenos_Aires:20251215T000000
DTEND;TZID=America/Argentina/Buenos_Aires:20260218T235959
DTSTAMP:20260423T015642
CREATED:20251209T212338Z
LAST-MODIFIED:20251209T212339Z
UID:4075-1765756800-1771459199@bindi.world
SUMMARY:Muestra Inmersiva de Monet en el Teatro Colón
DESCRIPTION:Del 15 de diciembre al 18 de febrero\, se presenta una experiencia inmersiva multisensorial en el Teatro Colón. La sala del CETC se transformará en un espacio donde la obra de Claude Monet y de otros maestros impresionistas se desplegará en todo su esplendor y plena de dinamismo.Guiados por frases de cada uno de esos creadores\, que permitirán adentrarse en sus búsquedas artísticas\, así como en sus recorridos personales\, la vivencia se completará con una envolvente construcción sonora especialmente diseñada para adentrarse en esos mundos de luces\, formas y colores. \n\n\n\nMás información en teatrocolon.org.ar
URL:https://bindi.world/evento/muestra-inmersiva-de-monet-en-el-teatro-colon/
LOCATION:Teatro Colón\, Cerrito 628\, Ciudad Autónoma de Buenos Aires\, Argentina
CATEGORIES:Cultura
ATTACH;FMTTYPE=image/jpeg:https://bindi.world/wp-content/uploads/2025/12/8eda0694-e340-4037-b2e3-2587e5973701.jpg
END:VEVENT
BEGIN:VEVENT
DTSTART;TZID=America/Argentina/Buenos_Aires:20251217T000000
DTEND;TZID=America/Argentina/Buenos_Aires:20260201T235959
DTSTAMP:20260423T015642
CREATED:20260112T175038Z
LAST-MODIFIED:20260112T175039Z
UID:4943-1765929600-1769990399@bindi.world
SUMMARY:El Horizonte de Keops
DESCRIPTION:La 𝐆𝐫𝐚𝐧 𝐏𝐢𝐫𝐚́𝐦𝐢𝐝𝐞 𝐝𝐞 𝐊𝐞𝐨𝐩𝐬 y una 𝐜𝐞𝐫𝐞𝐦𝐨𝐧𝐢𝐚 𝐝𝐞 𝐦𝐨𝐦𝐢𝐟𝐢𝐜𝐚𝐜𝐢𝐨́𝐧 en un templo te esperan… Y esta vez\, podés entrar. \n\n\n\n Por primera vez en la 𝐀𝐫𝐠𝐞𝐧𝐭𝐢𝐧𝐚 llega 𝐇𝐨𝐫𝐢𝐳𝐨𝐧𝐭𝐞 𝐝𝐞 𝐊𝐞𝐨𝐩𝐬 desde el 𝟏𝟕 𝐝𝐞 𝐝𝐢𝐜𝐢𝐞𝐦𝐛𝐫𝐞\, vas a poder vivir una experiencia de 𝐑𝐞𝐚𝐥𝐢𝐝𝐚𝐝 𝐕𝐢𝐫𝐭𝐮𝐚𝐥 𝐀𝐮𝐦𝐞𝐧𝐭𝐚𝐝𝐚 única en @larural_bsas \n\n\n\n Un nuevo capítulo de 𝐞𝐠𝐢𝐩𝐭𝐨𝐦𝐚𝐧𝐢́𝐚 despierta a la ciudad: 𝐫𝐢𝐭𝐮𝐚𝐥𝐞𝐬 𝐚𝐧𝐜𝐞𝐬𝐭𝐫𝐚𝐥𝐞𝐬\, 𝐜𝐚́𝐦𝐚𝐫𝐚𝐬 𝐨𝐜𝐮𝐥𝐭𝐚𝐬 𝐲 𝐮𝐧𝐚 𝐚𝐫𝐪𝐮𝐢𝐭𝐞𝐜𝐭𝐮𝐫𝐚 𝐞𝐭𝐞𝐫𝐧𝐚 𝐯𝐮𝐞𝐥𝐯𝐞𝐧 𝐚 𝐜𝐨𝐛𝐫𝐚𝐫 𝐯𝐢𝐝𝐚. \n\n\n\n Vas a sobrevolar la meseta de 𝐆𝐮𝐢𝐳𝐚\, ascender sin esfuerzo hasta la cima de la 𝐏𝐢𝐫𝐚́𝐦𝐢𝐝𝐞 𝐝𝐞 𝐊𝐞𝐨𝐩𝐬\, presenciar una 𝐜𝐞𝐫𝐞𝐦𝐨𝐧𝐢𝐚 𝐝𝐞 𝐞𝐦𝐛𝐚𝐥𝐬𝐚𝐦𝐚𝐦𝐢𝐞𝐧𝐭𝐨 y navegar por el 𝐑𝐢́𝐨 𝐍𝐢𝐥𝐨 como lo hicieron hace 4.500 años. \n\n\n\n Una aventura creada para 𝐠𝐫𝐚𝐧𝐝𝐞𝐬 𝐲 𝐜𝐡𝐢𝐜𝐨𝐬\, este verano en el 𝐏𝐚𝐛𝐞𝐥𝐥𝐨́𝐧 𝐅𝐫𝐞𝐫𝐬.
URL:https://bindi.world/evento/el-horizonte-de-keops/
LOCATION:La Rural – Predio Ferial de Buenos Aires\, Av. Sarmiento 2704\, Ciudad Autónoma de Buenos Aires\, Argentina
CATEGORIES:Cultura
ATTACH;FMTTYPE=image/jpeg:https://bindi.world/wp-content/uploads/2026/01/Screenshot-2026-01-12-144705.jpg
END:VEVENT
BEGIN:VEVENT
DTSTART;TZID=America/Argentina/Buenos_Aires:20260124T000000
DTEND;TZID=America/Argentina/Buenos_Aires:20260201T235959
DTSTAMP:20260423T015642
CREATED:20260119T202336Z
LAST-MODIFIED:20260119T202337Z
UID:5205-1769212800-1769990399@bindi.world
SUMMARY:Astor\, Piazzolla Eterno
DESCRIPTION:En enero de 2026\, llega «Astor\, Piazzolla Eterno». Una celebración del gran artista argentino\, en un recorrido por sus composiciones\, su mundo y su legado\, en un espectáculo que reúne bailarines\, cantantes\, actores\, e instrumentistas del más alto nivel en la icónica Sala Principal del Teatro Colón. \n\n\n\nUn viaje multisensorial al mundo de Piazzolla\, en cuanto ser humano\, artista\, y figura fundamental en la construcción de la cultura argentina\, compartiendo esas creaciones con las que emocionó y continúa emocionando al mundo.
URL:https://bindi.world/evento/astor-piazzolla-eterno/
LOCATION:Teatro Colón\, Cerrito 628\, Ciudad Autónoma de Buenos Aires\, Argentina
CATEGORIES:Cultura,Música
ATTACH;FMTTYPE=image/jpeg:https://bindi.world/wp-content/uploads/2026/01/93aa139e-2664-4eba-83e6-412ee7ec570e.jpg
END:VEVENT
BEGIN:VEVENT
DTSTART;TZID=America/Argentina/Buenos_Aires:20260128T000000
DTEND;TZID=America/Argentina/Buenos_Aires:20260201T235959
DTSTAMP:20260423T015642
CREATED:20260119T201513Z
LAST-MODIFIED:20260119T201537Z
UID:5199-1769558400-1769990399@bindi.world
SUMMARY:Retiro Maputinkuy con Coral Herencia ~ Pucón\, Chile
DESCRIPTION:Durante cinco días habitamos la montaña para aprender\, crear y celebrar la vida en comunidad. Un programa vivo\, pensado para todas las edades\, donde el arte\, la ecología y los saberes ancestrales se entrelazan. \n\n\n\n ✨ Talleres y experiencias 🔥 Ceremonias y encuentros comunitarios 🎶 Música\, recitales y Gran Concierto 🌱 Ecología\, oficios y Buen Vivir 👣 Espacios para niñ@s\, jóvenes y adult@s 🤍 Tiempo para compartir\, descansar y reconectar \n\n\n\nCada día es una invitación a volver a lo esencial.Cada actividad\, un gesto de cuidado hacia la Tierra y la vida. \n\n\n\n🌿 Maputinkuy 2026 — Encuentro con la Tierra📅 28 de enero al 1 de febrero📍 Ecoparque Montaña Sagrada\, Pucón – Chile 🇨🇱
URL:https://bindi.world/evento/retiro-maputinkuy-con-coral-herencia-pucon-chile/
CATEGORIES:Retiros
ATTACH;FMTTYPE=image/jpeg:https://bindi.world/wp-content/uploads/2026/01/76485068-5d66-4551-a373-132c30ebbbc6-1.jpg
END:VEVENT
BEGIN:VEVENT
DTSTART;TZID=America/Argentina/Buenos_Aires:20260128T200000
DTEND;TZID=America/Argentina/Buenos_Aires:20260212T223000
DTSTAMP:20260423T015642
CREATED:20260126T180827Z
LAST-MODIFIED:20260126T180827Z
UID:5348-1769630400-1770935400@bindi.world
SUMMARY:Ciclos de Charlas Permacultura | Online
DESCRIPTION:Del 28 de enero al 12 de febrero a las 20 hs\, te invitamos a sumarte al ciclo «Charlas Permacultura» que vamos a estar compartiendo con el objetivo de apoyar a damnificadxs y quienes combaten el fuego en la Patagonia💚 \n\n\n\n Las charlas no tienen un valor fijo\, la idea es que cada quien aporte desde lo que pueda\, ya que hoy más que nunca\, el apoyo de la ciudadanía es fundamental para hacer frente a la catástrofe. Todo lo recaudado será destinado a quiénes hoy más lo necesitan🌿 \n\n\n\n Este miércoles hacemos el vivo de presentación de un ciclo en el que vamos a charlar sobre FUEGO\, AGUA\, REGENERACIÓN Y PUEBLOS ORIGINARIOS🌈 \n\n\n\n Ciclo junto a: Olga Lubel @fincalahuella\, Fran Laguzzi y Meli Rodríguez @calamuchitapermacultura\, Pablo Kulbaba hacono_estufas \, Eduardo Pincen + @lucianokordon y @matriapermacultura.
URL:https://bindi.world/evento/ciclos-de-charlas-permacultura-online/
CATEGORIES:Clases, cursos y ciclos
ATTACH;FMTTYPE=image/jpeg:https://bindi.world/wp-content/uploads/2026/01/aaba5ebd-249b-4a18-97a2-4140a850102c.jpg
END:VEVENT
BEGIN:VEVENT
DTSTART;TZID=America/Argentina/Buenos_Aires:20260129T000000
DTEND;TZID=America/Argentina/Buenos_Aires:20260219T235959
DTSTAMP:20260423T015642
CREATED:20260126T184102Z
LAST-MODIFIED:20260126T184102Z
UID:5365-1769644800-1771545599@bindi.world
SUMMARY:Curso Radika Online: Neurociencia de la meditación
DESCRIPTION:Ya puedes apuntarte al curso de “Neurociencia de la meditación”. Explora cómo los distintos tipos de meditación impactan en el cerebro y el sistema nervioso. Últimos días del precio especial para el curso de “Neurociencia de la meditación.
URL:https://bindi.world/evento/curso-radika-online-neurociencia-de-la-meditacion/
CATEGORIES:Clases, cursos y ciclos
ATTACH;FMTTYPE=image/jpeg:https://bindi.world/wp-content/uploads/2026/01/48f42bf3-5284-41d7-a134-c875d11aeb67.jpg
END:VEVENT
BEGIN:VEVENT
DTSTART;TZID=America/Argentina/Buenos_Aires:20260130T000000
DTEND;TZID=America/Argentina/Buenos_Aires:20260201T235959
DTSTAMP:20260423T015642
CREATED:20260126T172537Z
LAST-MODIFIED:20260126T172538Z
UID:5329-1769731200-1769990399@bindi.world
SUMMARY:Festival Isoca
DESCRIPTION:Arrancamos el año en el @isocafestival ! Tres días de convivir en la naturaleza\, con talleres y música que inspiran para arrancar el año con fuerza! Nos vemos el 30/1 \, 31/1 y 1/2!  Alegría volver a encontrarnos y construir juntos tres días en armonía\, con mucha música\, aprendizajes\, conectados con la naturaleza y su ritmo!
URL:https://bindi.world/evento/festival-isoca/
LOCATION:Club Dannevirke\, Club Dannevirke\, San Cayetano\, Buenos Aires\, Argentina
CATEGORIES:Música
ATTACH;FMTTYPE=image/jpeg:https://bindi.world/wp-content/uploads/2026/01/51f635cb-68ef-42d7-a8f6-4156ce8ba589.jpg
END:VEVENT
BEGIN:VEVENT
DTSTART;TZID=America/Argentina/Buenos_Aires:20260130T000000
DTEND;TZID=America/Argentina/Buenos_Aires:20260201T235959
DTSTAMP:20260423T015642
CREATED:20260126T173824Z
LAST-MODIFIED:20260126T173824Z
UID:5337-1769731200-1769990399@bindi.world
SUMMARY:Festival Faro en Parque Urquiza\, Rosario
DESCRIPTION:¡FARO se viene con todo! 💥 Llega la cuarta edición del festival de la ciudad. Tres días\, dos escenarios\, más de 160 artistas\, feria\, experiencias\, gastronomía y propuestas para toda la familia. \n\n\n\n📅 30\, 31 de enero y 1 de febrero👉 desde las 19 h📍 en el Parque Urquiza \n\n\n\nEntrada gratuita con capacidad limitada en rosario.gob.ar desde el martes 20 de enero.
URL:https://bindi.world/evento/festival-faro-en-parque-urquiza-rosario/
CATEGORIES:Música
ATTACH;FMTTYPE=image/jpeg:https://bindi.world/wp-content/uploads/2026/01/52b0f421-62b0-4a26-83f3-aeb24e4782f2.jpg
END:VEVENT
BEGIN:VEVENT
DTSTART;TZID=America/Argentina/Buenos_Aires:20260130T000000
DTEND;TZID=America/Argentina/Buenos_Aires:20260202T235959
DTSTAMP:20260423T015642
CREATED:20260123T201237Z
LAST-MODIFIED:20260123T201748Z
UID:5303-1769731200-1770076799@bindi.world
SUMMARY:Festival Iemanjá | Oceanía del Polonio\, Uruguay
DESCRIPTION:El portal se vuelve a abrir. Y el océano nos convoca\, una vez más\, a encontrarnos. 🌕 Festival Iemanjá · VI Edición \n\n\n\n Un encuentro ritual para honrar el agua\, la vida y el pulso de lo esencial. \n\n\n\n Durante 4 días y 4 noches\, en campo oceánico de 15 hectáreas\, nos reunimos para co-crear un oasis de magia.Conviviremos cerca al mar\, caballos\, campo y cielo infinito de estrellas\, dando forma a un ritual vivo\, donde la música electro-orgánica\, las prácticas conscientes\, el arte\, el movimiento y la comunidad se entrelazan como una gran ofrenda colectiva. \n\n\n\nEste encuentro es sostenido por una tribu de artistas\, músicxs\, facilitadorxs y creadorxs de distintos territorios\, activando experiencias que nos invitan a trascender y a expandirnos con todo nuestro SER. \n\n\n\n✨ Un line imperdibleMuy pronto compartiremos la programación completa día a día. \n\n\n\nEncontrarás:🎶 Rituales electro-orgánicos diurnos y nocturnos🌿 Experiencias\, talleres y ceremonias🌀 Arte\, comunidad\, tribu y naturaleza🫂 Festival consciente y familiar \n\n\n\n📍 En @laviejaescuela.oceania — Oceanía del Polonio\, Uruguay🗓️ 30 de enero al 2 de febrero⚠️ Cupos limitados🎟️ Entradas disponibles en el link en bioTanda 1 a punto de agotarse \n\n\n\nSi sentís el llamado\, este es el momento.
URL:https://bindi.world/evento/festival-iemanja-oceania-del-polonio-uruguay/
CATEGORIES:Música
ATTACH;FMTTYPE=image/jpeg:https://bindi.world/wp-content/uploads/2026/01/4dd8c725-aa19-4c59-b7cd-ff8cf32f7354.jpg
END:VEVENT
BEGIN:VEVENT
DTSTART;TZID=America/Argentina/Buenos_Aires:20260201T000000
DTEND;TZID=America/Argentina/Buenos_Aires:20260205T235959
DTSTAMP:20260423T015642
CREATED:20260202T182946Z
LAST-MODIFIED:20260202T182946Z
UID:5449-1769904000-1770335999@bindi.world
SUMMARY:Encuentro de primarias Waldorf por la Sociedad Antroposófica | Córdoba
DESCRIPTION:La Sociedad Antroposófica en la Argentina les comparte la invitación al 10° ENCUENTRO DE PRIMARIAS WALDORF«Presente como puente» que se llevará a cabo del 1 al 5 de febrero de 2026 en Casa de retiro «San Alfonso» en Villa Allende\, Córdoba. \n\n\n\n🔹️Encuentro con maestros de toda Argentina y otros países de Latinoamérica. \n\n\n\n🔹️Rítmicas. Música y canto. \n\n\n\n🔹️Conferencias dadas por maestros relacionadas con los puentes entre: los maestros y el mundo\, el cuerpo colegiado\, los niños\, las familias y la antroposofía. \n\n\n\n🔹️Fundamentos antroposóficos para nuestra práctica cotidiana. \n\n\n\n🔹️Talleres e Iniciativas Libres para profundizar a lo largo de toda la semana. \n\n\n\n🔹️Propuestas de Camino Interior. \n\n\n\n🔹️Encuentros por grados y áreas para intercambiar cómo se dan los mismos contenidos a diferentes grupos de niños y en diferentes latitudes. \n\n\n\n🔹️Pausas de descanso\, recreativas y sociales. \n\n\n\n🔹️Instalaciones:5 días en un convento rodeado de naturaleza.4 comidas diarias incluidas.Habitaciones de 3 a 6 personas.Espacios al aire libre con vista a las sierras.Pileta y cancha de voley.A dos cuadras del centro comercial.Estacionamiento.SUM y quincho.
URL:https://bindi.world/evento/encuentro-de-primarias-waldorf-por-la-sociedad-antroposofica-cordoba/
CATEGORIES:Clases, cursos y ciclos
ATTACH;FMTTYPE=image/jpeg:https://bindi.world/wp-content/uploads/2026/02/c52255b2-e5ad-4385-9e0b-8b9fae6c561c.jpg
END:VEVENT
BEGIN:VEVENT
DTSTART;TZID=America/Argentina/Buenos_Aires:20260201T000000
DTEND;TZID=America/Argentina/Buenos_Aires:20260213T235959
DTSTAMP:20260423T015642
CREATED:20260202T185808Z
LAST-MODIFIED:20260202T185809Z
UID:5466-1769904000-1771027199@bindi.world
SUMMARY:Retiro en Nigredo en Asuán y El Cairo con Matías de Stefano
DESCRIPTION:Del 1 al 13 de febrero de 2026\, regresaremos a Egipto para vivir 12 noches recorriendo Asuán y El Cairo\, navegando el Nilo como lo hicieron los antiguos guardianes de la tierra negra. \n\n\n\nEn este primer viaje de YOSOY Alkhemia\, 94 caminantes encarnarán los 92 elementos naturales de la Tierra\, junto a los Nodos Norte y Sur\, para activar la fase más profunda de la transformación alquímica: \n\n\n\n⚫ Nigredo – purificación\, disolución y renacimiento. \n\n\n\n¿Sientes ese llamado que aparece cuando el alma reconoce el fuego de la transformación? \n\n\n\nLos templos de Philae\, Kom Ombo\, Edfu\, Dendera\, Abydos\, Luxor y las Pirámides de Giza abrirán sus puertas para un rito colectivo donde ciencia\, alquimia y espíritu recuerdan el camino de regreso al origen.
URL:https://bindi.world/evento/retiro-en-nigredo-en-asuan-y-el-cairo-con-matias-de-stefano/
CATEGORIES:Retiros
ATTACH;FMTTYPE=image/jpeg:https://bindi.world/wp-content/uploads/2026/02/20b312f3-d205-4199-a39d-d1ea68340f96.jpg
END:VEVENT
BEGIN:VEVENT
DTSTART;TZID=America/Argentina/Buenos_Aires:20260201T190000
DTEND;TZID=America/Argentina/Buenos_Aires:20260201T233000
DTSTAMP:20260423T015642
CREATED:20260114T205651Z
LAST-MODIFIED:20260114T205652Z
UID:5095-1769972400-1769988600@bindi.world
SUMMARY:Luna llena en el río: Bitácora de a Bordo en Embarque Berisso
DESCRIPTION:Vamos a navegar hasta Isla Paulino para pasar una noche mágica frente al río\, en contacto con la naturaleza y el silencio isleño. \n\n\n\n Habrá fogón\, guitarreada y ritualcito de luna llena! \n\n\n\n 🥪 Podes elegir la entrada que incluye cena o llevar tu propio picnic. \n\n\n\n Venite sola\, con amigos\, en pareja o en familia. \n\n\n\n 🎶 Y si tocas algun instrumento\, traelo
URL:https://bindi.world/evento/luna-llena-en-el-rio-bitacora-de-a-bordo-en-embarque-berisso/
CATEGORIES:Música,Retiros
ATTACH;FMTTYPE=image/jpeg:https://bindi.world/wp-content/uploads/2026/01/9861c871-d6c4-43d8-b364-29aab689c0e1.jpg
END:VEVENT
END:VCALENDAR