BEGIN:VCALENDAR
VERSION:2.0
PRODID:-//Bindi - ECPv6.15.14//NONSGML v1.0//EN
CALSCALE:GREGORIAN
METHOD:PUBLISH
X-WR-CALNAME:Bindi
X-ORIGINAL-URL:https://bindi.world
X-WR-CALDESC:Eventos para Bindi
REFRESH-INTERVAL;VALUE=DURATION:PT1H
X-Robots-Tag:noindex
X-PUBLISHED-TTL:PT1H
BEGIN:VTIMEZONE
TZID:America/Argentina/Buenos_Aires
BEGIN:STANDARD
TZOFFSETFROM:-0300
TZOFFSETTO:-0300
TZNAME:-03
DTSTART:20240101T000000
END:STANDARD
END:VTIMEZONE
BEGIN:VEVENT
DTSTART;TZID=America/Argentina/Buenos_Aires:20251215T000000
DTEND;TZID=America/Argentina/Buenos_Aires:20260218T235959
DTSTAMP:20260423T015659
CREATED:20251209T212338Z
LAST-MODIFIED:20251209T212339Z
UID:4075-1765756800-1771459199@bindi.world
SUMMARY:Muestra Inmersiva de Monet en el Teatro Colón
DESCRIPTION:Del 15 de diciembre al 18 de febrero\, se presenta una experiencia inmersiva multisensorial en el Teatro Colón. La sala del CETC se transformará en un espacio donde la obra de Claude Monet y de otros maestros impresionistas se desplegará en todo su esplendor y plena de dinamismo.Guiados por frases de cada uno de esos creadores\, que permitirán adentrarse en sus búsquedas artísticas\, así como en sus recorridos personales\, la vivencia se completará con una envolvente construcción sonora especialmente diseñada para adentrarse en esos mundos de luces\, formas y colores. \n\n\n\nMás información en teatrocolon.org.ar
URL:https://bindi.world/evento/muestra-inmersiva-de-monet-en-el-teatro-colon/
LOCATION:Teatro Colón\, Cerrito 628\, Ciudad Autónoma de Buenos Aires\, Argentina
CATEGORIES:Cultura
ATTACH;FMTTYPE=image/jpeg:https://bindi.world/wp-content/uploads/2025/12/8eda0694-e340-4037-b2e3-2587e5973701.jpg
END:VEVENT
BEGIN:VEVENT
DTSTART;TZID=America/Argentina/Buenos_Aires:20260128T200000
DTEND;TZID=America/Argentina/Buenos_Aires:20260212T223000
DTSTAMP:20260423T015659
CREATED:20260126T180827Z
LAST-MODIFIED:20260126T180827Z
UID:5348-1769630400-1770935400@bindi.world
SUMMARY:Ciclos de Charlas Permacultura | Online
DESCRIPTION:Del 28 de enero al 12 de febrero a las 20 hs\, te invitamos a sumarte al ciclo «Charlas Permacultura» que vamos a estar compartiendo con el objetivo de apoyar a damnificadxs y quienes combaten el fuego en la Patagonia💚 \n\n\n\n Las charlas no tienen un valor fijo\, la idea es que cada quien aporte desde lo que pueda\, ya que hoy más que nunca\, el apoyo de la ciudadanía es fundamental para hacer frente a la catástrofe. Todo lo recaudado será destinado a quiénes hoy más lo necesitan🌿 \n\n\n\n Este miércoles hacemos el vivo de presentación de un ciclo en el que vamos a charlar sobre FUEGO\, AGUA\, REGENERACIÓN Y PUEBLOS ORIGINARIOS🌈 \n\n\n\n Ciclo junto a: Olga Lubel @fincalahuella\, Fran Laguzzi y Meli Rodríguez @calamuchitapermacultura\, Pablo Kulbaba hacono_estufas \, Eduardo Pincen + @lucianokordon y @matriapermacultura.
URL:https://bindi.world/evento/ciclos-de-charlas-permacultura-online/
CATEGORIES:Clases, cursos y ciclos
ATTACH;FMTTYPE=image/jpeg:https://bindi.world/wp-content/uploads/2026/01/aaba5ebd-249b-4a18-97a2-4140a850102c.jpg
END:VEVENT
BEGIN:VEVENT
DTSTART;TZID=America/Argentina/Buenos_Aires:20260129T000000
DTEND;TZID=America/Argentina/Buenos_Aires:20260219T235959
DTSTAMP:20260423T015659
CREATED:20260126T184102Z
LAST-MODIFIED:20260126T184102Z
UID:5365-1769644800-1771545599@bindi.world
SUMMARY:Curso Radika Online: Neurociencia de la meditación
DESCRIPTION:Ya puedes apuntarte al curso de “Neurociencia de la meditación”. Explora cómo los distintos tipos de meditación impactan en el cerebro y el sistema nervioso. Últimos días del precio especial para el curso de “Neurociencia de la meditación.
URL:https://bindi.world/evento/curso-radika-online-neurociencia-de-la-meditacion/
CATEGORIES:Clases, cursos y ciclos
ATTACH;FMTTYPE=image/jpeg:https://bindi.world/wp-content/uploads/2026/01/48f42bf3-5284-41d7-a134-c875d11aeb67.jpg
END:VEVENT
BEGIN:VEVENT
DTSTART;TZID=America/Argentina/Buenos_Aires:20260201T000000
DTEND;TZID=America/Argentina/Buenos_Aires:20260213T235959
DTSTAMP:20260423T015659
CREATED:20260202T185808Z
LAST-MODIFIED:20260202T185809Z
UID:5466-1769904000-1771027199@bindi.world
SUMMARY:Retiro en Nigredo en Asuán y El Cairo con Matías de Stefano
DESCRIPTION:Del 1 al 13 de febrero de 2026\, regresaremos a Egipto para vivir 12 noches recorriendo Asuán y El Cairo\, navegando el Nilo como lo hicieron los antiguos guardianes de la tierra negra. \n\n\n\nEn este primer viaje de YOSOY Alkhemia\, 94 caminantes encarnarán los 92 elementos naturales de la Tierra\, junto a los Nodos Norte y Sur\, para activar la fase más profunda de la transformación alquímica: \n\n\n\n⚫ Nigredo – purificación\, disolución y renacimiento. \n\n\n\n¿Sientes ese llamado que aparece cuando el alma reconoce el fuego de la transformación? \n\n\n\nLos templos de Philae\, Kom Ombo\, Edfu\, Dendera\, Abydos\, Luxor y las Pirámides de Giza abrirán sus puertas para un rito colectivo donde ciencia\, alquimia y espíritu recuerdan el camino de regreso al origen.
URL:https://bindi.world/evento/retiro-en-nigredo-en-asuan-y-el-cairo-con-matias-de-stefano/
CATEGORIES:Retiros
ATTACH;FMTTYPE=image/jpeg:https://bindi.world/wp-content/uploads/2026/02/20b312f3-d205-4199-a39d-d1ea68340f96.jpg
END:VEVENT
BEGIN:VEVENT
DTSTART;TZID=America/Argentina/Buenos_Aires:20260202T000000
DTEND;TZID=America/Argentina/Buenos_Aires:20260219T235959
DTSTAMP:20260423T015659
CREATED:20251013T193905Z
LAST-MODIFIED:20251013T193906Z
UID:2660-1769990400-1771545599@bindi.world
SUMMARY:El Tarot como Espejo - Retiro en la India
DESCRIPTION:Con Dalia Walker y Fabio Albertini. \n\n\n\nDescubrí lo que India tiene para compartirte guiado por el Tarot: templos\, gurus\, dioses y lugares sagrados. \n\n\n\nSe reciben viajeros que hablen inglés e italiano \n\n\n\nEl viaje es personalizado y los cupos limitados.
URL:https://bindi.world/evento/el-tarot-como-espejo-retiro-en-la-india/
CATEGORIES:Retiros
ATTACH;FMTTYPE=image/png:https://bindi.world/wp-content/uploads/2025/10/b3b1d007-0b4c-45ca-9f24-1eac4538e2cb.png
END:VEVENT
BEGIN:VEVENT
DTSTART;TZID=America/Argentina/Buenos_Aires:20260203T190000
DTEND;TZID=America/Argentina/Buenos_Aires:20260224T203000
DTSTAMP:20260423T015659
CREATED:20260202T183305Z
LAST-MODIFIED:20260202T183305Z
UID:5452-1770145200-1771965000@bindi.world
SUMMARY:Escribir y leer el Tarot por Arte y Alquimia
DESCRIPTION:Segunda edición de Escribir y leer el TarotTaller de práctica e interpretación \n\n\n\nUn espacio para descubrir el tarot como herramienta de conexión\, reflexión y creatividad. \n\n\n\n👁 En este taller exploraremos la riqueza simbólica de los arcanos y sus posibles diálogos dentro del mazo\, haciendo prácticas que integren intuición\, análisis y expresión personal. \n\n\n\n🌟 Participar permite no solo aprender técnicas de interpretación\, sino también desarrollar una mirada más profunda sobre unx mismx y sobre las historias que las cartas pueden revelar. Al finalizar\, cada participante se llevará herramientas prácticas para realizar lecturas más conscientes\, junto con una experiencia enriquecedora de autoconocimiento y creatividad aplicada al arte de leer el tarot. \n\n\n\nNos encontramos para jugar\, escribir y hacer lecturas?🌟👁🦂✨️🌹💘 \n\n\n\nModalidad : por zoom\, todas las clases quedan grabadas. \n\n\n\nDuración: 4 clases intensivas en FebreroCUPOS LIMITADOS ‼️ \n\n\n\nMartes de 19 hs a 20.30 hs
URL:https://bindi.world/evento/escribir-y-leer-el-tarot-por-arte-y-alquimia/
CATEGORIES:Clases, cursos y ciclos
ATTACH;FMTTYPE=image/jpeg:https://bindi.world/wp-content/uploads/2026/02/706e46ae-4c4d-4a33-8336-8023c94b964f.jpg
END:VEVENT
BEGIN:VEVENT
DTSTART;TZID=America/Argentina/Buenos_Aires:20260206T000000
DTEND;TZID=America/Argentina/Buenos_Aires:20260214T235959
DTSTAMP:20260423T015659
CREATED:20251008T194012Z
LAST-MODIFIED:20251209T203404Z
UID:2391-1770336000-1771113599@bindi.world
SUMMARY:Festival Alienígena
DESCRIPTION:👽 ¡Ya hay fecha para el Festival Alienígena 2026 en Capilla del Monte! 🚀 \n\n\n\nUno de los eventos más esperados del verano cordobés ya tiene su lugar en la agenda: del 6 al 14 de febrero Capilla se convertirá nuevamente en el epicentro de la mística\, la diversión y el turismo.Habrá actividades para toda la familia\, música\, stands\, talleres y\, por supuesto\, la clásica energía que atrae a visitantes de todo el país y del mundo. \n\n\n\n👉 Muy pronto se conocerán más detalles de la programación.¿Ya pensaste con quién vas a vivir esta experiencia única?
URL:https://bindi.world/evento/festival-alienigena/
LOCATION:Capilla del Monte\, Capilla del Monte\, Argentina
CATEGORIES:Cultura
ATTACH;FMTTYPE=image/jpeg:https://bindi.world/wp-content/uploads/2025/10/68eb429c-d9bd-4484-a696-73b58b924dd8.jpg
END:VEVENT
BEGIN:VEVENT
DTSTART;TZID=America/Argentina/Buenos_Aires:20260209T160000
DTEND;TZID=America/Argentina/Buenos_Aires:20260227T190000
DTSTAMP:20260423T015659
CREATED:20260206T201320Z
LAST-MODIFIED:20260206T201321Z
UID:5566-1770652800-1772218800@bindi.world
SUMMARY:Atención y Recepción de Donaciones de Libros | Bibliotecas Rurales
DESCRIPTION:Recepción de donaciones de libros los lunes\, miércoles y viernes de 16 a 19 horas.Los libros no deben presentar: \n\n\n\n💧 Humedad🌫️ Hongos📉 Roturas graves📄 Faltantes de páginas🖊️ Marcas excesivas \n\n\n\n🚫 Materiales que no integran nuestras bibliotecas: \n\n\n\n📎 Fotocopias📚 Fascículos📕 Enciclopedias anteriores al 2000 y/o incompletas.⛔ Libros de contenido religioso o político partidario.
URL:https://bindi.world/evento/atencion-y-recepcion-de-donaciones-de-libros-bibliotecas-rurales/
LOCATION:Bibliotecas Rurales Argentinas\, Godoy Cruz 2087\, Ciudad Autónoma de Buenos Aires\, Argentina
CATEGORIES:Cultura
ATTACH;FMTTYPE=image/jpeg:https://bindi.world/wp-content/uploads/2026/02/7ee3db21-d8fe-4c3d-9014-5e37d82756d5.jpg
END:VEVENT
BEGIN:VEVENT
DTSTART;TZID=America/Argentina/Buenos_Aires:20260210T190000
DTEND;TZID=America/Argentina/Buenos_Aires:20260212T210000
DTSTAMP:20260423T015659
CREATED:20260114T201119Z
LAST-MODIFIED:20260114T201120Z
UID:5057-1770750000-1770930000@bindi.world
SUMMARY:Intensivo de Movimiento: expansión y creatividad con Joel Drut
DESCRIPTION:🌊 Intensivo de Movimiento: expansión y creatividad 🌊Enero y Febrero con @joeldrut \n\n\n\n 3 días seguidos para explorar nuestras capacidades y calidades de movimiento 🤩 Espacio para descubrir nuestros movimientos más sinceros\, esos que vienen viajando a lo largo de nuestro linaje. \n\n\n\n Destinado a todas las almas sensibles que sienten la llamada urgente de bailar y liberar emociones 💃. \n\n\n\n Enero: 20-21-22\, 19 a 21hs Febrero: 10-11-12\, 19 a 21hs \n\n\n\nNos sumergiremos en un viaje de autoexploración y crecimiento personal\, abrazando la vulnerabilidad y la sabiduría del cuerpo. Utilizaremos herramientas de Entrenamiento Funcional\, Teatro Físico\, Danza\, Impro\, Astrología\, Meditación y danza terapia. \n\n\n\nSobre Joel Drut:Joel Drut es de Cancer\, tiene 40 años\, es Padre de Dante y de Cloe\, es Docente – Productor – Colaborador de Prensa – Gestor Cultural – Dramaturgo\, Performer\, Director y Músico.
URL:https://bindi.world/evento/intensivo-de-movimiento-expansion-y-creatividad-con-joel-drut-2/
CATEGORIES:Clases, cursos y ciclos
ATTACH;FMTTYPE=image/jpeg:https://bindi.world/wp-content/uploads/2026/01/3ff6ee31-7528-4e8d-9568-de237fa887a7.jpg
END:VEVENT
BEGIN:VEVENT
DTSTART;TZID=America/Argentina/Buenos_Aires:20260212T180000
DTEND;TZID=America/Argentina/Buenos_Aires:20260212T233000
DTSTAMP:20260423T015659
CREATED:20251114T182223Z
LAST-MODIFIED:20251114T182359Z
UID:3682-1770919200-1770939000@bindi.world
SUMMARY:Hermanos Gutiérrez - Tour Sudamericano
DESCRIPTION:El dúo suizo-latinoamericano regresa con su hipnótico viaje sonoro que conecta el desierto\, el alma y la guitarra como lenguaje universal. \n\n\n\n Más info aquí
URL:https://bindi.world/evento/hermanos-gutierrez-tour-sudamericano/
LOCATION:Teatro Vorterix\, Av. Federico Lacroze 3455\, Ciudad Autónoma de Buenos Aires\, Argentina
CATEGORIES:Música
ATTACH;FMTTYPE=image/jpeg:https://bindi.world/wp-content/uploads/2025/11/0539a5d8-16a4-45c1-9767-27fb4d4fc589.jpg
END:VEVENT
BEGIN:VEVENT
DTSTART;TZID=America/Argentina/Buenos_Aires:20260212T190000
DTEND;TZID=America/Argentina/Buenos_Aires:20260212T223000
DTSTAMP:20260423T015659
CREATED:20260202T205249Z
LAST-MODIFIED:20260202T205250Z
UID:5507-1770922800-1770935400@bindi.world
SUMMARY:Parlantes Holofónicos por Queen (Greatest Hits)
DESCRIPTION:El jueves 12 de febrero tendremos el 💿 Greatest Hits II de 𝐐𝐔𝐄𝐄𝐍. \n\n\n\n⏰ 19:00 hs \n\n\n\nMúsica en total oscuridad con Parlantes Holofónicos\, un espectáculo sonoro para repetir y para regalarse una experiencia distinta. ❤️‍🔥 \n\n\n\n🎟 Adquirí tu entrada en passline\, link directo en nuestro perfil. \n\n\n\n👉 𝗔𝗽𝗿𝗼𝘃𝗲𝗰𝗵𝗮 𝗹𝗮 𝗽𝗿𝗼𝗺𝗼 𝗱𝗲𝘀𝗰𝘂𝗲𝗻𝘁𝗼 𝗲𝗻 𝗹𝗮 𝗰𝗼𝗺𝗽𝗿𝗮 𝗱𝗲 𝟮 𝗲𝗻𝘁𝗿𝗮𝗱𝗮𝘀 (𝘀𝘁𝗼𝗰𝗸 𝗹𝗶𝗺𝗶𝘁𝗮𝗱𝗼). \n\n\n\n𝗜𝗺𝗽𝗼𝗿𝘁𝗮𝗻𝘁𝗲: Recomendamos llegar con 5/10 minutos de anticipación.Una vez que la función haya comenzado\, no se permitirá el ingreso a la sala. \n\n\n\n📵 Te pedimos que no uses el celular durante las funciones para que todos puedan disfrutar del show.
URL:https://bindi.world/evento/parlantes-holofonicos-por-queen-greatest-hits/
LOCATION:Auditorio Espacio Cendas\, Bulnes 1350\, Ciudad Autónoma de Buenos Aires\, Argentina
CATEGORIES:Música
ATTACH;FMTTYPE=image/jpeg:https://bindi.world/wp-content/uploads/2026/02/d069c0e3-b33f-4190-bcae-b61caedfa171.jpg
END:VEVENT
BEGIN:VEVENT
DTSTART;TZID=America/Argentina/Buenos_Aires:20260212T193000
DTEND;TZID=America/Argentina/Buenos_Aires:20260212T213000
DTSTAMP:20260423T015659
CREATED:20260209T182213Z
LAST-MODIFIED:20260209T182213Z
UID:5585-1770924600-1770931800@bindi.world
SUMMARY:Clase de 5Ritmos por Nadia Yamuna Mac Namara
DESCRIPTION:Una clase de 5Ritmos es un viaje sin coreografía ni pasos a seguir: se trata de entregarse al ritmo\, vaciar la mente y dejar que el movimiento encuentre su propia verdad. \n\n\n\n✔ Jueves –Clases semanales -📍 Palermo
URL:https://bindi.world/evento/clase-de-5ritmos-por-nadia-yamuna-mac-namara/
LOCATION:Fuel Palermo\, Cnel. Niceto Vega 5390\, Ciudad Autónoma de Buenos Aires\, Argentina
CATEGORIES:Clases, cursos y ciclos
ATTACH;FMTTYPE=image/jpeg:https://bindi.world/wp-content/uploads/2026/02/11c0ff8c-0547-4d42-a437-aae13eb9275f.jpg
END:VEVENT
BEGIN:VEVENT
DTSTART;TZID=America/Argentina/Buenos_Aires:20260212T213000
DTEND;TZID=America/Argentina/Buenos_Aires:20260212T233000
DTSTAMP:20260423T015659
CREATED:20260209T181748Z
LAST-MODIFIED:20260209T181749Z
UID:5577-1770931800-1770939000@bindi.world
SUMMARY:Trance Dance por Joaquin Muchnik
DESCRIPTION:Un Encuentro de Sonido\, Movimiento y Expresión \n\n\n\nTe invitamos nuevamente a sumergirte en un viaje único de Meditación Dinámica y Exploración Corporal. \n\n\n\n📆Fecha: 12 de Febrero🕜Hora: 21.30hrs puntual📍Lugar: Atman (5ta sección Mendoza) \n\n\n\n¿QUÉ TE ESPERA? \n\n\n\nUna experiencia co-creada colectivamente que resonará en cada rincón de tu ser.A través del sonido binaural \, la danza y la fusión de la música con técnicas somáticas podrás enriquecer tu percepción auditiva y corporal\, liberar lo que no necesitas y encontrar tu centro\, además de conectar con tu escencia \n\n\n\nNuestrxs Guías:🎶 Matías Ortola: Músico profesional y multi-instrumentista\, traerá el arte de las sonoridades que elevan. \n\n\n\n🌱 Joaquín Muchnik: Terapeuta Gestáltico y Corporal\, facilitará la conexión entre cuerpo\, mente y alma. \n\n\n\nUN CONCIERTO ÍNTIMO\, TRANSFORMADOR Y DIFERENTE \n\n\n\n¡No te lo pierdas!Trae tu energía\, tu curiosidad y prepárate para un viaje donde la música y la danza se fusionan en armonía.
URL:https://bindi.world/evento/trance-dance-por-joaquin-muchnik/
LOCATION:Atman Mendoza\, Olegario V. Andrade 560\, Mendoza\, Argentina
CATEGORIES:Música
ATTACH;FMTTYPE=image/jpeg:https://bindi.world/wp-content/uploads/2026/02/Screenshot-2026-02-09-151402.jpg
END:VEVENT
END:VCALENDAR