BEGIN:VCALENDAR
VERSION:2.0
PRODID:-//Bindi - ECPv6.15.14//NONSGML v1.0//EN
CALSCALE:GREGORIAN
METHOD:PUBLISH
X-ORIGINAL-URL:https://bindi.world
X-WR-CALDESC:Eventos para Bindi
REFRESH-INTERVAL;VALUE=DURATION:PT1H
X-Robots-Tag:noindex
X-PUBLISHED-TTL:PT1H
BEGIN:VTIMEZONE
TZID:America/Argentina/Buenos_Aires
BEGIN:STANDARD
TZOFFSETFROM:-0300
TZOFFSETTO:-0300
TZNAME:-03
DTSTART:20240101T000000
END:STANDARD
END:VTIMEZONE
BEGIN:VEVENT
DTSTART;TZID=America/Argentina/Buenos_Aires:20251215T000000
DTEND;TZID=America/Argentina/Buenos_Aires:20260218T235959
DTSTAMP:20260423T003503
CREATED:20251209T212338Z
LAST-MODIFIED:20251209T212339Z
UID:4075-1765756800-1771459199@bindi.world
SUMMARY:Muestra Inmersiva de Monet en el Teatro Colón
DESCRIPTION:Del 15 de diciembre al 18 de febrero\, se presenta una experiencia inmersiva multisensorial en el Teatro Colón. La sala del CETC se transformará en un espacio donde la obra de Claude Monet y de otros maestros impresionistas se desplegará en todo su esplendor y plena de dinamismo.Guiados por frases de cada uno de esos creadores\, que permitirán adentrarse en sus búsquedas artísticas\, así como en sus recorridos personales\, la vivencia se completará con una envolvente construcción sonora especialmente diseñada para adentrarse en esos mundos de luces\, formas y colores. \n\n\n\nMás información en teatrocolon.org.ar
URL:https://bindi.world/evento/muestra-inmersiva-de-monet-en-el-teatro-colon/
LOCATION:Teatro Colón\, Cerrito 628\, Ciudad Autónoma de Buenos Aires\, Argentina
CATEGORIES:Cultura
ATTACH;FMTTYPE=image/jpeg:https://bindi.world/wp-content/uploads/2025/12/8eda0694-e340-4037-b2e3-2587e5973701.jpg
END:VEVENT
BEGIN:VEVENT
DTSTART;TZID=America/Argentina/Buenos_Aires:20260129T000000
DTEND;TZID=America/Argentina/Buenos_Aires:20260219T235959
DTSTAMP:20260423T003503
CREATED:20260126T184102Z
LAST-MODIFIED:20260126T184102Z
UID:5365-1769644800-1771545599@bindi.world
SUMMARY:Curso Radika Online: Neurociencia de la meditación
DESCRIPTION:Ya puedes apuntarte al curso de “Neurociencia de la meditación”. Explora cómo los distintos tipos de meditación impactan en el cerebro y el sistema nervioso. Últimos días del precio especial para el curso de “Neurociencia de la meditación.
URL:https://bindi.world/evento/curso-radika-online-neurociencia-de-la-meditacion/
CATEGORIES:Clases, cursos y ciclos
ATTACH;FMTTYPE=image/jpeg:https://bindi.world/wp-content/uploads/2026/01/48f42bf3-5284-41d7-a134-c875d11aeb67.jpg
END:VEVENT
BEGIN:VEVENT
DTSTART;TZID=America/Argentina/Buenos_Aires:20260202T000000
DTEND;TZID=America/Argentina/Buenos_Aires:20260219T235959
DTSTAMP:20260423T003503
CREATED:20251013T193905Z
LAST-MODIFIED:20251013T193906Z
UID:2660-1769990400-1771545599@bindi.world
SUMMARY:El Tarot como Espejo - Retiro en la India
DESCRIPTION:Con Dalia Walker y Fabio Albertini. \n\n\n\nDescubrí lo que India tiene para compartirte guiado por el Tarot: templos\, gurus\, dioses y lugares sagrados. \n\n\n\nSe reciben viajeros que hablen inglés e italiano \n\n\n\nEl viaje es personalizado y los cupos limitados.
URL:https://bindi.world/evento/el-tarot-como-espejo-retiro-en-la-india/
CATEGORIES:Retiros
ATTACH;FMTTYPE=image/png:https://bindi.world/wp-content/uploads/2025/10/b3b1d007-0b4c-45ca-9f24-1eac4538e2cb.png
END:VEVENT
BEGIN:VEVENT
DTSTART;TZID=America/Argentina/Buenos_Aires:20260203T190000
DTEND;TZID=America/Argentina/Buenos_Aires:20260224T203000
DTSTAMP:20260423T003503
CREATED:20260202T183305Z
LAST-MODIFIED:20260202T183305Z
UID:5452-1770145200-1771965000@bindi.world
SUMMARY:Escribir y leer el Tarot por Arte y Alquimia
DESCRIPTION:Segunda edición de Escribir y leer el TarotTaller de práctica e interpretación \n\n\n\nUn espacio para descubrir el tarot como herramienta de conexión\, reflexión y creatividad. \n\n\n\n👁 En este taller exploraremos la riqueza simbólica de los arcanos y sus posibles diálogos dentro del mazo\, haciendo prácticas que integren intuición\, análisis y expresión personal. \n\n\n\n🌟 Participar permite no solo aprender técnicas de interpretación\, sino también desarrollar una mirada más profunda sobre unx mismx y sobre las historias que las cartas pueden revelar. Al finalizar\, cada participante se llevará herramientas prácticas para realizar lecturas más conscientes\, junto con una experiencia enriquecedora de autoconocimiento y creatividad aplicada al arte de leer el tarot. \n\n\n\nNos encontramos para jugar\, escribir y hacer lecturas?🌟👁🦂✨️🌹💘 \n\n\n\nModalidad : por zoom\, todas las clases quedan grabadas. \n\n\n\nDuración: 4 clases intensivas en FebreroCUPOS LIMITADOS ‼️ \n\n\n\nMartes de 19 hs a 20.30 hs
URL:https://bindi.world/evento/escribir-y-leer-el-tarot-por-arte-y-alquimia/
CATEGORIES:Clases, cursos y ciclos
ATTACH;FMTTYPE=image/jpeg:https://bindi.world/wp-content/uploads/2026/02/706e46ae-4c4d-4a33-8336-8023c94b964f.jpg
END:VEVENT
BEGIN:VEVENT
DTSTART;TZID=America/Argentina/Buenos_Aires:20260209T160000
DTEND;TZID=America/Argentina/Buenos_Aires:20260227T190000
DTSTAMP:20260423T003503
CREATED:20260206T201320Z
LAST-MODIFIED:20260206T201321Z
UID:5566-1770652800-1772218800@bindi.world
SUMMARY:Atención y Recepción de Donaciones de Libros | Bibliotecas Rurales
DESCRIPTION:Recepción de donaciones de libros los lunes\, miércoles y viernes de 16 a 19 horas.Los libros no deben presentar: \n\n\n\n💧 Humedad🌫️ Hongos📉 Roturas graves📄 Faltantes de páginas🖊️ Marcas excesivas \n\n\n\n🚫 Materiales que no integran nuestras bibliotecas: \n\n\n\n📎 Fotocopias📚 Fascículos📕 Enciclopedias anteriores al 2000 y/o incompletas.⛔ Libros de contenido religioso o político partidario.
URL:https://bindi.world/evento/atencion-y-recepcion-de-donaciones-de-libros-bibliotecas-rurales/
LOCATION:Bibliotecas Rurales Argentinas\, Godoy Cruz 2087\, Ciudad Autónoma de Buenos Aires\, Argentina
CATEGORIES:Cultura
ATTACH;FMTTYPE=image/jpeg:https://bindi.world/wp-content/uploads/2026/02/7ee3db21-d8fe-4c3d-9014-5e37d82756d5.jpg
END:VEVENT
BEGIN:VEVENT
DTSTART;TZID=America/Argentina/Buenos_Aires:20260214T000000
DTEND;TZID=America/Argentina/Buenos_Aires:20260217T235959
DTSTAMP:20260423T003503
CREATED:20260202T211358Z
LAST-MODIFIED:20260202T211358Z
UID:5519-1771027200-1771372799@bindi.world
SUMMARY:Retiro Elevando Frecuencias | Reset de Verano
DESCRIPTION:🌈 Retiro RESET DE VERANO \n\n\n\n⭐️ Fecha: 14\, 15\, 16 y 17 de Febrero. \n\n\n\n⭐️ Lugar: Los Hornillos\, Traslasierra\, Córdoba. \n\n\n\n⭐️ Sana tu RAIZ y eleva tu FRECUENCIA. \n\n\n\nSomos Jime de @cordoba_respira\, Fati de @alasyraicestraslasierra y Ina de @vivo.alimentomedicina
URL:https://bindi.world/evento/retiro-elevando-frecuencias-reset-de-verano/
CATEGORIES:Retiros
ATTACH;FMTTYPE=image/jpeg:https://bindi.world/wp-content/uploads/2026/02/9f4bcaa3-1c70-43eb-8d2b-ea6acfd303b4.jpg
END:VEVENT
BEGIN:VEVENT
DTSTART;TZID=America/Argentina/Buenos_Aires:20260214T100000
DTEND;TZID=America/Argentina/Buenos_Aires:20260217T150000
DTSTAMP:20260423T003503
CREATED:20260202T211603Z
LAST-MODIFIED:20260202T211603Z
UID:5522-1771063200-1771340400@bindi.world
SUMMARY:Retiro de Lamrim
DESCRIPTION:🌿 Retiro Fuera de la Ciudad – CarnavalLamrim: El camino completo hacia la iluminación \n\n\n\n📅 Del sábado 14/02 (10:00 hs) al martes 17/02 (15:00 hs)📍 Presencial · Casa de Retiros María AuxiliadoraAlexander Fleming 3691\, San Miguel\, Buenos Aires. \n\n\n\n✨ ¿Por qué un retiro de Lamrim?El Lamrim es una guía clara y progresiva que reúne todas las etapas del camino espiritual\, presentadas de forma práctica y profundamente aplicable a la vida diaria.Realizar un retiro de Lamrim nos permite salir del ritmo habitual\, crear una pausa real y dedicar tiempo de calidad a entrenar la mente. \n\n\n\n– Este retiro está abierto a todas las personas\, tanto a quienes se acercan por primera vez a la meditación como a quienes ya cuentan con experiencia. \n\n\n\n📿 Las enseñanzasDurante estos cuatro días recorreremos el Lamrim\, las etapas del camino hacia la Iluminación\, comprendiendo cómo transformar las experiencias cotidianas —tanto las agradables como las difíciles— en parte del camino espiritual. \n\n\n\n🧘 Los maestrosEl retiro será guiado por maestros con amplia experiencia en el estudio y la práctica del Lamrim.La maestra principal será guen Kelsang Rinchung\, Directora Espiritual Nacional de Argentina\, Chile y Uruguay\, reconocida por su claridad\, profundidad y cercanía al transmitir las enseñanzas del budismo Kadampa. \n\n\n\nTambién acompañarán en la guía Kelsang Panchen\, segundo maestro residente de Argentina\, y María Florencia Kais\, maestra residente del centro budista de Zona Norte. \n\n\n\n🏡 El lugar– El retiro se realizará en un espacio especialmente preparado para la práctica espiritual.– Habitaciones individuales con baño privado.– 4 comidas vegetarianas diarias incluidas.– Una sala de meditación acondicionada con todo lo necesario para sostener la práctica de manera cómoda y cuidada. \n\n\n\nUn entorno tranquilo\, simple y funcional\, pensado para que puedas dedicarte plenamente a la experiencia interior. \n\n\n\n🎟️ Valores• $450.000 abonando hasta el 9/02 (después del 9/02 $520.000) \n\n\n\n🚐 Servicio de combi (opcional – no incluido)• $40.000 ida y vuelta• Salida desde Palermo: Serrano 1316
URL:https://bindi.world/evento/retiro-de-lamrim/
CATEGORIES:Retiros
ATTACH;FMTTYPE=image/jpeg:https://bindi.world/wp-content/uploads/2026/02/37da9855-8da3-4b01-817b-767c8c4350d2.jpg
END:VEVENT
BEGIN:VEVENT
DTSTART;TZID=America/Argentina/Buenos_Aires:20260215T000000
DTEND;TZID=America/Argentina/Buenos_Aires:20260221T235959
DTSTAMP:20260423T003503
CREATED:20260202T190628Z
LAST-MODIFIED:20260202T190629Z
UID:5475-1771113600-1771718399@bindi.world
SUMMARY:Residencias Cerámicas con Nómada
DESCRIPTION:Viajamos a la Patagonia Argentina para compartir una experiencia única de formación. \n\n\n\nTe invitamos a explorar el sonido en la cerámica desde un enfoque poético y ritual. \n\n\n\nEn esta edición proponemos dos residencias :1) VASIJAS SILBATO : del 5 al 11 de febrero 2026 \n\n\n\n2) MASCARAS SONORAS : del 15 al 21 de febrero 2026 \n\n\n\nNos recibe @bosquemallin.agroecologiaIncluye alimentación de @lajosefacocina y hospedaje en @bosqueadentro.hospedaje 🙌🏽
URL:https://bindi.world/evento/residencias-ceramicas-con-nomada-2/
CATEGORIES:Retiros
ATTACH;FMTTYPE=image/jpeg:https://bindi.world/wp-content/uploads/2026/02/814b42e2-11c5-437f-87dd-99138c456d72.jpg
END:VEVENT
BEGIN:VEVENT
DTSTART;TZID=America/Argentina/Buenos_Aires:20260216T100000
DTEND;TZID=America/Argentina/Buenos_Aires:20260220T130000
DTSTAMP:20260423T003503
CREATED:20260202T181934Z
LAST-MODIFIED:20260202T181934Z
UID:5438-1771236000-1771592400@bindi.world
SUMMARY:Taller de escritura con Dolores Reyes
DESCRIPTION:Este verano vuelven los campamentos de escritura. Si lo tuyo es escribir\, este plan es para vos: una semana completa\, de lunes a viernes\, escribiendo 3 horas por día junto a Dolores Reyes. \n\n\n\n De lunes a viernes de 10 a 13 h. Incluye desayuno.
URL:https://bindi.world/evento/taller-de-escritura-con-dolores-reyes/
LOCATION:Espacio Orsai\, Montevideo 310\, Ciudad Autónoma de Buenos Aires\, Argentina
CATEGORIES:Clases, cursos y ciclos
ATTACH;FMTTYPE=image/jpeg:https://bindi.world/wp-content/uploads/2026/02/f8c6e95a-1fa4-4c93-9427-8aaab4bcebc7.jpg
END:VEVENT
BEGIN:VEVENT
DTSTART;TZID=America/Argentina/Buenos_Aires:20260217T183000
DTEND;TZID=America/Argentina/Buenos_Aires:20260217T210000
DTSTAMP:20260423T003503
CREATED:20260114T211129Z
LAST-MODIFIED:20260114T211129Z
UID:5106-1771353000-1771362000@bindi.world
SUMMARY:Eclipse de Sol en Acuario | Lo impredecible está por aterrizar
DESCRIPTION:Masterclass gratuita 🛸👽 #Eclipse Solar. Despertar Acuariano\, 17 Feb 2026. \n\n\n\n ✨Lo impredecible está por aterrizar ✨ \n\n\n\n Los #Eclipses son portales kármicos en donde se abren y se cierran las puertas del destino. En esta Master Class no solo vamos a hablar profundamente sobre estos eventos\, sino en particular sobre el Primer Eclipse de #Sol en Acuario en 18 años que lo cambia TODO. Con los climas para cada signo de Sol y de Ascendente. \n\n\n\n📅 Fecha: 17 de febrero a las 18.30hs (ARG)📍 Modalidad online por Zoom💳​ Pecio: GRATIS. \n\n\n\nIngresarás a un grupo de WhatsApp por donde te pasare el link a zoom además de compartir beneficios\, responder por allí preguntas y ofrecerte un descuento único para unirte a mi Membresia de #Astrología#Zen que abre sus puertas luego de la MC y que puedas así disfrutar las +750 clases bomba en línea disponibles. \n\n\n\n¡Sumate a la experiencia para aprender\, conocerte y transformarte!
URL:https://bindi.world/evento/eclipse-de-sol-en-acuario-lo-impredecible-esta-por-aterrizar/
CATEGORIES:Clases, cursos y ciclos
ATTACH;FMTTYPE=image/jpeg:https://bindi.world/wp-content/uploads/2026/01/b9e5994d-dfa1-4768-8b97-606ed06042e6.jpg
END:VEVENT
END:VCALENDAR