BEGIN:VCALENDAR
VERSION:2.0
PRODID:-//Bindi - ECPv6.15.14//NONSGML v1.0//EN
CALSCALE:GREGORIAN
METHOD:PUBLISH
X-ORIGINAL-URL:https://bindi.world
X-WR-CALDESC:Eventos para Bindi
REFRESH-INTERVAL;VALUE=DURATION:PT1H
X-Robots-Tag:noindex
X-PUBLISHED-TTL:PT1H
BEGIN:VTIMEZONE
TZID:America/Argentina/Buenos_Aires
BEGIN:STANDARD
TZOFFSETFROM:-0300
TZOFFSETTO:-0300
TZNAME:-03
DTSTART:20250101T000000
END:STANDARD
END:VTIMEZONE
BEGIN:VEVENT
DTSTART;TZID=America/Argentina/Buenos_Aires:20260209T160000
DTEND;TZID=America/Argentina/Buenos_Aires:20260227T190000
DTSTAMP:20260423T003548
CREATED:20260206T201320Z
LAST-MODIFIED:20260206T201321Z
UID:5566-1770652800-1772218800@bindi.world
SUMMARY:Atención y Recepción de Donaciones de Libros | Bibliotecas Rurales
DESCRIPTION:Recepción de donaciones de libros los lunes\, miércoles y viernes de 16 a 19 horas.Los libros no deben presentar: \n\n\n\n💧 Humedad🌫️ Hongos📉 Roturas graves📄 Faltantes de páginas🖊️ Marcas excesivas \n\n\n\n🚫 Materiales que no integran nuestras bibliotecas: \n\n\n\n📎 Fotocopias📚 Fascículos📕 Enciclopedias anteriores al 2000 y/o incompletas.⛔ Libros de contenido religioso o político partidario.
URL:https://bindi.world/evento/atencion-y-recepcion-de-donaciones-de-libros-bibliotecas-rurales/
LOCATION:Bibliotecas Rurales Argentinas\, Godoy Cruz 2087\, Ciudad Autónoma de Buenos Aires\, Argentina
CATEGORIES:Cultura
ATTACH;FMTTYPE=image/jpeg:https://bindi.world/wp-content/uploads/2026/02/7ee3db21-d8fe-4c3d-9014-5e37d82756d5.jpg
END:VEVENT
BEGIN:VEVENT
DTSTART;TZID=America/Argentina/Buenos_Aires:20260223T000000
DTEND;TZID=America/Argentina/Buenos_Aires:20260301T235959
DTSTAMP:20260423T003548
CREATED:20260119T200912Z
LAST-MODIFIED:20260119T200913Z
UID:5193-1771804800-1772409599@bindi.world
SUMMARY:Retiro Ser Salvaje ~ Garopaba & Praia do Rosa\, Brasil
DESCRIPTION:Retirarnos de la ciudad al encuentro con uno mismo/a a través del movimiento\, los rituales cotidianos y en conexión con la naturaleza. \n\n\n\n Una experiencia para reconocernos en la maravillosa potencia que somos compartiendo en un entorno natural con otros. \n\n\n\n La naturaleza en todas sus formas como maestra: Sus símbolos\, su ritmo y su sabiduría guiando cada experiencia. \n\n\n\nPRACTICAS:•⁠ ⁠⁠Yoga•⁠ Hipopresivos•⁠ ⁠Ecstatic Dance•⁠ ⁠⁠Meditación•⁠ ⁠⁠Capoeira•⁠ ⁠⁠Afro•⁠ ⁠⁠Surf•⁠ ⁠⁠Forró•⁠ AcroYoga-Entre otras sorpresas- \n\n\n\nEn Garopaba & Praia do Rosa\, Brasildel 23 de febrero al 1 de marzo de 2026. \n\n\n\nInscripciones Abiertas.
URL:https://bindi.world/evento/retiro-ser-salvaje-garopaba-praia-do-rosa-brasil/
CATEGORIES:Retiros
ATTACH;FMTTYPE=image/jpeg:https://bindi.world/wp-content/uploads/2026/01/daef7cd6-1beb-4628-bdce-8edf1992df2e.jpg
END:VEVENT
BEGIN:VEVENT
DTSTART;TZID=America/Argentina/Buenos_Aires:20260227T090000
DTEND;TZID=America/Argentina/Buenos_Aires:20260227T110000
DTSTAMP:20260423T003548
CREATED:20260223T202035Z
LAST-MODIFIED:20260223T202035Z
UID:5728-1772182800-1772190000@bindi.world
SUMMARY:Taller de Compostaje | Quinta Trabucco
DESCRIPTION:Casa Abierta · Verano 2026 ✨Semana del 23.02 al 1.03 \n\n\n\nEn su última semana\, Casa Abierta continúa con actividades en distintos espacios del municipio\, como parte de un ciclo que reúne más de 300 propuestas para descubrir\, imaginar y encontrarnos a lo largo del verano 🌿🎭🎶 \n\n\n\n👉 Podés consultar toda la programación en vicentelopez.gov.ar/verano \n\n\n\n👉 Algunas actividades tienen capacidad limitada y requieren inscripción previa (link en bio). \n\n\n\n🎟️ Teatro CCM | Reversible: boletería online desde el martes 24.02 a las 18 h. \n\n\n\n🌦️ Las propuestas al aire libre se reprograman en caso de lluvia.
URL:https://bindi.world/evento/taller-de-compostaje-quinta-trabucco/
CATEGORIES:Clases, cursos y ciclos
ATTACH;FMTTYPE=image/jpeg:https://bindi.world/wp-content/uploads/2026/02/1bbb3164-5d8c-40da-b621-703a39f45b24.jpg
END:VEVENT
BEGIN:VEVENT
DTSTART;TZID=America/Argentina/Buenos_Aires:20260227T180000
DTEND;TZID=America/Argentina/Buenos_Aires:20260227T203000
DTSTAMP:20260423T003548
CREATED:20260218T210206Z
LAST-MODIFIED:20260218T210207Z
UID:5665-1772215200-1772224200@bindi.world
SUMMARY:Astrología y Creatividad por Monoblock
DESCRIPTION:¿Sentís que tu creatividad necesita un “boost” cósmico? ✨🪐 \n\n\n\nEste viernes nos encontramos para una charla imperdible: Astrología y Creatividad. Vamos a estar conversando con @vikarrieta y @baby_pluton sobre cómo los astros influyen en nuestras ideas y todo lo que necesitás saber sobre el nuevo Astro Journal 🔥
URL:https://bindi.world/evento/astrologia-y-creatividad-por-monoblock/
LOCATION:Monoblock Barrio Chino\, Echeverría 1663\, Ciudad Autónoma de Buenos Aires\, Argentina
CATEGORIES:Clases, cursos y ciclos
ATTACH;FMTTYPE=image/jpeg:https://bindi.world/wp-content/uploads/2026/02/ee4350bd-731e-4546-9e98-b7c1faa134cd.jpg
END:VEVENT
BEGIN:VEVENT
DTSTART;TZID=America/Argentina/Buenos_Aires:20260227T193000
DTEND;TZID=America/Argentina/Buenos_Aires:20260227T210000
DTSTAMP:20260423T003548
CREATED:20260218T175952Z
LAST-MODIFIED:20260218T175952Z
UID:5622-1772220600-1772226000@bindi.world
SUMMARY:ConMoverNos por Nuria Docampo
DESCRIPTION:Cada encuentro en Umbral es un portal distinto:CuerpoSonidoRespiraciónMovimientoComo caminos hacia la presencia \n\n\n\nQue experiencias acompañarán tu semana? \n\n\n\nTe esperamos 🫀
URL:https://bindi.world/evento/conmovernos-por-nuria-docampo/
LOCATION:Umbral Holistic Wellness\, Loyola 1126\, Ciudad Autónoma de Buenos Aires\, Argentina
CATEGORIES:Espiritualidad
ATTACH;FMTTYPE=image/jpeg:https://bindi.world/wp-content/uploads/2026/02/888e4b90-163e-4d32-a8f9-496746fcd6f2.jpg
END:VEVENT
BEGIN:VEVENT
DTSTART;TZID=America/Argentina/Buenos_Aires:20260227T200000
DTEND;TZID=America/Argentina/Buenos_Aires:20260227T223000
DTSTAMP:20260423T003548
CREATED:20260218T210558Z
LAST-MODIFIED:20260218T210559Z
UID:5670-1772222400-1772231400@bindi.world
SUMMARY:Concierto de Paloma del Cerro | La Paz
DESCRIPTION:La medicina del canto llega a La Paz\, BCS con una noche única y vibrante. \n\n\n\n🗓 27 de febrero 2026🕗 20:00 hrs📍 La Paz\, Baja California Sur \n\n\n\n❤️ Merken La Paz BCS
URL:https://bindi.world/evento/concierto-de-paloma-del-cerro-la-paz/
CATEGORIES:Música
ATTACH;FMTTYPE=image/jpeg:https://bindi.world/wp-content/uploads/2026/02/0185a597-d710-4273-9cf2-9da6b6dd085d.jpg
END:VEVENT
BEGIN:VEVENT
DTSTART;TZID=America/Argentina/Buenos_Aires:20260227T203000
DTEND;TZID=America/Argentina/Buenos_Aires:20260227T230000
DTSTAMP:20260423T003548
CREATED:20260223T203020Z
LAST-MODIFIED:20260223T203020Z
UID:5731-1772224200-1772233200@bindi.world
SUMMARY:Parlantes Holofónicos: The Beatles
DESCRIPTION:Viví una experiencia distinta: escuchá este álbum icónico en completa oscuridad y con la magia del sonido Holofónico ✨ \n\n\n\n🎟 Entradas a la venta por Passline – encontrás el link en nuestro perfil. \n\n\n\n👉 Recomendación: llegá unos minutos antes. Una vez que inicia la función\, no se permite el ingreso. \n\n\n\n📵 Durante la función no se puede usar el celular.
URL:https://bindi.world/evento/parlantes-holofonicos-the-beatles/
LOCATION:Auditorio Espacio Cendas\, Bulnes 1350\, Ciudad Autónoma de Buenos Aires\, Argentina
CATEGORIES:Música
ATTACH;FMTTYPE=image/jpeg:https://bindi.world/wp-content/uploads/2026/02/81e6128f-305b-4c68-9e33-67c273e551d0.jpg
END:VEVENT
BEGIN:VEVENT
DTSTART;TZID=America/Argentina/Buenos_Aires:20260227T230000
DTEND;TZID=America/Argentina/Buenos_Aires:20260227T235900
DTSTAMP:20260423T003548
CREATED:20260202T185416Z
LAST-MODIFIED:20260202T185417Z
UID:5463-1772233200-1772236740@bindi.world
SUMMARY:Show Melingo en Concierto
DESCRIPTION:🤩¡Vení a pasar una noche única: música\, tragos y los mejores tapeos para compartir! \n\n\n\n🎫👉🏻 Conseguí tus tickets a través de nuestra web\, en @livepassarg o por boletería (de martes a domingo de 19 a 22hs). \n\n\n\n📍Av. San Martin 6656\, Villa Devoto.
URL:https://bindi.world/evento/show-melingo-en-concierto/
LOCATION:Café Berlin\, Av. San Martin 6656\, Ciudad Autónoma de Buenos Aires\, Argentina
CATEGORIES:Música
ATTACH;FMTTYPE=image/jpeg:https://bindi.world/wp-content/uploads/2026/02/61743cee-60d4-4b88-b400-1a374569e37e.jpg
END:VEVENT
END:VCALENDAR