BEGIN:VCALENDAR
VERSION:2.0
PRODID:-//Bindi - ECPv6.15.14//NONSGML v1.0//EN
CALSCALE:GREGORIAN
METHOD:PUBLISH
X-WR-CALNAME:Bindi
X-ORIGINAL-URL:https://bindi.world
X-WR-CALDESC:Eventos para Bindi
REFRESH-INTERVAL;VALUE=DURATION:PT1H
X-Robots-Tag:noindex
X-PUBLISHED-TTL:PT1H
BEGIN:VTIMEZONE
TZID:America/Argentina/Buenos_Aires
BEGIN:STANDARD
TZOFFSETFROM:-0300
TZOFFSETTO:-0300
TZNAME:-03
DTSTART:20250101T000000
END:STANDARD
END:VTIMEZONE
BEGIN:VEVENT
DTSTART;TZID=America/Argentina/Buenos_Aires:20260223T000000
DTEND;TZID=America/Argentina/Buenos_Aires:20260301T235959
DTSTAMP:20260423T015643
CREATED:20260119T200912Z
LAST-MODIFIED:20260119T200913Z
UID:5193-1771804800-1772409599@bindi.world
SUMMARY:Retiro Ser Salvaje ~ Garopaba & Praia do Rosa\, Brasil
DESCRIPTION:Retirarnos de la ciudad al encuentro con uno mismo/a a través del movimiento\, los rituales cotidianos y en conexión con la naturaleza. \n\n\n\n Una experiencia para reconocernos en la maravillosa potencia que somos compartiendo en un entorno natural con otros. \n\n\n\n La naturaleza en todas sus formas como maestra: Sus símbolos\, su ritmo y su sabiduría guiando cada experiencia. \n\n\n\nPRACTICAS:•⁠ ⁠⁠Yoga•⁠ Hipopresivos•⁠ ⁠Ecstatic Dance•⁠ ⁠⁠Meditación•⁠ ⁠⁠Capoeira•⁠ ⁠⁠Afro•⁠ ⁠⁠Surf•⁠ ⁠⁠Forró•⁠ AcroYoga-Entre otras sorpresas- \n\n\n\nEn Garopaba & Praia do Rosa\, Brasildel 23 de febrero al 1 de marzo de 2026. \n\n\n\nInscripciones Abiertas.
URL:https://bindi.world/evento/retiro-ser-salvaje-garopaba-praia-do-rosa-brasil/
CATEGORIES:Retiros
ATTACH;FMTTYPE=image/jpeg:https://bindi.world/wp-content/uploads/2026/01/daef7cd6-1beb-4628-bdce-8edf1992df2e.jpg
END:VEVENT
BEGIN:VEVENT
DTSTART;TZID=America/Argentina/Buenos_Aires:20260228T093000
DTEND;TZID=America/Argentina/Buenos_Aires:20260228T110000
DTSTAMP:20260423T015643
CREATED:20260218T180332Z
LAST-MODIFIED:20260218T180333Z
UID:5625-1772271000-1772276400@bindi.world
SUMMARY:Expansión Taquión: El Renacimiento
DESCRIPTION:Cuando liderás equipos\, proyectos\, empresas\, personas\, formás tu familia o simplemente estás sumergidísimo en la vorágine laboral\, necesitás un lugar donde aflojar la carga y volver a escucharte. \n\n\n\nEn este momento del año es CRUCIAL volver al cuerpo para que inicies el año en eje. \n\n\n\nEn Umbral creamos espacios íntimos y potentes para transformar lo acumulado en energía disponible. Diseñamos experiencias que permiten liberar bloqueos y recuperar claridad. \n\n\n\nSon encuentros exclusivos que actúan como un reset real: volvés con foco\, claridad y energía renovada para liderar sin desgaste.
URL:https://bindi.world/evento/expansion-taquion-el-renacimiento/
LOCATION:Umbral Holistic Wellness\, Loyola 1126\, Ciudad Autónoma de Buenos Aires\, Argentina
CATEGORIES:Espiritualidad
ATTACH;FMTTYPE=image/jpeg:https://bindi.world/wp-content/uploads/2026/02/0edbf2ed-cce0-4353-b36f-04be8fdd6cbf.jpg
END:VEVENT
BEGIN:VEVENT
DTSTART;TZID=America/Argentina/Buenos_Aires:20260228T140000
DTEND;TZID=America/Argentina/Buenos_Aires:20260228T183000
DTSTAMP:20260423T015643
CREATED:20260218T181936Z
LAST-MODIFIED:20260218T181937Z
UID:5634-1772287200-1772303400@bindi.world
SUMMARY:Tinta y Cuerpo por Brenda Cohen y Juan Sklar
DESCRIPTION:“Tinta y cuerpo” es un taller de un día dictado por Juan Sklar y Brenda Cohen para cualquiera que desee combinar la potencia del movimiento con la fuerza de la escritura\, con juegos\, consignas y ejercicios que mezclan ambas expresiones de un modo sorprendente y natural. Es para cualquiera con ganas de escribir y moverse. No es necesario experiencia previa\, ni ningún tipo de condición. La melodía es grupal pero cada uno va a su ritmo.
URL:https://bindi.world/evento/tinta-y-cuerpo-por-brenda-cohen-y-juan-sklar/
LOCATION:Fuel Palermo\, Cnel. Niceto Vega 5390\, Ciudad Autónoma de Buenos Aires\, Argentina
CATEGORIES:Clases, cursos y ciclos
ATTACH;FMTTYPE=image/jpeg:https://bindi.world/wp-content/uploads/2026/02/Screenshot-2026-02-18-151716.jpg
END:VEVENT
BEGIN:VEVENT
DTSTART;TZID=America/Argentina/Buenos_Aires:20260228T170000
DTEND;TZID=America/Argentina/Buenos_Aires:20260228T190000
DTSTAMP:20260423T015643
CREATED:20260218T180600Z
LAST-MODIFIED:20260218T180601Z
UID:5628-1772298000-1772305200@bindi.world
SUMMARY:Umbrales Resonantes por Nati Bosio y Guido Fichman
DESCRIPTION:Cuando liderás equipos\, proyectos\, empresas\, personas\, formás tu familia o simplemente estás sumergidísimo en la vorágine laboral\, necesitás un lugar donde aflojar la carga y volver a escucharte. \n\n\n\nEn este momento del año es CRUCIAL volver al cuerpo para que inicies el año en eje. \n\n\n\nEn Umbral creamos espacios íntimos y potentes para transformar lo acumulado en energía disponible. Diseñamos experiencias que permiten liberar bloqueos y recuperar claridad. \n\n\n\nSon encuentros exclusivos que actúan como un reset real: volvés con foco\, claridad y energía renovada para liderar sin desgaste. \n\n\n\nLos cupos son limitados.
URL:https://bindi.world/evento/umbrales-resonantes-por-nati-bosio-y-guido-fichman/
LOCATION:Umbral Holistic Wellness\, Loyola 1126\, Ciudad Autónoma de Buenos Aires\, Argentina
CATEGORIES:Espiritualidad
ATTACH;FMTTYPE=image/jpeg:https://bindi.world/wp-content/uploads/2026/02/cfcdb1c1-9642-42a8-85bc-7f719000215b.jpg
END:VEVENT
BEGIN:VEVENT
DTSTART;TZID=America/Argentina/Buenos_Aires:20260228T190000
DTEND;TZID=America/Argentina/Buenos_Aires:20260228T210000
DTSTAMP:20260423T015643
CREATED:20260223T191152Z
LAST-MODIFIED:20260223T191152Z
UID:5708-1772305200-1772312400@bindi.world
SUMMARY:Ecstatic Dance en Villa de las Rosas
DESCRIPTION:✨ Ecstatic Dance – Sábado 28 de Febrero en Espacio Valle Lila ✨ \n\n\n\nTe invitamos a vivir esta experiencia donde el cuerpo se mueve libre y el corazón se expande. \n\n\n\nAbrimos este espacio de música bien bailable\, con ritmos afros\, árabes y ancestrales que despiertan tu energía. Una pista donde puedes soltar emociones\, liberar tensiones y vibrar en alegría. \n\n\n\nEcstatic Dance es más que bailar:es reconectar contigo\,es sentir la música recorrer tu cuerpo\,es compartir presencia sin máscaras\,es crear comunidad desde el movimiento auténtico. \n\n\n\nVení a expresarte sin juicios.Vení a liberar lo que ya no necesitas.Vení a celebrar la vida en tribu. \n\n\n\nBailamos descalzos\, sin palabras en la pista\, dejando que la música nos guíe hacia la libertad y el éxtasis natural. \n\n\n\n💛 Reserva tu lugar. Te esperamos para co-crear un atardecer mágico\, intenso y lleno de energía. \n\n\n\nTu cuerpo ya sabe cómo hacerlo… solo tenés que venir
URL:https://bindi.world/evento/ecstatic-dance-en-villa-de-las-rosas/
CATEGORIES:Música
ATTACH;FMTTYPE=image/jpeg:https://bindi.world/wp-content/uploads/2026/02/Screenshot-2026-02-23-160453.jpg
END:VEVENT
BEGIN:VEVENT
DTSTART;TZID=America/Argentina/Buenos_Aires:20260228T223000
DTEND;TZID=America/Argentina/Buenos_Aires:20260228T235900
DTSTAMP:20260423T015643
CREATED:20260226T204721Z
LAST-MODIFIED:20260226T204722Z
UID:5743-1772317800-1772323140@bindi.world
SUMMARY:Pulsar Orgánico | La Aldea
DESCRIPTION:Este fin de semana abrimos el portal.La intención de habitar un espacio creado entre todos es una de las cosas que distinguen a Pulsar Orgánico en cada edición \, el clima y la atmósfera que se genera es un portal de viaje atemporal… y eso se crea gracias la energía de cada una de las personas que participa. 🌀 \n\n\n\nTe invitamos a co-crear la experiencia de La Aldea.A traer aquello que ayude a ambientar y dar vida a este espacio. Todo lo que evoque tribu\, naturaleza\, ancestralidad. \n\n\n\n🌿 Plantas🕯 Velas🧂 Lámparas de sal🧶 Telas\, mantas\, alfombras🏺 Objetos artesanales🪵 Elementos de madera🧺 Canastos\, sahumerios💎 Cristales🏮 Faroles\, luces cálidas🪬 Amuletos\, símbolos\, arte ritual  🎫
URL:https://bindi.world/evento/pulsar-organico-la-aldea/
LOCATION:Espacio Rincón\, Rincón 1330\, Ciudad Autónoma de Buenos Aires\, Argentina
CATEGORIES:Cultura,Espiritualidad
ATTACH;FMTTYPE=image/jpeg:https://bindi.world/wp-content/uploads/2026/02/8911e3d0-a757-4522-8c99-c1d535f0ca31.jpg
END:VEVENT
END:VCALENDAR