BEGIN:VCALENDAR
VERSION:2.0
PRODID:-//Bindi - ECPv6.15.14//NONSGML v1.0//EN
CALSCALE:GREGORIAN
METHOD:PUBLISH
X-ORIGINAL-URL:https://bindi.world
X-WR-CALDESC:Eventos para Bindi
REFRESH-INTERVAL;VALUE=DURATION:PT1H
X-Robots-Tag:noindex
X-PUBLISHED-TTL:PT1H
BEGIN:VTIMEZONE
TZID:America/Argentina/Buenos_Aires
BEGIN:STANDARD
TZOFFSETFROM:-0300
TZOFFSETTO:-0300
TZNAME:-03
DTSTART:20250101T000000
END:STANDARD
END:VTIMEZONE
BEGIN:VEVENT
DTSTART;TZID=America/Argentina/Buenos_Aires:20260301T000000
DTEND;TZID=America/Argentina/Buenos_Aires:20260331T235959
DTSTAMP:20260422T225901
CREATED:20251013T194221Z
LAST-MODIFIED:20251013T194222Z
UID:2663-1772323200-1775001599@bindi.world
SUMMARY:Respira India - Salida Grupal 2026 | India y Nepal
DESCRIPTION:RESPIRA INDIA viaja una vez más a India & Nepal.-Salida Grupal\, marzo 2026.-Ciudades que recorreremos: Delhi\, Rishikesh\, Agra\, Pushkar\, Varanasi\, Katmandú y Pokara.🪷 Comienza una nueva aventura. India y Nepal te abren la puerta a una experiencia única e inolvidable.Hablar de estos destinos es hablarte de un antes y un después. Conocerlos transformó mi vida. Cambio mi forma de ver el mundo\, de habitarlo y habitarme.India y Nepal no se explican\, se sienten. Son lugares donde la devoción se respira\, donde cada gesto es un ritual\, cada mirada es un espejo\, cada paso una enseñanza. Sus aromas\, sus sabores\, sus ropas llenas de color\, su espiritualidad viva\, su música que atraviesa el alma\, su fe inquebrantable\, todo te envuelve\, te sacude y te abraza.  La experiencia no pasa por la mente\, se vive con el cuerpo\, se despierta en el corazón\, se integra en el alma.Hoy quiero invitarte a una nueva travesía. Una inmersión profunda en culturas milenarias que nos recuerdan lo esencial. A que te quites los zapatos y sientas la tierra bajo tus pies. A que comas con tus manos y saborees cada instante. A que cantes mantras bajo el cielo estrellado. A que bailes\, rías\, llores\, respires y medites. A que te dejes guiar por hombres santos y mujeres sabias. A que practiques yoga en su cuna y despiertes memorias antiguas que viven en vos.Este no es un viaje exclusivo para yoguis\, pero sí un viaje profundamente espiritual. Esta diseñado para quienes desean explorar el mundo exterior y\, al mismo tiempo abrir un espacio sagrado de transformación interior.  En cada destino donde sea posible\, integraremos prácticas de yoga y meditación como parte fundamental del viaje.  Estas prácticas no son opcionales: son el corazón de esta experiencia\, el hilo conductor que nos ayuda a enraizarnos\, a habitar el presente y a recibir cada lugar con mayor apertura y conciencia.Si estas escuchando el llamado de India y Nepal\, no lo ignores\, No es casual. Hay viajes que se hacen con los pies y otros que se hacen con el alma.Este puede ser el tuyo.  
URL:https://bindi.world/evento/respira-india-salida-grupal-2026-india-y-nepal/
CATEGORIES:Retiros
ATTACH;FMTTYPE=image/png:https://bindi.world/wp-content/uploads/2025/10/22ab8e22-38a0-4da6-9cf7-0e2b60e6a0eb.png
END:VEVENT
BEGIN:VEVENT
DTSTART;TZID=America/Argentina/Buenos_Aires:20260303T000000
DTEND;TZID=America/Argentina/Buenos_Aires:20260316T235959
DTSTAMP:20260422T225901
CREATED:20251013T185539Z
LAST-MODIFIED:20251013T185539Z
UID:2645-1772496000-1773705599@bindi.world
SUMMARY:Safari en Tanzania - Retiros Patagonearte
DESCRIPTION:En África\, el ser humano dio sus primeros pasos. Aprendió a leer la naturaleza\, a moverse con el resto del mundo animal y a encontrar su lugar en una tierra de abundancia y misterio. \n\n\n\nHoy\, ese llamado vuelve a sonar. \n\n\n\n🦓 Un viaje. Dos experiencias.Primero\, 4 días de reconexión total: Yoga\, meditación y silencio en un hotel mágico en las sierras de Manyara. \n\n\n\nDespués\, el rugido de la sabana: tribus ancestrales\, vida silvestre y paisajes que nos van a dejar sin aliento. \n\n\n\nViajar así no es solo conocer un lugar.Es animarse a expandirse\, a transformarse\, a recordar. \n\n\n\nEs usar el viaje como canal para el autoconocimiento\, para mirar los propios miedos y descubrir que no estamos solas ni solos. \n\n\n\nEs dejarse tocar por algo más grande.
URL:https://bindi.world/evento/safari-en-tanzania-retiros-patagonearte/
CATEGORIES:Retiros
ATTACH;FMTTYPE=image/png:https://bindi.world/wp-content/uploads/2025/10/e2fe50b7-9e21-45b6-b64d-ee709343099f.png
END:VEVENT
BEGIN:VEVENT
DTSTART;TZID=America/Argentina/Buenos_Aires:20260303T093000
DTEND;TZID=America/Argentina/Buenos_Aires:20260303T110000
DTSTAMP:20260422T225901
CREATED:20260112T191215Z
LAST-MODIFIED:20260112T191428Z
UID:4983-1772530200-1772535600@bindi.world
SUMMARY:Formación de Memoria Celular con Péndulo
DESCRIPTION:Facilitador: Eduardo Melamud. Comienza el 3 de marzo a las 9.30 hora argentina. Modalidad semanal. Duración 7 meses. \n\n\n\n Informes e inscripción por whataspp: 11 5668-6869. \n\n\n\n ¡Te esperamos!
URL:https://bindi.world/evento/formacion-de-memoria-celular-con-pendulo/
CATEGORIES:Clases, cursos y ciclos
ATTACH;FMTTYPE=image/jpeg:https://bindi.world/wp-content/uploads/2026/01/355f0445-d00d-45f9-aafc-eea34dfb9218-1.jpg
END:VEVENT
BEGIN:VEVENT
DTSTART;TZID=America/Argentina/Buenos_Aires:20260303T123000
DTEND;TZID=America/Argentina/Buenos_Aires:20260303T170000
DTSTAMP:20260422T225901
CREATED:20260303T184800Z
LAST-MODIFIED:20260303T184800Z
UID:5777-1772541000-1772557200@bindi.world
SUMMARY:Luna llena en Virgo
DESCRIPTION:¡Hola Marzo! Empezó un mes que a muchos nos da vértigo…con Mercurio retrógrado y los eclipses en puerta todo parece caótico\, más te invitamos a atravesar estos momentos con herramientas puntuales y específicas para poder vivir en calma y plenitud 🙂•Se viene un mes de comienzos: Formaciones Pro y Básica 2026Membresía Balance Club 100% activaMasterclass de InvertidasLives de Luna nueva y llenaY una nueva experiencia inmersiva~ Balance Sentidos de la mano de @meliingaglio @analiabad.yoga @camriganti y @prana.yoga24Nuevas profes sumándose al #balanceteam y muchas cosas más ✨•Esto recién empieza\, te damos la bienvenida!Somos Balance\, somos más que YOGA
URL:https://bindi.world/evento/luna-llena-en-virgo/
CATEGORIES:Cultura
ATTACH;FMTTYPE=image/jpeg:https://bindi.world/wp-content/uploads/2026/03/8ebd8c4e-09dd-46bd-9429-6a81bddd9a94.jpg
END:VEVENT
BEGIN:VEVENT
DTSTART;TZID=America/Argentina/Buenos_Aires:20260303T200000
DTEND;TZID=America/Argentina/Buenos_Aires:20260303T213000
DTSTAMP:20260422T225901
CREATED:20260223T193107Z
LAST-MODIFIED:20260223T193108Z
UID:5711-1772568000-1772573400@bindi.world
SUMMARY:Clases de Biodanza
DESCRIPTION:El 2024 iniciamos este viaje introduciendo los 4 elementos y las líneas de vivencia: Vitalidad\, Afectividad\, Creatividad\, Sexualidad y Trascendencia. \n\n\n\n2025 exploramos la posibilidad de seguir el camino del corazón. \n\n\n\nEste 2026 nos convoca profundizar en la IDENTIDAD. Darnos el espacio para abrir la gran pregunta: “Quién voy siendo?” \n\n\n\nTodo inicio trae nuevas oportunidades. Si algo te resuena\, escribinos y con gusto te damos mas info. \n\n\n\n✨ CLASES BIODANZA ✨ \n\n\n\n🗓️ Todos los martes🕗 20:00 a 22:30 (las puertas se abren a las 19:45 🙌🏼)📍 Avalos 1238\, Villa Urquiza
URL:https://bindi.world/evento/clases-de-biodanza/
LOCATION:La InstalAccion\, avalos 1238\, Ciudad Autónoma de Buenos Aires\, Argentina
CATEGORIES:Clases, cursos y ciclos
ATTACH;FMTTYPE=image/jpeg:https://bindi.world/wp-content/uploads/2026/02/6bdb225d-50c9-48e3-8066-0ff59e48ccc3.jpg
END:VEVENT
END:VCALENDAR