BEGIN:VCALENDAR
VERSION:2.0
PRODID:-//Bindi - ECPv6.15.14//NONSGML v1.0//EN
CALSCALE:GREGORIAN
METHOD:PUBLISH
X-ORIGINAL-URL:https://bindi.world
X-WR-CALDESC:Eventos para Bindi
REFRESH-INTERVAL;VALUE=DURATION:PT1H
X-Robots-Tag:noindex
X-PUBLISHED-TTL:PT1H
BEGIN:VTIMEZONE
TZID:America/Argentina/Buenos_Aires
BEGIN:STANDARD
TZOFFSETFROM:-0300
TZOFFSETTO:-0300
TZNAME:-03
DTSTART:20250101T000000
END:STANDARD
END:VTIMEZONE
BEGIN:VEVENT
DTSTART;TZID=America/Argentina/Buenos_Aires:20260301T000000
DTEND;TZID=America/Argentina/Buenos_Aires:20260331T235959
DTSTAMP:20260422T230701
CREATED:20251013T194221Z
LAST-MODIFIED:20251013T194222Z
UID:2663-1772323200-1775001599@bindi.world
SUMMARY:Respira India - Salida Grupal 2026 | India y Nepal
DESCRIPTION:RESPIRA INDIA viaja una vez más a India & Nepal.-Salida Grupal\, marzo 2026.-Ciudades que recorreremos: Delhi\, Rishikesh\, Agra\, Pushkar\, Varanasi\, Katmandú y Pokara.🪷 Comienza una nueva aventura. India y Nepal te abren la puerta a una experiencia única e inolvidable.Hablar de estos destinos es hablarte de un antes y un después. Conocerlos transformó mi vida. Cambio mi forma de ver el mundo\, de habitarlo y habitarme.India y Nepal no se explican\, se sienten. Son lugares donde la devoción se respira\, donde cada gesto es un ritual\, cada mirada es un espejo\, cada paso una enseñanza. Sus aromas\, sus sabores\, sus ropas llenas de color\, su espiritualidad viva\, su música que atraviesa el alma\, su fe inquebrantable\, todo te envuelve\, te sacude y te abraza.  La experiencia no pasa por la mente\, se vive con el cuerpo\, se despierta en el corazón\, se integra en el alma.Hoy quiero invitarte a una nueva travesía. Una inmersión profunda en culturas milenarias que nos recuerdan lo esencial. A que te quites los zapatos y sientas la tierra bajo tus pies. A que comas con tus manos y saborees cada instante. A que cantes mantras bajo el cielo estrellado. A que bailes\, rías\, llores\, respires y medites. A que te dejes guiar por hombres santos y mujeres sabias. A que practiques yoga en su cuna y despiertes memorias antiguas que viven en vos.Este no es un viaje exclusivo para yoguis\, pero sí un viaje profundamente espiritual. Esta diseñado para quienes desean explorar el mundo exterior y\, al mismo tiempo abrir un espacio sagrado de transformación interior.  En cada destino donde sea posible\, integraremos prácticas de yoga y meditación como parte fundamental del viaje.  Estas prácticas no son opcionales: son el corazón de esta experiencia\, el hilo conductor que nos ayuda a enraizarnos\, a habitar el presente y a recibir cada lugar con mayor apertura y conciencia.Si estas escuchando el llamado de India y Nepal\, no lo ignores\, No es casual. Hay viajes que se hacen con los pies y otros que se hacen con el alma.Este puede ser el tuyo.  
URL:https://bindi.world/evento/respira-india-salida-grupal-2026-india-y-nepal/
CATEGORIES:Retiros
ATTACH;FMTTYPE=image/png:https://bindi.world/wp-content/uploads/2025/10/22ab8e22-38a0-4da6-9cf7-0e2b60e6a0eb.png
END:VEVENT
BEGIN:VEVENT
DTSTART;TZID=America/Argentina/Buenos_Aires:20260303T000000
DTEND;TZID=America/Argentina/Buenos_Aires:20260316T235959
DTSTAMP:20260422T230701
CREATED:20251013T185539Z
LAST-MODIFIED:20251013T185539Z
UID:2645-1772496000-1773705599@bindi.world
SUMMARY:Safari en Tanzania - Retiros Patagonearte
DESCRIPTION:En África\, el ser humano dio sus primeros pasos. Aprendió a leer la naturaleza\, a moverse con el resto del mundo animal y a encontrar su lugar en una tierra de abundancia y misterio. \n\n\n\nHoy\, ese llamado vuelve a sonar. \n\n\n\n🦓 Un viaje. Dos experiencias.Primero\, 4 días de reconexión total: Yoga\, meditación y silencio en un hotel mágico en las sierras de Manyara. \n\n\n\nDespués\, el rugido de la sabana: tribus ancestrales\, vida silvestre y paisajes que nos van a dejar sin aliento. \n\n\n\nViajar así no es solo conocer un lugar.Es animarse a expandirse\, a transformarse\, a recordar. \n\n\n\nEs usar el viaje como canal para el autoconocimiento\, para mirar los propios miedos y descubrir que no estamos solas ni solos. \n\n\n\nEs dejarse tocar por algo más grande.
URL:https://bindi.world/evento/safari-en-tanzania-retiros-patagonearte/
CATEGORIES:Retiros
ATTACH;FMTTYPE=image/png:https://bindi.world/wp-content/uploads/2025/10/e2fe50b7-9e21-45b6-b64d-ee709343099f.png
END:VEVENT
BEGIN:VEVENT
DTSTART;TZID=America/Argentina/Buenos_Aires:20260306T000000
DTEND;TZID=America/Argentina/Buenos_Aires:20260308T235959
DTSTAMP:20260422T230701
CREATED:20260223T204136Z
LAST-MODIFIED:20260223T204137Z
UID:5740-1772755200-1773014399@bindi.world
SUMMARY:Retiro por Brenda Cohen en Aikén\, Exaltación de la Cruz
DESCRIPTION:¿Y si te regalás un fin de semana para estar con vos\, de verdad? \n\n\n\nCUERPO VIVOUn viaje de 5Ritmos®️Del 6\, 7 y 8 de marzo\, en Aikén @aiken.retiros Exaltación de la Cruz\, nos encontramos para mover el cuerpo\, escuchar lo que pide y dejarnos guiar por él. \n\n\n\n5Ritmos como mapa. \n\n\n\nMúsica para entrar.La naturaleza como sostén. \n\n\n\nUn temazcal formará parte de la experiencia\, acompañando el proceso. \n\n\n\nUn encuentro íntimo para habitar el cuerpo y profundizar la experiencia de estar presentes. \n\n\n\nPara compartir con otrxs\, gozar\, reconocerte\, abrir el corazón y desplegar el potencial de cada uno/una. \n\n\n\nEs un espacio cuidado\, con un grupo pequeño\, en un entorno natural . \n\n\n\nSon solo 15 lugares.Un grupo íntimo. \n\n\n\nDonde todo está pensado para que puedas vivir tu proceso sin ocuparte de nada más.El valor incluye alojamiento y todas las comidas. \n\n\n\nUna experiencia para empezar el año abriendo y nutriendo el alma. \n\n\n\nOjalá podamos hacer este viaje juntos/as.
URL:https://bindi.world/evento/retiro-por-brenda-cohen-en-aiken-exaltacion-de-la-cruz/
CATEGORIES:Retiros
ATTACH;FMTTYPE=image/jpeg:https://bindi.world/wp-content/uploads/2026/02/093f2d47-f1ee-408e-bc1a-c16da9e0a778.jpg
END:VEVENT
BEGIN:VEVENT
DTSTART;TZID=America/Argentina/Buenos_Aires:20260306T190000
DTEND;TZID=America/Argentina/Buenos_Aires:20260306T203000
DTSTAMP:20260422T230701
CREATED:20260303T191142Z
LAST-MODIFIED:20260303T191143Z
UID:5783-1772823600-1772829000@bindi.world
SUMMARY:Charla Abierta e Introductoria Universia 2026
DESCRIPTION:En esta charla voy a explicar con claridad qué es Universia\, cuál es el proceso que propongo y qué implica realmente vivir con conciencia en esta etapa que estamos atravesando. \n\n\n\nPero no es solo una presentación. \n\n\n\nTambién voy a abrir un espacio de diálogo sobre lo que hoy está inquietando a muchas personas:esta transición\, este año\, los cambios en la humanidad y cómo posicionarnos frente a todo esto con lucidez. \n\n\n\nVa a durar mínimo una hora y media.En vivo. Con preguntas abiertas. \n\n\n\nSi venís siguiendo mi trabajo hace tiempo\, o si recién empezaste a conectar con lo que comparto\, este es un buen momento para encontrarnos directamente. \n\n\n\nY si ya sos parte de Universia y querés compartir tu experiencia en comentarios\, te leo. Somos comunidad.
URL:https://bindi.world/evento/charla-abierta-e-introductoria-universia-2026/
CATEGORIES:Clases, cursos y ciclos
ATTACH;FMTTYPE=image/jpeg:https://bindi.world/wp-content/uploads/2026/03/7305d835-b7e4-41ff-a3e3-beb973ce61b0.jpg
END:VEVENT
BEGIN:VEVENT
DTSTART;TZID=America/Argentina/Buenos_Aires:20260306T200000
DTEND;TZID=America/Argentina/Buenos_Aires:20260306T230000
DTSTAMP:20260422T230701
CREATED:20260303T183756Z
LAST-MODIFIED:20260303T183757Z
UID:5771-1772827200-1772838000@bindi.world
SUMMARY:Dibujo de Noche en la Casa del Árbol
DESCRIPTION:Un espacio para encender la creatividad coordinado por @pajarazu junto a @cacha.martinez y con la colaboración de filgoargentina 🌈. \n\n\n\n🎟️Actividad a la gorra al ingresar.Sugerido $5000.👨‍👨‍👧‍👧Apto para todo público💘Habrá mesa colectiva de dibujo para quienes se acerquen solxs y tengan ganas de compartir💎Vení a expandir la imaginación\, mientras charlás en un espacio hermoso\, conocés personas que también les gusta dibujar y tomás algo rico (birrita 🍻🍻) \n\n\n\nLa idea es dibujar\, terminar el finde con un lindo encuentro y conectar con personas que están en este mundo maravilloso 🖍️✏️ \n\n\n\nPondremos a disposición materiales (lápices + hojas) y\, para quienes quieran\, muchas consignas de dibujo super divertidas para abordar la hoja en blanco. \n\n\n\nRecomendamos que si tenés tus materiales de dibujo\, cuaderno\, hojas…no dudes en traerlos que aporta mucho a la dinámica 🤗
URL:https://bindi.world/evento/dibujo-de-noche-en-la-casa-del-arbol-2/
LOCATION:La Casa del Árbol\, Av. Córdoba 5217\, Palermo\, Ciudad Autónoma de Buenos Aires\, Argentina
CATEGORIES:Cultura
ATTACH;FMTTYPE=image/jpeg:https://bindi.world/wp-content/uploads/2026/03/ee72ead7-1ae5-4a76-a617-6d04815be9c8.jpg
END:VEVENT
END:VCALENDAR