BEGIN:VCALENDAR
VERSION:2.0
PRODID:-//Bindi - ECPv6.15.14//NONSGML v1.0//EN
CALSCALE:GREGORIAN
METHOD:PUBLISH
X-WR-CALNAME:Bindi
X-ORIGINAL-URL:https://bindi.world
X-WR-CALDESC:Eventos para Bindi
REFRESH-INTERVAL;VALUE=DURATION:PT1H
X-Robots-Tag:noindex
X-PUBLISHED-TTL:PT1H
BEGIN:VTIMEZONE
TZID:America/Argentina/Buenos_Aires
BEGIN:STANDARD
TZOFFSETFROM:-0300
TZOFFSETTO:-0300
TZNAME:-03
DTSTART:20250101T000000
END:STANDARD
END:VTIMEZONE
BEGIN:VEVENT
DTSTART;TZID=America/Argentina/Buenos_Aires:20260608T160000
DTEND;TZID=America/Argentina/Buenos_Aires:20260608T190000
DTSTAMP:20260423T015552
CREATED:20260421T204722Z
LAST-MODIFIED:20260422T194720Z
UID:6859-1780934400-1780945200@bindi.world
SUMMARY:Las Semillas de Vandana
DESCRIPTION:Vandana Shiva\, líder ambiental inspiradora\, y el impacto de su trabajo en nuestro país\, serán el eje de una tarde encuentro. Compartiremos su poderoso llamado a la acción comunitaria\, a la solidaridad y a la regeneración de nuestros sistemas para sanar el vínculo roto con el mundo natural. \n\n\n\n🌎🌱 Otro mundo es posible y hay muchos ejemplos que están floreciendo. \n\n\n\n📚 Presentaremos dos nuevos libros con foco en su trabajo:«El retorno a la Tierra» y «Tramando un nuevo mundo».🎥 Además\, proyectaremos el documental «Las semillas de Vandana».🌱 Feria de semillas agroecológicas y plantas nativas.🎈 Espacio de juego para infancias! \n\n\n\n📅 Sábado 8 de junio\, 16hs en Momo Café Cultural. \n\n\n\n¡Vení a conocer su trabajo\, compartir experiencias y seguir sembrando un mundo nuevo!
URL:https://bindi.world/evento/las-semillas-de-vandana/
LOCATION:Momo Café Cultural\, Calazans 921\, Ciudad Autónoma de Buenos Aires\, Argentina
CATEGORIES:Espiritualidad
ATTACH;FMTTYPE=image/jpeg:https://bindi.world/wp-content/uploads/2026/04/a78a3e0b-43ce-4da3-8197-ebc23476d433.jpg
END:VEVENT
END:VCALENDAR