BEGIN:VCALENDAR
VERSION:2.0
PRODID:-//Bindi - ECPv6.15.14//NONSGML v1.0//EN
CALSCALE:GREGORIAN
METHOD:PUBLISH
X-WR-CALNAME:Bindi
X-ORIGINAL-URL:https://bindi.world
X-WR-CALDESC:Eventos para Bindi
REFRESH-INTERVAL;VALUE=DURATION:PT1H
X-Robots-Tag:noindex
X-PUBLISHED-TTL:PT1H
BEGIN:VTIMEZONE
TZID:America/Argentina/Buenos_Aires
BEGIN:STANDARD
TZOFFSETFROM:-0300
TZOFFSETTO:-0300
TZNAME:-03
DTSTART:20240101T000000
END:STANDARD
END:VTIMEZONE
BEGIN:VEVENT
DTSTART;TZID=America/Argentina/Buenos_Aires:20251111T000000
DTEND;TZID=America/Argentina/Buenos_Aires:20251114T235959
DTSTAMP:20260423T070532
CREATED:20251110T173024Z
LAST-MODIFIED:20251110T173025Z
UID:3546-1762819200-1763164799@bindi.world
SUMMARY:Congreso de Psicotrauma y Salud Mental de Instituto Newman
DESCRIPTION:Tres días dedicados a aprender con los mejores expertos internacionales en trauma\, apego\, neurobiología y resiliencia. \n\n\n\n Desde Bruce Perry\, Janina Fisher\, Ruth Lanius\, Bethany Brand\, Scott Lyons\, Antonieta Contreras\, André Monteiro y muchos más; todos reunidos en un solo espacio para compartir las herramientas\, modelos y habilidades más actuales en el tratamiento de la salud mental. \n\n\n\n Si trabajas en psicología\, psiquiatría o intervención clínica y aún no te registras\, este es tu momento 🤓 \n\n\n\n No te quedes fuera del evento que está marcando el nuevo estándar en la formación en trauma en Latinoamérica. \n\n\n\n – 100% Online – 11\, 12 y 13 de noviembre – Acceso a ponencias internacionales\, talleres y materiales exclusivos.
URL:https://bindi.world/evento/congreso-de-psicotrauma-y-salud-mental-de-instituto-newman/
CATEGORIES:Clases, cursos y ciclos
ATTACH;FMTTYPE=image/jpeg:https://bindi.world/wp-content/uploads/2025/11/7d435d7e-09a2-47e9-8239-ef3fa943616b.jpg
END:VEVENT
BEGIN:VEVENT
DTSTART;TZID=America/Argentina/Buenos_Aires:20251112T000000
DTEND;TZID=America/Argentina/Buenos_Aires:20251117T235959
DTSTAMP:20260423T070532
CREATED:20251110T173541Z
LAST-MODIFIED:20251110T173542Z
UID:3552-1762905600-1763423999@bindi.world
SUMMARY:Experiencia Integral de Bioconstrucción
DESCRIPTION:Experiencia practica para aprender sobre diversas técnicas de bioconstrucciön con tierra y bambú\, en un territorio escuela dedicado a la formación en prácticas sostenibles.
URL:https://bindi.world/evento/experiencia-integral-de-bioconstruccion/
CATEGORIES:Clases, cursos y ciclos
ATTACH;FMTTYPE=image/jpeg:https://bindi.world/wp-content/uploads/2025/11/9c6db2db-f02f-434c-8d0e-a2a1982d58ad.jpg
END:VEVENT
BEGIN:VEVENT
DTSTART;TZID=America/Argentina/Buenos_Aires:20251114T150000
DTEND;TZID=America/Argentina/Buenos_Aires:20251114T170000
DTSTAMP:20260423T070532
CREATED:20251113T210355Z
LAST-MODIFIED:20251113T210356Z
UID:3645-1763132400-1763139600@bindi.world
SUMMARY:Soluciones Profundas para Problemas Cotidianos | Taller de Alex Von Foerster
DESCRIPTION:Crecen las intolerancias\, las alergias\, los trastornos digestivos\, enfermedades metabólicas y autoinmunes. \n\n\n\nAl intentar comprender el origen de estos problemas… \n\n\n\nQué aspecto esencial estamos dejando fuera de consideración? \n\n\n\nPor qué es indispensable partir de una verdadera agricultura para revertir esta situación ? \n\n\n\nComo incide la vitalidad del alimento en nuestra salud? \n\n\n\nEn el contexto del 🌱XI Mes de la Agroecologia 🌾 estaremos compartiendo esta actividad libre y gratuita en el @cccelbondi \, Ing.Maschwitz\,Bs As. \n\n\n\n➡️ “SOLUCIONES PROFUNDAS A PROBLEMAS COTIDIANOS”El alimento saludable es mucho más que la ausencia de venenos. \n\n\n\nA cargo de Alex von Foerster
URL:https://bindi.world/evento/soluciones-profundas-para-problemas-cotidianos-taller-de-alex-von-foerster/
LOCATION:Centro Cultural El Bondi\, El Dorado 1518\, Ingeniero Maschwitz\, Ciudad Autónoma de Buenos Aires\, Argentina
CATEGORIES:Clases, cursos y ciclos,Espiritualidad
ATTACH;FMTTYPE=image/jpeg:https://bindi.world/wp-content/uploads/2025/11/e5eb6720-2696-4c26-9df8-8dc23ea840b2.jpg
END:VEVENT
END:VCALENDAR