BEGIN:VCALENDAR
VERSION:2.0
PRODID:-//Bindi - ECPv6.15.14//NONSGML v1.0//EN
CALSCALE:GREGORIAN
METHOD:PUBLISH
X-WR-CALNAME:Bindi
X-ORIGINAL-URL:https://bindi.world
X-WR-CALDESC:Eventos para Bindi
REFRESH-INTERVAL;VALUE=DURATION:PT1H
X-Robots-Tag:noindex
X-PUBLISHED-TTL:PT1H
BEGIN:VTIMEZONE
TZID:America/Argentina/Buenos_Aires
BEGIN:STANDARD
TZOFFSETFROM:-0300
TZOFFSETTO:-0300
TZNAME:-03
DTSTART:20250101T000000
END:STANDARD
END:VTIMEZONE
BEGIN:VEVENT
DTSTART;TZID=America/Argentina/Buenos_Aires:20260418T000000
DTEND;TZID=America/Argentina/Buenos_Aires:20260419T235959
DTSTAMP:20260423T161555
CREATED:20260325T183437Z
LAST-MODIFIED:20260325T183438Z
UID:6029-1776470400-1776643199@bindi.world
SUMMARY:Festival Zoma Ritual | Tepoztlán
DESCRIPTION:zomafestivalEdited•1w🌲🌕ZOMA Ritual Festival 🌕🌲 \n\n\n\nEARY BIRD 💫🟢🌳 \n\n\n\nNos emociona abrir este capítulo y compartir nuestro programa principal.Prepárate para un viaje sonoro que fusiona raíces ancestrales y expresión contemporánea en un mismo latido. 🌲💫 \n\n\n\nEstamos listos y nos honra recibirte.RITMOS QUE ELEVAN TU ESPÍRITU 🌕☄️🔥 LINE-UP@rodrigogallardomusic@nacionekeko@lolicosmica@sidarthasiliceo@ananta.arts@lengualerta@krenorganico@antaaresmusic@ixchel_grinberg@ishdub@hikur_ik@smileynoreally@tatekuin@mario.yanireth \n\n\n\n💫🌲Siente las primeras vibraciones de ZOMA! 🌲💫La magia de ZOMA Ritual Festival comienza ahora. No te quedes fuera de esta experiencia única donde la música\, el arte y el movimiento se unen en un solo pulso. \n\n\n\nAsegura tu acceso y sé parte de esta segunda edición.
URL:https://bindi.world/evento/festival-zoma-ritual-tepoztlan/
CATEGORIES:Espiritualidad
ATTACH;FMTTYPE=image/jpeg:https://bindi.world/wp-content/uploads/2026/03/8fb00987-cb3e-448c-9de4-fbb3470821a5.jpg
END:VEVENT
BEGIN:VEVENT
DTSTART;TZID=America/Argentina/Buenos_Aires:20260418T100000
DTEND;TZID=America/Argentina/Buenos_Aires:20260418T190000
DTSTAMP:20260423T161555
CREATED:20260325T182736Z
LAST-MODIFIED:20260325T182736Z
UID:6026-1776506400-1776538800@bindi.world
SUMMARY:Festival de Yoga Exhale
DESCRIPTION:✨ Estamos felices y profundamente orgullosxs de anunciar que llega la 8ª edición de Exhale ✨ \n\n\n\n🙏Un festival que nació con un noble propósito: difundir el Yoga y todas las disciplinas que traen bienestar\, creando un espacio abierto\, consciente y amoroso para toda la comunidad. \n\n\n\n♾️Exhale es encuentro\, es respiración compartida\, es expansión\, es volver a lo esencial.Y una vez más\, nos reunimos 𝑭𝒓𝒆𝒏𝒕𝒆 𝒂𝒍 𝒓𝒊𝒐 para celebrar el movimiento\, la música\, la presencia y la conexión 🌊🤸‍♂️ \n\n\n\n⸻ \n\n\n\n📍 Sábado 18 de abril🌊 Urquiza y el Río\, Vicente López🕙 De 10 a 19 hs🎟 Entrada libre y gratuita🌧 En caso de lluvia se pasa al sábado 25
URL:https://bindi.world/evento/festival-de-yoga-exhale/
CATEGORIES:Espiritualidad
ATTACH;FMTTYPE=image/jpeg:https://bindi.world/wp-content/uploads/2026/03/8773cbbd-ab74-4b04-8886-739c30bc8ef8.jpg
END:VEVENT
BEGIN:VEVENT
DTSTART;TZID=America/Argentina/Buenos_Aires:20260418T100000
DTEND;TZID=America/Argentina/Buenos_Aires:20260418T210000
DTSTAMP:20260423T161555
CREATED:20260413T205151Z
LAST-MODIFIED:20260413T205151Z
UID:6573-1776506400-1776546000@bindi.world
SUMMARY:Festival Raizal de Naturaleza y Arte
DESCRIPTION:Un día para caminar\, leer y pensar la naturaleza junto a botánicos\, biólogos\, escritoras\, artistas y músicos 🌱📚 \n\n\n\nDurante la jornada habrá charlas\, talleres\, caminatas\, lecturas\, música\, intervenciones artísticas\, plantaciones de árboles nativos y talleres de escritura y poesía. \n\n\n\n✨ Participan\, entre otros:🗣️ Entrevista abierta a @cabezoncamara por @damianhuergo🌎 Conversación “El llamado urgente de la naturaleza” con Patricio Lo Greco\, @guillefolguera y @ecointensa✍️ Taller de haikus y lectura de tankas con @kamiya.alejandra🎧 Meditación y escritura en vivo de @iosihavilio con música de @josesinbarba📖 Cata de libros con @franalverja y @mercedes.fino✨ Concierto y taller de recolección de sonidos del bosque con @flor_imaginaria🎶 Concierto de cierre con @lolimolinamusica \n\n\n\n🌳 Plantaciones colectivas de árboles nativos guiadas por el equipo del @vivero.yvyra \n\n\n\n🌳 Además: observación de aves\, talleres de plantas medicinales\, herbarios e ilustración botánica\, observación del cielo y escucha sonora.@rebollopaz@gabrielburgueno1973@la_rubisco@arno_tomys_fotonatura@martinmorcelle@gabuccilaura@botanicaunlu@flor_imaginaria@marcelo.moreno.ilustrador@juanfromthecosmos \n\n\n\n👧🧒 Actividades para chicas\, chicos y familias:📚 Biblioteca de la naturaleza y espacio de lectura y creación.🔎 Búsqueda del tesoro natural.🐦 Taller para crear objetos y refugios para aves con @frolikovas📚 Taller de sellos y collage con @nuriaalfin🔵 Taller de cianotipia para explorar el paisaje con luz y formas botánicas @victoriarobles_ilustra \n\n\n\n🎨 Con instalaciones y procesos artísticos de @franciscovazquezm@nachoiasparra y @desiree_deridder (curaduría de @sol_echevarria_ ). \n\n\n\nAgradecemos especialmente al consejo asesor integrado por @martinmorcelle@marcosreche72@pazochoteco@chipi_del_carril y @franalverja \n\n\n\n🆓 El festival\, co-producido por Fundación Filba y Chacra Las Delicias\, es gratis y está abierto a todo público.
URL:https://bindi.world/evento/festival-raizal-de-naturaleza-y-arte/
CATEGORIES:Espiritualidad
ATTACH;FMTTYPE=image/jpeg:https://bindi.world/wp-content/uploads/2026/04/119add84-047c-428c-91b6-a245d7e9770f.jpg
END:VEVENT
BEGIN:VEVENT
DTSTART;TZID=America/Argentina/Buenos_Aires:20260418T180000
DTEND;TZID=America/Argentina/Buenos_Aires:20260418T233000
DTSTAMP:20260423T161556
CREATED:20260413T211345Z
LAST-MODIFIED:20260413T211345Z
UID:6588-1776535200-1776555000@bindi.world
SUMMARY:Fiesta Good Vibration
DESCRIPTION:Que alegría celebrar\, compartir y sentirnos en casa otra vez. \n\n\n\n✨Ganas de verlos vibrando en la misma sintonía.Porque hay cosas que no cambian. \n\n\n\n‌Nos acompañan en esta edición:🔮 @lic.soniashivanishakti👗 @retro.tienda🍄 @dafbatsios💆 @natturalflow👩‍🎨 @fioridicasa.ok \n\n\n\n‌🎟️ Hay un 4×3 disponible\, para que no falte nadie!(pagás 3 entradas y vienen 4).
URL:https://bindi.world/evento/fiesta-good-vibration/
LOCATION:Under Club\, Cnel. Niceto Vega 5699\, Ciudad Autónoma de Buenos Aires\, Argentina
CATEGORIES:Espiritualidad
ATTACH;FMTTYPE=image/jpeg:https://bindi.world/wp-content/uploads/2026/04/8577f7e7-84d9-4e79-8783-e89f73328225.jpg
END:VEVENT
END:VCALENDAR