BEGIN:VCALENDAR
VERSION:2.0
PRODID:-//Bindi - ECPv6.15.14//NONSGML v1.0//EN
CALSCALE:GREGORIAN
METHOD:PUBLISH
X-WR-CALNAME:Bindi
X-ORIGINAL-URL:https://bindi.world
X-WR-CALDESC:Eventos para Bindi
REFRESH-INTERVAL;VALUE=DURATION:PT1H
X-Robots-Tag:noindex
X-PUBLISHED-TTL:PT1H
BEGIN:VTIMEZONE
TZID:America/Argentina/Buenos_Aires
BEGIN:STANDARD
TZOFFSETFROM:-0300
TZOFFSETTO:-0300
TZNAME:-03
DTSTART:20250101T000000
END:STANDARD
END:VTIMEZONE
BEGIN:VEVENT
DTSTART;TZID=America/Argentina/Buenos_Aires:20260418T000000
DTEND;TZID=America/Argentina/Buenos_Aires:20260419T235959
DTSTAMP:20260423T161556
CREATED:20260325T183437Z
LAST-MODIFIED:20260325T183438Z
UID:6029-1776470400-1776643199@bindi.world
SUMMARY:Festival Zoma Ritual | Tepoztlán
DESCRIPTION:zomafestivalEdited•1w🌲🌕ZOMA Ritual Festival 🌕🌲 \n\n\n\nEARY BIRD 💫🟢🌳 \n\n\n\nNos emociona abrir este capítulo y compartir nuestro programa principal.Prepárate para un viaje sonoro que fusiona raíces ancestrales y expresión contemporánea en un mismo latido. 🌲💫 \n\n\n\nEstamos listos y nos honra recibirte.RITMOS QUE ELEVAN TU ESPÍRITU 🌕☄️🔥 LINE-UP@rodrigogallardomusic@nacionekeko@lolicosmica@sidarthasiliceo@ananta.arts@lengualerta@krenorganico@antaaresmusic@ixchel_grinberg@ishdub@hikur_ik@smileynoreally@tatekuin@mario.yanireth \n\n\n\n💫🌲Siente las primeras vibraciones de ZOMA! 🌲💫La magia de ZOMA Ritual Festival comienza ahora. No te quedes fuera de esta experiencia única donde la música\, el arte y el movimiento se unen en un solo pulso. \n\n\n\nAsegura tu acceso y sé parte de esta segunda edición.
URL:https://bindi.world/evento/festival-zoma-ritual-tepoztlan/
CATEGORIES:Espiritualidad
ATTACH;FMTTYPE=image/jpeg:https://bindi.world/wp-content/uploads/2026/03/8fb00987-cb3e-448c-9de4-fbb3470821a5.jpg
END:VEVENT
BEGIN:VEVENT
DTSTART;TZID=America/Argentina/Buenos_Aires:20260419T090000
DTEND;TZID=America/Argentina/Buenos_Aires:20260419T123000
DTSTAMP:20260423T161556
CREATED:20260415T171610Z
LAST-MODIFIED:20260415T171611Z
UID:6610-1776589200-1776601800@bindi.world
SUMMARY:37 Día Mundial de Nuestra Madre Tierra | México
DESCRIPTION:Te invitamos a ser parte de esta significativa celebración\, donde disfrutaremos de actividades culturales y espirituales como talleres\, conferencias\, seminarios\, conciertos\, sagradas velaciones y\, especialmente\, la emotiva **Caminata Ofrenda** que se llevará a cabo el domingo 19 de abril. \n\n\n\n📅 Fecha: Domingo 19 de abril🕘 Hora: 9:00 a. m.📍 Recorrido: Salida del Museo Nacional de Antropología hacia la Fundación de México Tenochtitlán\, en el Zócalo \n\n\n\nVen y rinde homenaje a nuestra Madre Tierra en un espacio de unión\, conciencia y celebración colectiva. \n\n\n\n💚 ¡Te esperamos para caminar juntos y honrar la vida!
URL:https://bindi.world/evento/37-dia-mundial-de-nuestra-madre-tierra-mexico/
CATEGORIES:Cultura,Espiritualidad
ATTACH;FMTTYPE=image/jpeg:https://bindi.world/wp-content/uploads/2026/04/014a3da2-059e-4198-aa11-3b17cefd40b4-1.jpg
END:VEVENT
BEGIN:VEVENT
DTSTART;TZID=America/Argentina/Buenos_Aires:20260419T110000
DTEND;TZID=America/Argentina/Buenos_Aires:20260419T190000
DTSTAMP:20260423T161556
CREATED:20251029T174153Z
LAST-MODIFIED:20251029T174153Z
UID:3207-1776596400-1776625200@bindi.world
SUMMARY:Conciencia | Festival Holístico 5° Edición
DESCRIPTION:Nuestra 5ª Edicion del Festival Holístico ya tiene nueva fecha y locación. En colaboración con @concienciasolar.experiencias & @amar.experiencias \n\n\n\nViví la misma energía de siempre en un nuevo espacio rodeado de naturaleza. \n\n\n\n✨ Actividades para el bienestar🧘‍♀️ Terapias y propuestas conscientes🛍️ Stands de emprendedores y expositores🎶 Música\, conexión y buena vibra \n\n\n\n👉🏾Inscripciones y solicitudes para exponer en el link de nuestra Bio \n\n\n\nUn encuentro para disfrutar con todos los sentidos\, en comunidad y bajo el cielo. ¡No te lo pierdas! 🦋
URL:https://bindi.world/evento/conciencia-festival-holistico-5-edicion/
LOCATION:Sheraton Pilar Hotel\, Sheraton Pilar Hotel\, Argentina
CATEGORIES:Clases, cursos y ciclos,Espiritualidad,Música
ATTACH;FMTTYPE=image/jpeg:https://bindi.world/wp-content/uploads/2025/10/622d6c18-c2aa-495b-99e4-79e0f309d6f5.jpg
END:VEVENT
BEGIN:VEVENT
DTSTART;TZID=America/Argentina/Buenos_Aires:20260419T110000
DTEND;TZID=America/Argentina/Buenos_Aires:20260419T190000
DTSTAMP:20260423T161556
CREATED:20260413T210626Z
LAST-MODIFIED:20260413T210626Z
UID:6579-1776596400-1776625200@bindi.world
SUMMARY:Festival Holístico Conciencia
DESCRIPTION:“Co creando Conciencia” \n\n\n\nActividades al aire libre • Música en vivo • Expositores y marcas conscientes • Terapeutas holísticos • Patio de comidas saludable \n\n\n\n👉🏾 ¿Qué vas a encontrar en el festival? \n\n\n\n• Acceso libre a todas las prácticas y actividades en los distintos escenarios• Prácticas integradoras como yoga\, biodanza\, meditación\, respiración consciente y más• Música en vivo\, danzas y propuestas para elevar el espíritu• Feria holística y artesanal con productos conscientes• Espacio de expositores con charlas y propuestas transformadoras• Encuentros individuales con terapeutas (reiki\, astrología\, masajes y más)(Las sesiones individuales se abonan directamente con cada terapeuta)• Patio de comidas con propuestas saludables y bebidas sin alcohol \n\n\n\n👉🏾 La venta de entradas y las solicitudes para exponer ya están disponibles en el link del perfil. \n\n\n\nSumate a esta celebración de conciencia\, amor y comunidad. Te esperamos ♥️ \n\n\n\n📅 Domingo 19 de Abril 2026 | 11 a 20 hs📍 Sheraton Pilar HotelPanamericana Ramal Pilar Km 49\,5
URL:https://bindi.world/evento/festival-holistico-conciencia-2/
CATEGORIES:Espiritualidad
ATTACH;FMTTYPE=image/jpeg:https://bindi.world/wp-content/uploads/2026/04/bf04c975-78ac-445b-9089-3e8a722a07ad.jpg
END:VEVENT
BEGIN:VEVENT
DTSTART;TZID=America/Argentina/Buenos_Aires:20260419T193000
DTEND;TZID=America/Argentina/Buenos_Aires:20260419T213000
DTSTAMP:20260423T161556
CREATED:20260413T205423Z
LAST-MODIFIED:20260413T205423Z
UID:6576-1776627000-1776634200@bindi.world
SUMMARY:Ecstatic Dance Diamantina
DESCRIPTION:Un espacio para escuchar y sentir la música desde un lugar diferente.Una sala creada para danzar la música\, profundizar en tus movimientos sin coreografías y todo lo que eso te puede beneficiar. \n\n\n\nEl cuerpo se lee\,la música sostiene y genera espacio interno\,la mente respira. \n\n\n\nSin palabras.Descalzos.Conectados.Sin juicios.Sin celulares. \n\n\n\nApertura guiada\, live DJ set y círculo de cierre. \n\n\n\nAv Cnel Niceto Vega 5390 @fuelpalermo19:30 a 21:30 hsLlegá 19:15 para acreditarte. Empieza puntual! \n\n\n\nEn el espacio hay lockers sin candados para guardar cosas\, podes traer el tuyo para más seguridad! \n\n\n\nVeni con ropa cómoda. Agua.Podés traer tu mate o infusión.También cuaderno y birome si querés registrar la experiencia.
URL:https://bindi.world/evento/ecstatic-dance-diamantina/
LOCATION:Fuel Palermo\, Cnel. Niceto Vega 5390\, Ciudad Autónoma de Buenos Aires\, Argentina
CATEGORIES:Espiritualidad
ATTACH;FMTTYPE=image/jpeg:https://bindi.world/wp-content/uploads/2026/04/a42e6280-6b88-4cb7-ad43-2e55e3ac9a2a.jpg
END:VEVENT
END:VCALENDAR