BEGIN:VCALENDAR
VERSION:2.0
PRODID:-//Bindi - ECPv6.15.14//NONSGML v1.0//EN
CALSCALE:GREGORIAN
METHOD:PUBLISH
X-WR-CALNAME:Bindi
X-ORIGINAL-URL:https://bindi.world
X-WR-CALDESC:Eventos para Bindi
REFRESH-INTERVAL;VALUE=DURATION:PT1H
X-Robots-Tag:noindex
X-PUBLISHED-TTL:PT1H
BEGIN:VTIMEZONE
TZID:America/Argentina/Buenos_Aires
BEGIN:STANDARD
TZOFFSETFROM:-0300
TZOFFSETTO:-0300
TZNAME:-03
DTSTART:20250101T000000
END:STANDARD
END:VTIMEZONE
BEGIN:VEVENT
DTSTART;TZID=America/Argentina/Buenos_Aires:20260318T183000
DTEND;TZID=America/Argentina/Buenos_Aires:20260429T203000
DTSTAMP:20260423T005326
CREATED:20260202T182738Z
LAST-MODIFIED:20260202T182739Z
UID:5446-1773858600-1777494600@bindi.world
SUMMARY:Programa de formación de líderes ambientales
DESCRIPTION:Buscamos a la próxima Generación Azul 🌊Si te importa el océano\, el agua y el futuro del planeta\, esto es para vos 👀💙 Lanzamos Generación Azul\, un programa virtual para jóvenes de entre 16 y 30 años que quieran pasar de las ideas a la acción ⚡🌀 7 encuentros🌀 herramientas reales🌀 personas increíbles con las mismas ganas que vosEl programa es virtual y se llevará a cabo los miércoles a las 18.30h desde el 18 de marzo al 29 de abril.
URL:https://bindi.world/evento/programa-de-formacion-de-lideres-ambientales/
CATEGORIES:Clases, cursos y ciclos
ATTACH;FMTTYPE=image/jpeg:https://bindi.world/wp-content/uploads/2026/02/7fbbb950-c441-4469-8ef4-819e3e63ffd0.jpg
END:VEVENT
BEGIN:VEVENT
DTSTART;TZID=America/Argentina/Buenos_Aires:20260415T150000
DTEND;TZID=America/Argentina/Buenos_Aires:20260426T200000
DTSTAMP:20260423T005326
CREATED:20260406T173816Z
LAST-MODIFIED:20260406T173817Z
UID:6440-1776265200-1777233600@bindi.world
SUMMARY:Decodificación de la memoria celular | con Sandra Aisenberg
DESCRIPTION:Abril 2026 | Barcelona \n\n\n\nVolver al origen para sanar desde la raíz. \n\n\n\nUn camino terapéutico para comprennder el sentido de sintomas\, emociones y patrones\, y liberar memorias profundas del cuerpo. \n\n\n\nComprender sintomas y liberar tensiones.Regular emociones y soltar cargas del pasado. \n\n\n\nTransfomar patrones y vinculos repetitivos.Reconectar con tu proposito y coherencia interna. \n\n\n\nInformación y reservas: +34 690 76 08 55 (Graciela)
URL:https://bindi.world/evento/decodificacion-de-la-memoria-celular-con-sandra-aisenberg/
CATEGORIES:Clases, cursos y ciclos
ATTACH;FMTTYPE=image/jpeg:https://bindi.world/wp-content/uploads/2026/04/ac19ebe5-b068-4b24-8c75-ca09af557ba7.jpg
END:VEVENT
BEGIN:VEVENT
DTSTART;TZID=America/Argentina/Buenos_Aires:20260422T000000
DTEND;TZID=America/Argentina/Buenos_Aires:20260424T235959
DTSTAMP:20260423T005326
CREATED:20260413T190832Z
LAST-MODIFIED:20260413T190834Z
UID:6547-1776816000-1777075199@bindi.world
SUMMARY:Festival de Regeneración: raíces\, redes y ritmos
DESCRIPTION:En 2022 emprendimos un camino para acercarnos a la regeneración\, reuniéndonos alrededor de un festival que nos invitó a poner la vida en el centro de nuestras conversaciones y acciones 🐝. Pero así como la naturaleza se adapta y se transforma\, este año decidimos dar un paso adelante con un nuevo festival que honre los aprendizajes de los últimos años y dialogue de manera íntima y cercana con las personas y las empresas.⁣⁣🤩 El #FestivalDeRegeneracion raíces\, redes y ritmos es una invitación a que\, como ciudadanos\, repensemos la forma en que vivimos y las conexiones que tejemos\, y que\, como organizaciones\, alineemos nuestras estrategias y modelos de negocio con los ciclos y ritmos de la Tierra 🌎. ⁣⁣¿Quieres sumarte a esta conversación? ¡Te esperamos del 22 al 24 de abril! Conoce más en comfama.com 📍
URL:https://bindi.world/evento/festival-de-regeneracion-raices-redes-y-ritmos/
CATEGORIES:Espiritualidad
ATTACH;FMTTYPE=image/jpeg:https://bindi.world/wp-content/uploads/2026/04/f84ad683-0c65-402c-b7f4-983984ec57cf.jpg
END:VEVENT
BEGIN:VEVENT
DTSTART;TZID=America/Argentina/Buenos_Aires:20260423T000000
DTEND;TZID=America/Argentina/Buenos_Aires:20260423T235959
DTSTAMP:20260423T005326
CREATED:20260415T172653Z
LAST-MODIFIED:20260415T172653Z
UID:6622-1776902400-1776988799@bindi.world
SUMMARY:Show Mose & Bruna Bortolato | México
DESCRIPTION:Por primera vez en años\, regreso con mi esposa @bruna.bortolato para traer Cacao Dance a México. Estamos muy emocionados de compartir nuestra danza medicinal con ustedes muy pronto en CDMX y Tulum. \n\n\n\n¡Qué ganas de conocerlos allí\, familia! \n\n\n\nApril 23th ~ CDMX\, MexicoApril 25th ~ Tulum\, Mexico @ikal.arena
URL:https://bindi.world/evento/show-mose-bruna-bortolato-mexico/
CATEGORIES:Música
ATTACH;FMTTYPE=image/jpeg:https://bindi.world/wp-content/uploads/2026/04/6a028bae-2c13-4633-911e-afab4e0470e0.jpg
END:VEVENT
BEGIN:VEVENT
DTSTART;TZID=America/Argentina/Buenos_Aires:20260423T180000
DTEND;TZID=America/Argentina/Buenos_Aires:20260423T193000
DTSTAMP:20260423T005326
CREATED:20260415T173932Z
LAST-MODIFIED:20260415T173933Z
UID:6630-1776967200-1776972600@bindi.world
SUMMARY:Evento Sanando con Maru Amor | Jujuy
DESCRIPTION:Feliz de estar en @teatromitre compartiendo juntos….@culturayturismojujuy gracias por acompañarnos en este encuentro mágico \n\n\n\n✨ Antes de encontrarnos en Salta… nos vemos en Jujuy ✨ \n\n\n\nVoy a dar una charla previa donde voy a compartirte un adelanto de lo que será el seminario\, entrando en el mundo de las energías\, cómo nos afectan y cómo empezar a comprenderlas. \n\n\n\nUn espacio para abrir conciencia\, conectar y prepararnos para vivir una experiencia más profunda juntos 💫 \n\n\n\nTe espero 🤍
URL:https://bindi.world/evento/evento-sanando-con-maru-amor-jujuy/
CATEGORIES:Espiritualidad
ATTACH;FMTTYPE=image/jpeg:https://bindi.world/wp-content/uploads/2026/04/7b171f53-932a-4cd7-b8ee-0747e806af0f.jpg
END:VEVENT
BEGIN:VEVENT
DTSTART;TZID=America/Argentina/Buenos_Aires:20260423T190000
DTEND;TZID=America/Argentina/Buenos_Aires:20260423T210000
DTSTAMP:20260423T005326
CREATED:20260415T174512Z
LAST-MODIFIED:20260415T174512Z
UID:6636-1776970800-1776978000@bindi.world
SUMMARY:Biodanza en Zona Norte
DESCRIPTION:Imaginate ir por las calles\,como cualquier día.pero este día es diferente. \n\n\n\nEn vez de caminar\, salticas. \n\n\n\nVestís esa prenda que guardás para “ocasiones especiales”\, aunque sea de gala. \n\n\n\nEl aroma de las medialunas recién hechas es extra exquisito. \n\n\n\nY por que sí\, bailas en espejo con les niñes que te cruzás en el camino (shhhh… la mayoría de los “grandes” están demasiados ocupados para verte). \n\n\n\nTe das cuenta que sos libre.Podés desplazarte por tu mundo con la libertad de quién baila como si nadie lo estuviese mirando. \n\n\n\nSer\, sentir\, habitar y expresar lo que está vivo en tí.Sea sentirte una estrella de Hollywood\,desplomarte en el sostén de un abrazoo conectar con la ternura de tu niñe interior. \n\n\n\nEn Biodanza creamos un contexto muy especial donde esa exploración es posible. Pero no me creas. Solo es verdad cuando lo pasamos por nuestra propia experiencia. \n\n\n\nSi algo de esto te cautiva\, escribime y charlemos. 😌 \n\n\n\nBIODANZA ~ Zona Norte \n\n\n\n🗓️ Jueves 19:00 a 21:00Empezamos el 23 de abril \n\n\n\n📍 @espacioalma.argentina ~ Acassuso \n\n\n\n🌀 Agradezco difusión! Si conoces a alguien que le pueda venir bien\, ya tu sabes! (Compartir\, enviar\, comentar)
URL:https://bindi.world/evento/biodanza-en-zona-norte/
CATEGORIES:Clases, cursos y ciclos
ATTACH;FMTTYPE=image/jpeg:https://bindi.world/wp-content/uploads/2026/04/a1e090f6-c098-4ad5-b744-1ec592afda67.jpg
END:VEVENT
BEGIN:VEVENT
DTSTART;TZID=America/Argentina/Buenos_Aires:20260425T000000
DTEND;TZID=America/Argentina/Buenos_Aires:20260425T235959
DTSTAMP:20260423T005326
CREATED:20260415T172709Z
LAST-MODIFIED:20260415T172709Z
UID:6625-1777075200-1777161599@bindi.world
SUMMARY:Show Mose & Bruna Bortolato | México
DESCRIPTION:Por primera vez en años\, regreso con mi esposa @bruna.bortolato para traer Cacao Dance a México. Estamos muy emocionados de compartir nuestra danza medicinal con ustedes muy pronto en CDMX y Tulum. \n\n\n\n¡Qué ganas de conocerlos allí\, familia! \n\n\n\nApril 23th ~ CDMX\, MexicoApril 25th ~ Tulum\, Mexico @ikal.arena
URL:https://bindi.world/evento/show-mose-bruna-bortolato-mexico-2/
CATEGORIES:Música
ATTACH;FMTTYPE=image/jpeg:https://bindi.world/wp-content/uploads/2026/04/6a028bae-2c13-4633-911e-afab4e0470e0.jpg
END:VEVENT
BEGIN:VEVENT
DTSTART;TZID=America/Argentina/Buenos_Aires:20260425T090000
DTEND;TZID=America/Argentina/Buenos_Aires:20260425T120000
DTSTAMP:20260423T005326
CREATED:20260415T172302Z
LAST-MODIFIED:20260415T172303Z
UID:6616-1777107600-1777118400@bindi.world
SUMMARY:Encuentro ¿Qué es ser humanos?: por Transformar Argentina
DESCRIPTION:En este primer encuentro del ciclo “Avivar el Fuego” nos reunimos para explorar esta pregunta desde tres miradas distintas que hoy empiezan a dialogar entre sí: \n\n\n\n• La mirada de la era digital y los algoritmos• La visión de un universo interconectado• Las enseñanzas de las tradiciones de Oriente y Occidente \n\n\n\nTres caminos diferentes que se encuentran para ampliar nuestra forma de mirar el mundo… y a nosotros mismos. \n\n\n\nUn espacio para escuchar\, reflexionar y abrir preguntas que nos ayuden a comprender mejor este tiempo que estamos viviendo. \n\n\n\n🔥 Encuentro virtual y gratuito📅 Sábado 25 de abril🕘 De 9 a 12 hs📍 Vía ZoomSi te resuena esta pregunta\, te esperamos.
URL:https://bindi.world/evento/encuentro-que-es-ser-humanos-por-transformar-argentina/
CATEGORIES:Clases, cursos y ciclos
ATTACH;FMTTYPE=image/jpeg:https://bindi.world/wp-content/uploads/2026/04/6c887464-cf89-41f9-aa06-45213203dbad.jpg
END:VEVENT
BEGIN:VEVENT
DTSTART;TZID=America/Argentina/Buenos_Aires:20260425T160000
DTEND;TZID=America/Argentina/Buenos_Aires:20260425T173000
DTSTAMP:20260423T005326
CREATED:20260415T182749Z
LAST-MODIFIED:20260415T191148Z
UID:6661-1777132800-1777138200@bindi.world
SUMMARY:Evento el jardín real: Atemporal por Orgánica Real
DESCRIPTION:Los invitamos una vez más al Jardín Real\, un espacio de encuentro entre la música y la naturaleza. \n\n\n\nUna experiencia orgánica & sensorial\, pensada para bajar el ritmo y conectar en presencia. \n\n\n\nMúsica en vivo.Personas en la misma frecuencia.
URL:https://bindi.world/evento/evento-el-jardin-real-atemporal-por-organica-real/
CATEGORIES:Cultura
ATTACH;FMTTYPE=image/jpeg:https://bindi.world/wp-content/uploads/2026/04/aeffe2ba-e28b-4bd9-a91b-820a8cc64011.jpg
END:VEVENT
BEGIN:VEVENT
DTSTART;TZID=America/Argentina/Buenos_Aires:20260425T160000
DTEND;TZID=America/Argentina/Buenos_Aires:20260425T235900
DTSTAMP:20260423T005326
CREATED:20260421T204531Z
LAST-MODIFIED:20260422T194650Z
UID:6854-1777132800-1777161540@bindi.world
SUMMARY:Taller Abierto + Fiesta en Taller Palpa
DESCRIPTION:Somos una muchxs artistas y criaturas con muchas ganas de mostrarles nuestro ARRRRRRTTTTTTTTEEEEER y compartir desde unos mates al Fernet con c0ca común.🥤Y aprovechando BUENOS AIIIIREESSS para conocernos un poco más \n\n\n\nEXPONEMOS@diasdasilvaisa@agustina__a@olivia.azpiazu@pepitalapistoleraa_@julia.martinez.rubioornecastellini@felicitacersofio@liana.saurus@proyecto.marialuisamanassero@iamkevinvaughn@trinidadferrari@espaciovirtualll@bluspinotti@leilassims \n\n\n\nMUSICALIZAM@justinavonglasberg@mausparatodo
URL:https://bindi.world/evento/taller-abierto-fiesta-en-taller-palpa/
LOCATION:Taller Palpa\, Palpa 2845\, Ciudad Autónoma de Buenos Aires\, Argentina
CATEGORIES:Clases, cursos y ciclos
ATTACH;FMTTYPE=image/jpeg:https://bindi.world/wp-content/uploads/2026/04/cb1125e2-6cfd-47de-a948-d058680e7fc8.jpg
END:VEVENT
BEGIN:VEVENT
DTSTART;TZID=America/Argentina/Buenos_Aires:20260426T120000
DTEND;TZID=America/Argentina/Buenos_Aires:20260426T160000
DTSTAMP:20260423T005326
CREATED:20260415T174858Z
LAST-MODIFIED:20260415T174859Z
UID:6639-1777204800-1777219200@bindi.world
SUMMARY:Clase de cocina botánica: Astro Banquete Alquimic
DESCRIPTION:Vamos a:•cocinar juntos•activar energía astro de tu carta•pintar• saber del potencial que tienen tus manos\, activando el sol y la luna es súper poderoso 🙂•lugar íntimo y súper cuidado \n\n\n\nTu energía sabe\, si Queres ser parte de las 7 personas de este encuentro\, escríbime.
URL:https://bindi.world/evento/clase-de-cocina-botanica-astro-banquete-alquimic/
CATEGORIES:Clases, cursos y ciclos
ATTACH;FMTTYPE=image/jpeg:https://bindi.world/wp-content/uploads/2026/04/4e8cbf6d-5259-404f-9f50-ef4d8bd88d67.jpg
END:VEVENT
BEGIN:VEVENT
DTSTART;TZID=America/Argentina/Buenos_Aires:20260428T000000
DTEND;TZID=America/Argentina/Buenos_Aires:20260502T235959
DTSTAMP:20260423T005326
CREATED:20260415T173719Z
LAST-MODIFIED:20260415T173720Z
UID:6627-1777334400-1777766399@bindi.world
SUMMARY:Retiro: Salud & Sentido | Chilhue\, Chiloé
DESCRIPTION:Hay personas que funcionan bien en la vida…trabajan\, cumplen\, avanzan\, hacen ejercicio\, intentan comer mejor\, leen\, se informan\, buscan herramientas. \n\n\n\nY aun así sienten algo difícil de explicar:cansancio interno\, desorden en sus hábitos\, híper-reactividad o una sensación de estar viviendo en piloto automático. \n\n\n\nNo siempre es falta de disciplina.Muchas veces es un sistema nervioso que lleva demasiado tiempo en alerta y sobrevivencia. \n\n\n\nCuando eso ocurre\, la conducta compensa:se exige más\, se optimiza más\, se llena el silencio. \n\n\n\n☀️Por eso creamos Salud & Sentido. \n\n\n\nUna experiencia inmersiva de 5 días en Chiloé donde integramos medicina\, sistema nervioso\, biología\, identidad y propósito para generar un reordenamiento interno real. \n\n\n\nNo es un retiro sólo de reset y de descanso.Es un espacio para comprender desde dónde estás viviendo y transformar esa base. \n\n\n\nDurante cinco días trabajaremos con:– regulación del sistema nervioso– eje intestino-cerebro– Método Salud Profunda– hábitos desde identidad– movimiento consciente– claridad vital \n\n\n\nTodo en un entorno natural diseñado para desacelerar lo suficiente como para escuchar lo que realmente importa. \n\n\n\n📍 Chilhue\, Chiloé📅 28 de abril — 2 de mayo👥 cupos limitados \n\n\n\nSi sientes que necesitas más claridad y coherencia interna que información\, quizás este sea tu momento.
URL:https://bindi.world/evento/retiro-salud-sentido-chilhue-chiloe/
CATEGORIES:Retiros
ATTACH;FMTTYPE=image/jpeg:https://bindi.world/wp-content/uploads/2026/04/96c28ef6-452f-40da-8374-f1bc79f12d31.jpg
END:VEVENT
BEGIN:VEVENT
DTSTART;TZID=America/Argentina/Buenos_Aires:20260511T000000
DTEND;TZID=America/Argentina/Buenos_Aires:20260520T235959
DTSTAMP:20260423T005326
CREATED:20250926T200335Z
LAST-MODIFIED:20250926T200336Z
UID:2186-1778457600-1779321599@bindi.world
SUMMARY:Locas por la aventura - New York
DESCRIPTION:Viajes para mujeres. Tu locura también es la nuestra.
URL:https://bindi.world/evento/locas-por-la-aventura-new-york/
CATEGORIES:Retiros
ATTACH;FMTTYPE=image/jpeg:https://bindi.world/wp-content/uploads/2025/09/lalo-hernandez-Amo081zdJsI-unsplash@2x.jpg
END:VEVENT
BEGIN:VEVENT
DTSTART;TZID=America/Argentina/Buenos_Aires:20260523T000000
DTEND;TZID=America/Argentina/Buenos_Aires:20260523T235959
DTSTAMP:20260423T005326
CREATED:20251112T192342Z
LAST-MODIFIED:20251112T192342Z
UID:3606-1779494400-1779580799@bindi.world
SUMMARY:Kuestiona Experience 2026
DESCRIPTION:Aquí empieza el viaje 💚🌱🤩 \n\n\n\n ¡Ya puedes reservar la fecha en tu calendario! 23 de mayo 2026 📆 \n\n\n\n Con muchas ganas … \n\n\n\n #KuestionaExperience26
URL:https://bindi.world/evento/kuestiona-experience-2026/
CATEGORIES:Espiritualidad
ATTACH;FMTTYPE=image/jpeg:https://bindi.world/wp-content/uploads/2025/11/79d881b9-1dfb-4454-8c44-210c718728b7.jpg
END:VEVENT
BEGIN:VEVENT
DTSTART;TZID=America/Argentina/Buenos_Aires:20260528T000000
DTEND;TZID=America/Argentina/Buenos_Aires:20260601T235959
DTSTAMP:20260423T005326
CREATED:20251117T181526Z
LAST-MODIFIED:20251117T181526Z
UID:3745-1779926400-1780358399@bindi.world
SUMMARY:Retiro para Mujeres en Menorca
DESCRIPTION:Después de tantos momentos mágicos vividos en Menorca con el Retiro Mujer +40\, ¡repetimos un año más! \n\n\n\n 🌺 ¡Ya vamos por la 6ª edición!Y no podríamos estar más felices de anunciar que en 2026 volvemos con más fuerza\, más conexión y más transformación. \n\n\n\n 🗓 Del 28 de mayo al 1 de junio 📍 5 días y 4 noches en la preciosa isla de Menorca 🌊 Naturaleza\, bienestar\, crecimiento y tribu femenina a partir de los 40.
URL:https://bindi.world/evento/retiro-para-mujeres-en-menorca/
CATEGORIES:Retiros
ATTACH;FMTTYPE=image/jpeg:https://bindi.world/wp-content/uploads/2025/11/8ae26a5b-255f-4167-9baf-42069c59a29e.jpg
END:VEVENT
BEGIN:VEVENT
DTSTART;TZID=America/Argentina/Buenos_Aires:20260608T160000
DTEND;TZID=America/Argentina/Buenos_Aires:20260608T190000
DTSTAMP:20260423T005326
CREATED:20260421T204722Z
LAST-MODIFIED:20260422T194720Z
UID:6859-1780934400-1780945200@bindi.world
SUMMARY:Las Semillas de Vandana
DESCRIPTION:Vandana Shiva\, líder ambiental inspiradora\, y el impacto de su trabajo en nuestro país\, serán el eje de una tarde encuentro. Compartiremos su poderoso llamado a la acción comunitaria\, a la solidaridad y a la regeneración de nuestros sistemas para sanar el vínculo roto con el mundo natural. \n\n\n\n🌎🌱 Otro mundo es posible y hay muchos ejemplos que están floreciendo. \n\n\n\n📚 Presentaremos dos nuevos libros con foco en su trabajo:«El retorno a la Tierra» y «Tramando un nuevo mundo».🎥 Además\, proyectaremos el documental «Las semillas de Vandana».🌱 Feria de semillas agroecológicas y plantas nativas.🎈 Espacio de juego para infancias! \n\n\n\n📅 Sábado 8 de junio\, 16hs en Momo Café Cultural. \n\n\n\n¡Vení a conocer su trabajo\, compartir experiencias y seguir sembrando un mundo nuevo!
URL:https://bindi.world/evento/las-semillas-de-vandana/
LOCATION:Momo Café Cultural\, Calazans 921\, Ciudad Autónoma de Buenos Aires\, Argentina
CATEGORIES:Espiritualidad
ATTACH;FMTTYPE=image/jpeg:https://bindi.world/wp-content/uploads/2026/04/a78a3e0b-43ce-4da3-8197-ebc23476d433.jpg
END:VEVENT
BEGIN:VEVENT
DTSTART;TZID=America/Argentina/Buenos_Aires:20260901T000000
DTEND;TZID=America/Argentina/Buenos_Aires:20260901T235959
DTSTAMP:20260423T005326
CREATED:20251112T192640Z
LAST-MODIFIED:20251112T192641Z
UID:3609-1788220800-1788307199@bindi.world
SUMMARY:Formación de Somatic Experiencing
DESCRIPTION:Comienza en septiembre 2026  \n\n\n\n¿Te gustaría formarte? \n\n\n\n Para más información e inscripción escribinos👇 \n\n\n\n 📩somaticexperiencingargentina@gmail.com 📱 1126382408 / 1140761433
URL:https://bindi.world/evento/formacion-de-somatic-experiencing/
CATEGORIES:Clases, cursos y ciclos
ATTACH;FMTTYPE=image/jpeg:https://bindi.world/wp-content/uploads/2025/11/9bb2fe46-5b82-4b85-a130-f545ad8a1444.jpg
END:VEVENT
END:VCALENDAR