BEGIN:VCALENDAR
VERSION:2.0
PRODID:-//Bindi - ECPv6.15.14//NONSGML v1.0//EN
CALSCALE:GREGORIAN
METHOD:PUBLISH
X-ORIGINAL-URL:https://bindi.world/blog
X-WR-CALDESC:Eventos para Bindi
REFRESH-INTERVAL;VALUE=DURATION:PT1H
X-Robots-Tag:noindex
X-PUBLISHED-TTL:PT1H
BEGIN:VTIMEZONE
TZID:America/Argentina/Buenos_Aires
BEGIN:STANDARD
TZOFFSETFROM:-0300
TZOFFSETTO:-0300
TZNAME:-03
DTSTART:20250101T000000
END:STANDARD
END:VTIMEZONE
BEGIN:VEVENT
DTSTART;TZID=America/Argentina/Buenos_Aires:20260301T000000
DTEND;TZID=America/Argentina/Buenos_Aires:20260331T235959
DTSTAMP:20260421T213830
CREATED:20251013T194221Z
LAST-MODIFIED:20251013T194222Z
UID:2663-1772323200-1775001599@bindi.world
SUMMARY:Respira India - Salida Grupal 2026 | India y Nepal
DESCRIPTION:RESPIRA INDIA viaja una vez más a India & Nepal.-Salida Grupal\, marzo 2026.-Ciudades que recorreremos: Delhi\, Rishikesh\, Agra\, Pushkar\, Varanasi\, Katmandú y Pokara.🪷 Comienza una nueva aventura. India y Nepal te abren la puerta a una experiencia única e inolvidable.Hablar de estos destinos es hablarte de un antes y un después. Conocerlos transformó mi vida. Cambio mi forma de ver el mundo\, de habitarlo y habitarme.India y Nepal no se explican\, se sienten. Son lugares donde la devoción se respira\, donde cada gesto es un ritual\, cada mirada es un espejo\, cada paso una enseñanza. Sus aromas\, sus sabores\, sus ropas llenas de color\, su espiritualidad viva\, su música que atraviesa el alma\, su fe inquebrantable\, todo te envuelve\, te sacude y te abraza.  La experiencia no pasa por la mente\, se vive con el cuerpo\, se despierta en el corazón\, se integra en el alma.Hoy quiero invitarte a una nueva travesía. Una inmersión profunda en culturas milenarias que nos recuerdan lo esencial. A que te quites los zapatos y sientas la tierra bajo tus pies. A que comas con tus manos y saborees cada instante. A que cantes mantras bajo el cielo estrellado. A que bailes\, rías\, llores\, respires y medites. A que te dejes guiar por hombres santos y mujeres sabias. A que practiques yoga en su cuna y despiertes memorias antiguas que viven en vos.Este no es un viaje exclusivo para yoguis\, pero sí un viaje profundamente espiritual. Esta diseñado para quienes desean explorar el mundo exterior y\, al mismo tiempo abrir un espacio sagrado de transformación interior.  En cada destino donde sea posible\, integraremos prácticas de yoga y meditación como parte fundamental del viaje.  Estas prácticas no son opcionales: son el corazón de esta experiencia\, el hilo conductor que nos ayuda a enraizarnos\, a habitar el presente y a recibir cada lugar con mayor apertura y conciencia.Si estas escuchando el llamado de India y Nepal\, no lo ignores\, No es casual. Hay viajes que se hacen con los pies y otros que se hacen con el alma.Este puede ser el tuyo.  
URL:https://bindi.world/blog/evento/respira-india-salida-grupal-2026-india-y-nepal/
CATEGORIES:Retiros
ATTACH;FMTTYPE=image/png:https://bindi.world/blog/wp-content/uploads/2025/10/22ab8e22-38a0-4da6-9cf7-0e2b60e6a0eb.png
END:VEVENT
BEGIN:VEVENT
DTSTART;TZID=America/Argentina/Buenos_Aires:20260303T000000
DTEND;TZID=America/Argentina/Buenos_Aires:20260316T235959
DTSTAMP:20260421T213830
CREATED:20251013T185539Z
LAST-MODIFIED:20251013T185539Z
UID:2645-1772496000-1773705599@bindi.world
SUMMARY:Safari en Tanzania - Retiros Patagonearte
DESCRIPTION:En África\, el ser humano dio sus primeros pasos. Aprendió a leer la naturaleza\, a moverse con el resto del mundo animal y a encontrar su lugar en una tierra de abundancia y misterio. \n\n\n\nHoy\, ese llamado vuelve a sonar. \n\n\n\n🦓 Un viaje. Dos experiencias.Primero\, 4 días de reconexión total: Yoga\, meditación y silencio en un hotel mágico en las sierras de Manyara. \n\n\n\nDespués\, el rugido de la sabana: tribus ancestrales\, vida silvestre y paisajes que nos van a dejar sin aliento. \n\n\n\nViajar así no es solo conocer un lugar.Es animarse a expandirse\, a transformarse\, a recordar. \n\n\n\nEs usar el viaje como canal para el autoconocimiento\, para mirar los propios miedos y descubrir que no estamos solas ni solos. \n\n\n\nEs dejarse tocar por algo más grande.
URL:https://bindi.world/blog/evento/safari-en-tanzania-retiros-patagonearte/
CATEGORIES:Retiros
ATTACH;FMTTYPE=image/png:https://bindi.world/blog/wp-content/uploads/2025/10/e2fe50b7-9e21-45b6-b64d-ee709343099f.png
END:VEVENT
BEGIN:VEVENT
DTSTART;TZID=America/Argentina/Buenos_Aires:20260308T000000
DTEND;TZID=America/Argentina/Buenos_Aires:20260315T235959
DTSTAMP:20260421T213830
CREATED:20260310T191257Z
LAST-MODIFIED:20260310T191259Z
UID:5856-1772928000-1773619199@bindi.world
SUMMARY:Congreso de Mujeres: La Magia del Círculo
DESCRIPTION:Este Congreso está secretamente diseñado con la estructura del Viaje del Héroe “en clave femenina” \n\n\n\nSiete escalones para hacer un recorrido hacia tu verdad\, tu voz auténtica y hacia tu nuevo liderazgo: sostenible\, de poyo y cuidado mutuo. \n\n\n\nSi lo das todo en mil roles\, casa\, familia\, trabajo… y estás agotada… \n\n\n\nSi acompañas personas o procesos y queres aprender a abrir círculos para integrar tu camino espiritual con estructura y un marco que te sostenga mientras sostenes… \n\n\n\nSi las hormonas y emociones de tu cuerpo femenino se tornaron ingobernables y deseas liderarte con más armonía y conexión a tu ritmo interno \n\n\n\nVeni! Del 8 al 15 de Marzo emisión gratuita del Congreso Virtual que transformó la vida de +14.000 mujeres desde 2020!
URL:https://bindi.world/blog/evento/congreso-de-mujeres-la-magia-del-circulo/
CATEGORIES:Clases, cursos y ciclos
ATTACH;FMTTYPE=image/jpeg:https://bindi.world/blog/wp-content/uploads/2026/03/8d3ef15c-145b-42bd-898b-bbf2caa40c5e.jpg
END:VEVENT
BEGIN:VEVENT
DTSTART;TZID=America/Argentina/Buenos_Aires:20260312T000000
DTEND;TZID=America/Argentina/Buenos_Aires:20260315T235959
DTSTAMP:20260421T213830
CREATED:20260223T171412Z
LAST-MODIFIED:20260223T171413Z
UID:5697-1773273600-1773619199@bindi.world
SUMMARY:Retiro de Novoturismo | Ubatuba\, Brasil
DESCRIPTION:Necesitas un encuentro con vos? \n\n\n\nEste retiro es una invitación a bajar revoluciones\, escuchar tu voz interna y reconectar con tu esencia. \n\n\n\nDurante cuatro días vas a habitar un espacio seguro\, contenido y lleno de amor\, donde la naturaleza\, la medicinasagrada\, el movimiento y el silencio se convierten en puentes hacia tu bienestar profundo. \n\n\n\nVas a vivir procesos que abren el corazón\, limpian la energía y te devuelven a tu eje. \n\n\n\nNo es un escape de la vida\, es un regreso a ella (tu vida) desde tu centro más auténtico. \n\n\n\nUna experiencia integral para tu cuerpo\, tu mente y tualma. \n\n\n\nEsta medicina de forma muy amorosa te invita a conectar con vos con tu autenticidad\, con todo lo que sos✨. Tenes que vivirla\, contarte una experiencia que no es tuya no sería auténtico. Tenes que vivirla! \n\n\n\nEscenario perfecto para tu transformación12 al 15 de Marzo.
URL:https://bindi.world/blog/evento/retiro-de-novoturismo-ubatuba-brasil/
CATEGORIES:Retiros
ATTACH;FMTTYPE=image/jpeg:https://bindi.world/blog/wp-content/uploads/2026/02/493938f4-3c6a-4322-afa9-0636ecc7ad5c.jpg
END:VEVENT
BEGIN:VEVENT
DTSTART;TZID=America/Argentina/Buenos_Aires:20260312T140000
DTEND;TZID=America/Argentina/Buenos_Aires:20260312T160000
DTSTAMP:20260421T213830
CREATED:20260310T182019Z
LAST-MODIFIED:20260310T182020Z
UID:5851-1773324000-1773331200@bindi.world
SUMMARY:Tratamiento Homeopático del Cáncer | Presentación de Casos
DESCRIPTION:🌿✨ Esta semana en la UNIVERSIDAD 𝗖𝗔𝗡𝗗𝗘𝗚𝗔𝗕𝗘 ✨🌿•⁠ ⁠🕑 2 PM (Hora Argentina)•⁠ ⁠🎟 Acceso libre y gratuito \n\n\n\n🔗 Ingreso directo por Zoomhttps://link.universidadcandegabe.org/zoomID: 869 7041 9258Clave: 167427🎥 También podrás seguir la transmisión en vivo desde nuestro canal oficial:youtube.com/UniversidadCandegabe
URL:https://bindi.world/blog/evento/tratamiento-homeopatico-del-cancer-presentacion-de-casos/
CATEGORIES:Clases, cursos y ciclos
ATTACH;FMTTYPE=image/jpeg:https://bindi.world/blog/wp-content/uploads/2026/03/a293d836-88bb-4f60-b8c5-27ee7e67b2a8.jpg
END:VEVENT
BEGIN:VEVENT
DTSTART;TZID=America/Argentina/Buenos_Aires:20260312T200000
DTEND;TZID=America/Argentina/Buenos_Aires:20260312T220000
DTSTAMP:20260421T213830
CREATED:20260223T194702Z
LAST-MODIFIED:20260223T194703Z
UID:5716-1773345600-1773352800@bindi.world
SUMMARY:Takuru: Taller de Poemas y Ritmo | Online
DESCRIPTION:Un taller de poesía enfocado en el ritmo no es algo que se vea todos los días. Mientras muchos dan por obvio qué es y cómo funciona\, en Takuru vamos a abordar el ritmo desde diferentes vías. \n\n\n\nUn takuru es un hormiguero gigante\, que tiene una forma característica y que está hecho por el trabajo mínusculo de miles de hormigas. En ese pulso vamos a leer y escribir poesía\, pero sobre todo vamos a compartir experiencias en torno al ritmo desde lugares en los que casi nadie se detiene a mirar y escuchar. \n\n\n\n💫Encuentros virtuales y sincrónicos. Los jueves de 20 a 22hs. \n\n\n\n📚Incluye material\, propuestas de lectura\, consignas y devoluciones para tus poemas. \n\n\n\nCoordina: Franco Rivero
URL:https://bindi.world/blog/evento/takuru-taller-de-poemas-y-ritmo-online/
CATEGORIES:Clases, cursos y ciclos
ATTACH;FMTTYPE=image/jpeg:https://bindi.world/blog/wp-content/uploads/2026/02/9b3f05bd-e84c-423d-ac41-8cd82c49a7f2.jpg
END:VEVENT
END:VCALENDAR