BEGIN:VCALENDAR
VERSION:2.0
PRODID:-//Bindi - ECPv6.15.14//NONSGML v1.0//EN
CALSCALE:GREGORIAN
METHOD:PUBLISH
X-ORIGINAL-URL:https://bindi.world/blog
X-WR-CALDESC:Eventos para Bindi
REFRESH-INTERVAL;VALUE=DURATION:PT1H
X-Robots-Tag:noindex
X-PUBLISHED-TTL:PT1H
BEGIN:VTIMEZONE
TZID:America/Argentina/Buenos_Aires
BEGIN:STANDARD
TZOFFSETFROM:-0300
TZOFFSETTO:-0300
TZNAME:-03
DTSTART:20250101T000000
END:STANDARD
END:VTIMEZONE
BEGIN:VEVENT
DTSTART;TZID=America/Argentina/Buenos_Aires:20260301T000000
DTEND;TZID=America/Argentina/Buenos_Aires:20260331T235959
DTSTAMP:20260421T195022
CREATED:20251013T194221Z
LAST-MODIFIED:20251013T194222Z
UID:2663-1772323200-1775001599@bindi.world
SUMMARY:Respira India - Salida Grupal 2026 | India y Nepal
DESCRIPTION:RESPIRA INDIA viaja una vez más a India & Nepal.-Salida Grupal\, marzo 2026.-Ciudades que recorreremos: Delhi\, Rishikesh\, Agra\, Pushkar\, Varanasi\, Katmandú y Pokara.🪷 Comienza una nueva aventura. India y Nepal te abren la puerta a una experiencia única e inolvidable.Hablar de estos destinos es hablarte de un antes y un después. Conocerlos transformó mi vida. Cambio mi forma de ver el mundo\, de habitarlo y habitarme.India y Nepal no se explican\, se sienten. Son lugares donde la devoción se respira\, donde cada gesto es un ritual\, cada mirada es un espejo\, cada paso una enseñanza. Sus aromas\, sus sabores\, sus ropas llenas de color\, su espiritualidad viva\, su música que atraviesa el alma\, su fe inquebrantable\, todo te envuelve\, te sacude y te abraza.  La experiencia no pasa por la mente\, se vive con el cuerpo\, se despierta en el corazón\, se integra en el alma.Hoy quiero invitarte a una nueva travesía. Una inmersión profunda en culturas milenarias que nos recuerdan lo esencial. A que te quites los zapatos y sientas la tierra bajo tus pies. A que comas con tus manos y saborees cada instante. A que cantes mantras bajo el cielo estrellado. A que bailes\, rías\, llores\, respires y medites. A que te dejes guiar por hombres santos y mujeres sabias. A que practiques yoga en su cuna y despiertes memorias antiguas que viven en vos.Este no es un viaje exclusivo para yoguis\, pero sí un viaje profundamente espiritual. Esta diseñado para quienes desean explorar el mundo exterior y\, al mismo tiempo abrir un espacio sagrado de transformación interior.  En cada destino donde sea posible\, integraremos prácticas de yoga y meditación como parte fundamental del viaje.  Estas prácticas no son opcionales: son el corazón de esta experiencia\, el hilo conductor que nos ayuda a enraizarnos\, a habitar el presente y a recibir cada lugar con mayor apertura y conciencia.Si estas escuchando el llamado de India y Nepal\, no lo ignores\, No es casual. Hay viajes que se hacen con los pies y otros que se hacen con el alma.Este puede ser el tuyo.  
URL:https://bindi.world/blog/evento/respira-india-salida-grupal-2026-india-y-nepal/
CATEGORIES:Retiros
ATTACH;FMTTYPE=image/png:https://bindi.world/blog/wp-content/uploads/2025/10/22ab8e22-38a0-4da6-9cf7-0e2b60e6a0eb.png
END:VEVENT
BEGIN:VEVENT
DTSTART;TZID=America/Argentina/Buenos_Aires:20260303T000000
DTEND;TZID=America/Argentina/Buenos_Aires:20260316T235959
DTSTAMP:20260421T195022
CREATED:20251013T185539Z
LAST-MODIFIED:20251013T185539Z
UID:2645-1772496000-1773705599@bindi.world
SUMMARY:Safari en Tanzania - Retiros Patagonearte
DESCRIPTION:En África\, el ser humano dio sus primeros pasos. Aprendió a leer la naturaleza\, a moverse con el resto del mundo animal y a encontrar su lugar en una tierra de abundancia y misterio. \n\n\n\nHoy\, ese llamado vuelve a sonar. \n\n\n\n🦓 Un viaje. Dos experiencias.Primero\, 4 días de reconexión total: Yoga\, meditación y silencio en un hotel mágico en las sierras de Manyara. \n\n\n\nDespués\, el rugido de la sabana: tribus ancestrales\, vida silvestre y paisajes que nos van a dejar sin aliento. \n\n\n\nViajar así no es solo conocer un lugar.Es animarse a expandirse\, a transformarse\, a recordar. \n\n\n\nEs usar el viaje como canal para el autoconocimiento\, para mirar los propios miedos y descubrir que no estamos solas ni solos. \n\n\n\nEs dejarse tocar por algo más grande.
URL:https://bindi.world/blog/evento/safari-en-tanzania-retiros-patagonearte/
CATEGORIES:Retiros
ATTACH;FMTTYPE=image/png:https://bindi.world/blog/wp-content/uploads/2025/10/e2fe50b7-9e21-45b6-b64d-ee709343099f.png
END:VEVENT
BEGIN:VEVENT
DTSTART;TZID=America/Argentina/Buenos_Aires:20260308T000000
DTEND;TZID=America/Argentina/Buenos_Aires:20260315T235959
DTSTAMP:20260421T195022
CREATED:20260310T191257Z
LAST-MODIFIED:20260310T191259Z
UID:5856-1772928000-1773619199@bindi.world
SUMMARY:Congreso de Mujeres: La Magia del Círculo
DESCRIPTION:Este Congreso está secretamente diseñado con la estructura del Viaje del Héroe “en clave femenina” \n\n\n\nSiete escalones para hacer un recorrido hacia tu verdad\, tu voz auténtica y hacia tu nuevo liderazgo: sostenible\, de poyo y cuidado mutuo. \n\n\n\nSi lo das todo en mil roles\, casa\, familia\, trabajo… y estás agotada… \n\n\n\nSi acompañas personas o procesos y queres aprender a abrir círculos para integrar tu camino espiritual con estructura y un marco que te sostenga mientras sostenes… \n\n\n\nSi las hormonas y emociones de tu cuerpo femenino se tornaron ingobernables y deseas liderarte con más armonía y conexión a tu ritmo interno \n\n\n\nVeni! Del 8 al 15 de Marzo emisión gratuita del Congreso Virtual que transformó la vida de +14.000 mujeres desde 2020!
URL:https://bindi.world/blog/evento/congreso-de-mujeres-la-magia-del-circulo/
CATEGORIES:Clases, cursos y ciclos
ATTACH;FMTTYPE=image/jpeg:https://bindi.world/blog/wp-content/uploads/2026/03/8d3ef15c-145b-42bd-898b-bbf2caa40c5e.jpg
END:VEVENT
BEGIN:VEVENT
DTSTART;TZID=America/Argentina/Buenos_Aires:20260312T000000
DTEND;TZID=America/Argentina/Buenos_Aires:20260315T235959
DTSTAMP:20260421T195022
CREATED:20260223T171412Z
LAST-MODIFIED:20260223T171413Z
UID:5697-1773273600-1773619199@bindi.world
SUMMARY:Retiro de Novoturismo | Ubatuba\, Brasil
DESCRIPTION:Necesitas un encuentro con vos? \n\n\n\nEste retiro es una invitación a bajar revoluciones\, escuchar tu voz interna y reconectar con tu esencia. \n\n\n\nDurante cuatro días vas a habitar un espacio seguro\, contenido y lleno de amor\, donde la naturaleza\, la medicinasagrada\, el movimiento y el silencio se convierten en puentes hacia tu bienestar profundo. \n\n\n\nVas a vivir procesos que abren el corazón\, limpian la energía y te devuelven a tu eje. \n\n\n\nNo es un escape de la vida\, es un regreso a ella (tu vida) desde tu centro más auténtico. \n\n\n\nUna experiencia integral para tu cuerpo\, tu mente y tualma. \n\n\n\nEsta medicina de forma muy amorosa te invita a conectar con vos con tu autenticidad\, con todo lo que sos✨. Tenes que vivirla\, contarte una experiencia que no es tuya no sería auténtico. Tenes que vivirla! \n\n\n\nEscenario perfecto para tu transformación12 al 15 de Marzo.
URL:https://bindi.world/blog/evento/retiro-de-novoturismo-ubatuba-brasil/
CATEGORIES:Retiros
ATTACH;FMTTYPE=image/jpeg:https://bindi.world/blog/wp-content/uploads/2026/02/493938f4-3c6a-4322-afa9-0636ecc7ad5c.jpg
END:VEVENT
BEGIN:VEVENT
DTSTART;TZID=America/Argentina/Buenos_Aires:20260313T000000
DTEND;TZID=America/Argentina/Buenos_Aires:20260315T235959
DTSTAMP:20260421T195022
CREATED:20260310T204021Z
LAST-MODIFIED:20260310T204021Z
UID:5903-1773360000-1773619199@bindi.world
SUMMARY:Micro dosis: formación de yoga soma x 20 hs.
DESCRIPTION:Argentina 🇦🇷 tenemos una nueva fecha 💚 comenta aquí abajo y te envío toda la info 🫶🏽 \n\n\n\nMe da tremenda felicidad estar haciendo esta formación nuevamente en Argentina. \n\n\n\nSiento muy fuerte que estas 20 horas pueden transformar un montón tu práctica y tu vínculo con tu cuerpo. Esta sería la cuarta edición de MicroDosis de Soma. La última fue hace casi dos años\, y ya en ese entonces fue impresionante la transformación que hubo en cada persona que la tomó. \n\n\n\nSi queres ser parte realmente\, escribinos\, tenemos solo 22 cupos y ya hay 10 inscriptos 😳🙃🫶🏽
URL:https://bindi.world/blog/evento/micro-dosis-formacion-de-yoga-soma-x-20-hs/
CATEGORIES:Clases, cursos y ciclos
ATTACH;FMTTYPE=image/jpeg:https://bindi.world/blog/wp-content/uploads/2026/03/c81f3e9c-9df5-4cfb-a1b4-12278e761cc7.jpg
END:VEVENT
BEGIN:VEVENT
DTSTART;TZID=America/Argentina/Buenos_Aires:20260313T000000
DTEND;TZID=America/Argentina/Buenos_Aires:20260315T235959
DTSTAMP:20260421T195022
CREATED:20260310T204823Z
LAST-MODIFIED:20260310T204824Z
UID:5912-1773360000-1773619199@bindi.world
SUMMARY:Retiro Poéticas Dramáticas por Nieta de la Luna y Luli Tuci
DESCRIPTION:Nos estamos yendo junto a @lulituci al Cabo Polonio a abordar todo esto en un círculo súper íntimo y con todas nuestras herramientas en el bolso:🌊 terapia transgeneracional🌊 abordaje somático y movimiento🌊 terapia bioenergética🌊 arteterapia🌊 medicina circular \n\n\n\n13-14-15 de marzoPOÉTICAS DRAMÁTICASen Cabo Polonio\, Uruguay 🇺🇾 \n\n\n\nQuedan los últimos cupos con descuento ❤️‍🔥
URL:https://bindi.world/blog/evento/retiro-poeticas-dramaticas-por-nieta-de-la-luna-y-luli-tuci/
CATEGORIES:Retiros
ATTACH;FMTTYPE=image/jpeg:https://bindi.world/blog/wp-content/uploads/2026/03/c0ad61e0-5416-4878-8d90-4a53ee5bfe37.jpg
END:VEVENT
BEGIN:VEVENT
DTSTART;TZID=America/Argentina/Buenos_Aires:20260313T180000
DTEND;TZID=America/Argentina/Buenos_Aires:20260313T193000
DTSTAMP:20260421T195022
CREATED:20260311T195617Z
LAST-MODIFIED:20260311T195618Z
UID:5924-1773424800-1773430200@bindi.world
SUMMARY:Taller de Yoga y Neurociencias | Virtual
DESCRIPTION:No\, la cadera no guarda emociones como si fuera un cajón.Pero eso que sentís en ciertas posturas tiene una explicación: memorias implícitas de tu Sistema Nervioso que integran cuerpo\, mente y emoción. \n\n\n\nSi te interesa entender qué pasa realmente en el cuerpo cuando practicás y enseñás yoga\, tenemos algo para vos: \n\n\n\nCon Cecilia Tubert (neurocientífica) creamos un taller online en vivo donde conectamos práctica y neurociencias.
URL:https://bindi.world/blog/evento/taller-de-yoga-y-neurociencias-virtual/
CATEGORIES:Clases, cursos y ciclos
ATTACH;FMTTYPE=image/jpeg:https://bindi.world/blog/wp-content/uploads/2026/03/075f4340-30e6-4bd3-a504-27a31505c75f.jpg
END:VEVENT
BEGIN:VEVENT
DTSTART;TZID=America/Argentina/Buenos_Aires:20260313T190000
DTEND;TZID=America/Argentina/Buenos_Aires:20260313T220000
DTSTAMP:20260421T195022
CREATED:20260304T182627Z
LAST-MODIFIED:20260304T182627Z
UID:5807-1773428400-1773439200@bindi.world
SUMMARY:Taller Intensivo de Canto Medicina por Paloma del Cerro
DESCRIPTION:Una tarde para conectar\, sentir y compartir pensamientos luminosos en hermosa compañía 💫 \n\n\n\n🗓 Viernes 13 de marzo⏰ 19 a 22 hs📍 Piola Cultural – Uruguay 1181\, piso 1 – CABA \n\n\n\n✨ Cupos limitados \n\n\n\nSi sentís el llamado\, reservá tu lugar y vení a vivir esta experiencia única.
URL:https://bindi.world/blog/evento/taller-intensivo-de-canto-medicina-por-paloma-del-cerro/
LOCATION:Piola Cultural\, Uruguay 1181\, Ciudad Autónoma de Buenos Aires\, Argentina
CATEGORIES:Clases, cursos y ciclos
ATTACH;FMTTYPE=image/jpeg:https://bindi.world/blog/wp-content/uploads/2026/03/Screenshot-2026-03-04-152446.jpg
END:VEVENT
BEGIN:VEVENT
DTSTART;TZID=America/Argentina/Buenos_Aires:20260313T200000
DTEND;TZID=America/Argentina/Buenos_Aires:20260313T235900
DTSTAMP:20260421T195022
CREATED:20260310T191819Z
LAST-MODIFIED:20260310T191819Z
UID:5864-1773432000-1773446340@bindi.world
SUMMARY:Noche de Juegos de Mesa en La Casa del Árbol
DESCRIPTION:Este viernes! Les esperamos en una nueva edición de NOCHE DE JUEGOS DE MESA ATP + MESA DE ROL D&D🎲🃏 Noche iIdeal para venir acompañadxs o solxs y sumarse a algún grupo😉Coordina @juegosalacarta \n\n\n\n☎️Pueden reservar mesa escribiendo al whatsapp que encuentran en el link en bio🎟️A la gorra📆13/03 de 20 a 00hs \n\n\n\n✳️ Habrá juegos clásicos\, de estrategia\, cooperativos\, de creatividad o de acción y partidas de rol D&D.Les contamos algunas de las propuestas que van a encontrar 👇🏾 \n\n\n\nCon Eso No Se JodeTinderbloxUga BugaTripletsPepinilloTaco Gato Cabra Queso PizzaEl CamareroSay My Name¿Quién Fue?Fantasma BlitzHDPCards Vs GravityEsquinadosConceptMasomenosHues and CuesNo Es TopJust OneQuickstopYokaiVirusBastaOdinAzulCoffee RushOdínCat in The BoxSagradaConceptFIGOAutumnOcéanos de PapelYokaiCódigo SecretoPistas CruzadasThe MindKimbapEso no es un sombreroScout
URL:https://bindi.world/blog/evento/noche-de-juegos-de-mesa-en-la-casa-del-arbol/
LOCATION:La Casa del Árbol\, Av. Córdoba 5217\, Palermo\, Ciudad Autónoma de Buenos Aires\, Argentina
CATEGORIES:Cultura
ATTACH;FMTTYPE=image/jpeg:https://bindi.world/blog/wp-content/uploads/2026/03/71ba8cbe-71d8-4bdf-b0ed-d057a9ae1a5f.jpg
END:VEVENT
END:VCALENDAR