BEGIN:VCALENDAR
VERSION:2.0
PRODID:-//Bindi - ECPv6.15.14//NONSGML v1.0//EN
CALSCALE:GREGORIAN
METHOD:PUBLISH
X-WR-CALNAME:Bindi
X-ORIGINAL-URL:https://bindi.world/blog
X-WR-CALDESC:Eventos para Bindi
REFRESH-INTERVAL;VALUE=DURATION:PT1H
X-Robots-Tag:noindex
X-PUBLISHED-TTL:PT1H
BEGIN:VTIMEZONE
TZID:America/Argentina/Buenos_Aires
BEGIN:STANDARD
TZOFFSETFROM:-0300
TZOFFSETTO:-0300
TZNAME:-03
DTSTART:20250101T000000
END:STANDARD
END:VTIMEZONE
BEGIN:VEVENT
DTSTART;TZID=America/Argentina/Buenos_Aires:20260301T000000
DTEND;TZID=America/Argentina/Buenos_Aires:20260331T235959
DTSTAMP:20260421T113116
CREATED:20251013T194221Z
LAST-MODIFIED:20251013T194222Z
UID:2663-1772323200-1775001599@bindi.world
SUMMARY:Respira India - Salida Grupal 2026 | India y Nepal
DESCRIPTION:RESPIRA INDIA viaja una vez más a India & Nepal.-Salida Grupal\, marzo 2026.-Ciudades que recorreremos: Delhi\, Rishikesh\, Agra\, Pushkar\, Varanasi\, Katmandú y Pokara.🪷 Comienza una nueva aventura. India y Nepal te abren la puerta a una experiencia única e inolvidable.Hablar de estos destinos es hablarte de un antes y un después. Conocerlos transformó mi vida. Cambio mi forma de ver el mundo\, de habitarlo y habitarme.India y Nepal no se explican\, se sienten. Son lugares donde la devoción se respira\, donde cada gesto es un ritual\, cada mirada es un espejo\, cada paso una enseñanza. Sus aromas\, sus sabores\, sus ropas llenas de color\, su espiritualidad viva\, su música que atraviesa el alma\, su fe inquebrantable\, todo te envuelve\, te sacude y te abraza.  La experiencia no pasa por la mente\, se vive con el cuerpo\, se despierta en el corazón\, se integra en el alma.Hoy quiero invitarte a una nueva travesía. Una inmersión profunda en culturas milenarias que nos recuerdan lo esencial. A que te quites los zapatos y sientas la tierra bajo tus pies. A que comas con tus manos y saborees cada instante. A que cantes mantras bajo el cielo estrellado. A que bailes\, rías\, llores\, respires y medites. A que te dejes guiar por hombres santos y mujeres sabias. A que practiques yoga en su cuna y despiertes memorias antiguas que viven en vos.Este no es un viaje exclusivo para yoguis\, pero sí un viaje profundamente espiritual. Esta diseñado para quienes desean explorar el mundo exterior y\, al mismo tiempo abrir un espacio sagrado de transformación interior.  En cada destino donde sea posible\, integraremos prácticas de yoga y meditación como parte fundamental del viaje.  Estas prácticas no son opcionales: son el corazón de esta experiencia\, el hilo conductor que nos ayuda a enraizarnos\, a habitar el presente y a recibir cada lugar con mayor apertura y conciencia.Si estas escuchando el llamado de India y Nepal\, no lo ignores\, No es casual. Hay viajes que se hacen con los pies y otros que se hacen con el alma.Este puede ser el tuyo.  
URL:https://bindi.world/blog/evento/respira-india-salida-grupal-2026-india-y-nepal/
CATEGORIES:Retiros
ATTACH;FMTTYPE=image/png:https://bindi.world/blog/wp-content/uploads/2025/10/22ab8e22-38a0-4da6-9cf7-0e2b60e6a0eb.png
END:VEVENT
BEGIN:VEVENT
DTSTART;TZID=America/Argentina/Buenos_Aires:20260314T000000
DTEND;TZID=America/Argentina/Buenos_Aires:20260322T235959
DTSTAMP:20260421T113116
CREATED:20260202T181632Z
LAST-MODIFIED:20260202T181632Z
UID:5435-1773446400-1774223999@bindi.world
SUMMARY:Workshop intensivo de Cob x Tierramigo en México
DESCRIPTION:En este workshop certificado\, aprenderás a analizar tierras arcillosas y cómo estabilizarlas para la construcción en tierra\, explorando los principios del cob como técnica constructiva\, y entendiendo las propiedades de la tierra como material de construcción. Durante esta experiencia práctica\, construirás un horno y bancas de cob completo – desde las fundaciones hasta los revestimientos finos. \n\n\n\n El objetivo es dotar a los alumnos de los conocimientos y herramientas necesarios para analizar y evaluar suelos arcillosos\, así como comprender cada uno de los pasos necesarios para construir con cob. El curso consistirá en un 70 % de práctica y un 30 % de teoría\, en el que se profundizará en diferentes técnicas de construcción natural\, todo lo relacionado con los hornos de cob\, los principios de las fundaciones de piedra\, las ventajas de la construcción con tierra\, cómo preparar y aplicar los revestimientos de tierra\, cómo esculpir con cob y mucho más. \n\n\n\n Una vez completado el workshop\, tendrás todas las herramientas para construir tu propio horno de cob\, y también tendrás las nociones básicas para construir muros de tierra cruda en tu proyecto. No necesitas experiencia previa! Realizaremos esta experiencia en en proyecto de @vianativamx y su maravilloso lugar en donde está construyendo un Earthship 🌱 \n\n\n\n Únete a esta experiencia intensiva y sé parte de la comunidad TIERRAMIGO\, obteniendo acceso al chat de la comunidad para conectar con otros\, saber sobre workshops con accesos preferenciales\, y adquirir el libro Manos al Barro: una guía práctica de bioconstrucción por un precio especial!
URL:https://bindi.world/blog/evento/workshop-intensivo-de-cob-x-tierramigo-en-mexico/
CATEGORIES:Clases, cursos y ciclos
ATTACH;FMTTYPE=image/jpeg:https://bindi.world/blog/wp-content/uploads/2026/02/e50f4a15-d114-4c8b-b37f-ab0466d055a7.jpg
END:VEVENT
BEGIN:VEVENT
DTSTART;TZID=America/Argentina/Buenos_Aires:20260315T000000
DTEND;TZID=America/Argentina/Buenos_Aires:20260321T235959
DTSTAMP:20260421T113116
CREATED:20260304T174933Z
LAST-MODIFIED:20260304T174933Z
UID:5790-1773532800-1774137599@bindi.world
SUMMARY:Taller de Construcción en Barro en Tandil
DESCRIPTION:Taller de construcción en barro con Jorge Belanko. Paso a paso. La casa de barro.
URL:https://bindi.world/blog/evento/taller-de-construccion-en-barro-en-tandil/
CATEGORIES:Clases, cursos y ciclos
ATTACH;FMTTYPE=image/jpeg:https://bindi.world/blog/wp-content/uploads/2026/03/581e815f-7345-480b-9d72-9fa84f5a8419.jpg
END:VEVENT
BEGIN:VEVENT
DTSTART;TZID=America/Argentina/Buenos_Aires:20260318T000000
DTEND;TZID=America/Argentina/Buenos_Aires:20260401T235959
DTSTAMP:20260421T113116
CREATED:20260311T194847Z
LAST-MODIFIED:20260311T194848Z
UID:5915-1773792000-1775087999@bindi.world
SUMMARY:Congreso Quantum Way: trauma\, apego y resiliencia | Online
DESCRIPTION:¿Acompañas a personas afectadas por traumas y deseas brindarles una mejor atención? El Congreso Trauma\, Apego y Resiliencia ofrece una experiencia de aprendizaje integral: \n\n\n\n→ 32 conferencias desde el 18 de marzo al 1 de abril→ Referencias clínicas y conocimientos actuales→ Herramientas prácticas y perspectivas aplicadas→ Abordajes fundamentales e innovadores en el campo del trauma→ Estándares de alta calidad (imagen/sonido + interpretación profesional en vivo) \n\n\n\nCon expertos de renombre mundial como Stephen Porges\, Bessel van der Kolk\, Deb Dana\, Frank Anderson\, Janina Fisher y Boris Cyrulnik\, el Congreso Trauma\, Apego y Resiliencia es un valor seguro para ampliar tus conocimientos sobre el trauma.
URL:https://bindi.world/blog/evento/congreso-quantum-way-trauma-apego-y-resiliencia-online/
CATEGORIES:Clases, cursos y ciclos
ATTACH;FMTTYPE=image/jpeg:https://bindi.world/blog/wp-content/uploads/2026/03/f3b4f04d-4b79-4532-8c4d-05e4590e4121.jpg
END:VEVENT
BEGIN:VEVENT
DTSTART;TZID=America/Argentina/Buenos_Aires:20260318T000000
DTEND;TZID=America/Argentina/Buenos_Aires:20260412T235959
DTSTAMP:20260421T113116
CREATED:20260310T191624Z
LAST-MODIFIED:20260310T191625Z
UID:5859-1773792000-1776038399@bindi.world
SUMMARY:Exposición India: Pasado\, Presente y Futuro
DESCRIPTION:La Embajada de la India en Buenos Aires tiene el placer de invitarlos a la muestra «INDIA: PASADO\, PRESENTE Y FUTURO. Un viaje visual desde sus raíces hasta la innovación” en la Casa del Bicentenario (Riobamba 985\, CABA\, Buenos Aires). \n\n\n\n«India\, pasado\, presente y futuro» es una exposición que propone un recorrido integral por la transformación histórica\, cultural y tecnológica de India\, nación que actualmente se posiciona como la cuarta economía mundial. \n\n\n\nComo parte de la programación cultural\, los días viernes y sábados habrá música tradicional de India en vivo\, presentaciones de reconocidos grupos de danza india y proyección de películas emblemáticas del cine contemporáneo de India. \n\n\n\nLos esperamos desde el 18 de marzo al 12 de abril. \n\n\n\nEntrada libre y gratuita!
URL:https://bindi.world/blog/evento/exposicion-india-pasado-presente-y-futuro/
LOCATION:Casa del Bicentenario\, Riobamba 985\, Ciudad Autónoma de Buenos Aires\, Argentina
CATEGORIES:Cultura
ATTACH;FMTTYPE=image/jpeg:https://bindi.world/blog/wp-content/uploads/2026/03/7b4b5f89-b1a8-48bd-8164-9aa1da2b197c.jpg
END:VEVENT
BEGIN:VEVENT
DTSTART;TZID=America/Argentina/Buenos_Aires:20260318T183000
DTEND;TZID=America/Argentina/Buenos_Aires:20260429T203000
DTSTAMP:20260421T113116
CREATED:20260202T182738Z
LAST-MODIFIED:20260202T182739Z
UID:5446-1773858600-1777494600@bindi.world
SUMMARY:Programa de formación de líderes ambientales
DESCRIPTION:Buscamos a la próxima Generación Azul 🌊Si te importa el océano\, el agua y el futuro del planeta\, esto es para vos 👀💙 Lanzamos Generación Azul\, un programa virtual para jóvenes de entre 16 y 30 años que quieran pasar de las ideas a la acción ⚡🌀 7 encuentros🌀 herramientas reales🌀 personas increíbles con las mismas ganas que vosEl programa es virtual y se llevará a cabo los miércoles a las 18.30h desde el 18 de marzo al 29 de abril.
URL:https://bindi.world/blog/evento/programa-de-formacion-de-lideres-ambientales/
CATEGORIES:Clases, cursos y ciclos
ATTACH;FMTTYPE=image/jpeg:https://bindi.world/blog/wp-content/uploads/2026/02/7fbbb950-c441-4469-8ef4-819e3e63ffd0.jpg
END:VEVENT
END:VCALENDAR