BEGIN:VCALENDAR
VERSION:2.0
PRODID:-//Bindi - ECPv6.15.14//NONSGML v1.0//EN
CALSCALE:GREGORIAN
METHOD:PUBLISH
X-WR-CALNAME:Bindi
X-ORIGINAL-URL:https://bindi.world/blog
X-WR-CALDESC:Eventos para Bindi
REFRESH-INTERVAL;VALUE=DURATION:PT1H
X-Robots-Tag:noindex
X-PUBLISHED-TTL:PT1H
BEGIN:VTIMEZONE
TZID:America/Argentina/Buenos_Aires
BEGIN:STANDARD
TZOFFSETFROM:-0300
TZOFFSETTO:-0300
TZNAME:-03
DTSTART:20240101T000000
END:STANDARD
END:VTIMEZONE
BEGIN:VEVENT
DTSTART;TZID=America/Argentina/Buenos_Aires:20251111T000000
DTEND;TZID=America/Argentina/Buenos_Aires:20251114T235959
DTSTAMP:20260421T064910
CREATED:20251110T173024Z
LAST-MODIFIED:20251110T173025Z
UID:3546-1762819200-1763164799@bindi.world
SUMMARY:Congreso de Psicotrauma y Salud Mental de Instituto Newman
DESCRIPTION:Tres días dedicados a aprender con los mejores expertos internacionales en trauma\, apego\, neurobiología y resiliencia. \n\n\n\n Desde Bruce Perry\, Janina Fisher\, Ruth Lanius\, Bethany Brand\, Scott Lyons\, Antonieta Contreras\, André Monteiro y muchos más; todos reunidos en un solo espacio para compartir las herramientas\, modelos y habilidades más actuales en el tratamiento de la salud mental. \n\n\n\n Si trabajas en psicología\, psiquiatría o intervención clínica y aún no te registras\, este es tu momento 🤓 \n\n\n\n No te quedes fuera del evento que está marcando el nuevo estándar en la formación en trauma en Latinoamérica. \n\n\n\n – 100% Online – 11\, 12 y 13 de noviembre – Acceso a ponencias internacionales\, talleres y materiales exclusivos.
URL:https://bindi.world/blog/evento/congreso-de-psicotrauma-y-salud-mental-de-instituto-newman/
CATEGORIES:Clases, cursos y ciclos
ATTACH;FMTTYPE=image/jpeg:https://bindi.world/blog/wp-content/uploads/2025/11/7d435d7e-09a2-47e9-8239-ef3fa943616b.jpg
END:VEVENT
BEGIN:VEVENT
DTSTART;TZID=America/Argentina/Buenos_Aires:20251111T170000
DTEND;TZID=America/Argentina/Buenos_Aires:20251111T190000
DTSTAMP:20260421T064910
CREATED:20251020T193914Z
LAST-MODIFIED:20251020T202147Z
UID:3025-1762880400-1762887600@bindi.world
SUMMARY:Taller de Jardinería en Jardín Botánico
DESCRIPTION:Taller de Jardinería a cargo de @ezequielemorales y @lulumaoo. \n\n\n\n🪻El taller está pensado para aficionados y amantes del “mundoverde”\, con el fin de brindarles los conocimientos básicos de jardinería para lograr unacorrecta elección de las plantas para su espacio (jardín\, terraza\, patio\, interior y/o balcón)\, sumantención y tareas que las mismas requieren. \n\n\n\nDictado en 4 clases teórico/práctico semanales de 2hs. Docentes a cargo: Tec. Jard. EzequielMorales y Lic. En planificación y diseño de paisaje Lucía Dalmao \n\n\n\nClase 1: – Presentación – Elementos de la jardinería: Sustratos y herramientas \n\n\n\nClase 2: – Tipos de Plantas (Morfología y hábitos. Herbáceas\, arbustos. Plantas de interior). –Lugar en la ciudad: Exposición solar\, Riego\, Viento\, Recipiente. \n\n\n\nClase 3: – Mantenimiento: Limpieza\, Nutrientes\, Plagas y Enfermedades. \n\n\n\nClase 4: – Poda (tipos de poda) y Propagación (sexual/asexual).
URL:https://bindi.world/blog/evento/taller-de-jardineria-en-jardin-botanico/
LOCATION:Jardín Botánico Carlos Thays\, Av. Sta. Fe 3957\, Ciudad Autónoma de Buenos Aires\, Argentina
CATEGORIES:Clases, cursos y ciclos
ATTACH;FMTTYPE=image/jpeg:https://bindi.world/blog/wp-content/uploads/2025/10/7767c210-54f7-49ec-a567-3db062cb7039.jpg
END:VEVENT
BEGIN:VEVENT
DTSTART;TZID=America/Argentina/Buenos_Aires:20251111T190000
DTEND;TZID=America/Argentina/Buenos_Aires:20251111T213000
DTSTAMP:20260421T064910
CREATED:20251029T201649Z
LAST-MODIFIED:20251029T201649Z
UID:3263-1762887600-1762896600@bindi.world
SUMMARY:Curso de Tete Dedyn “El Coraje de Ser Feliz”
DESCRIPTION:Querés ser feliz??? 😃 y que estás haciendo para lograrlo? \n\n\n\nSer feliz es una DECISIÓN.Hace 20 años atrás\, yo tomé esa decisión y hoy soy plenamente FELIZ 🙏😊.No fue un camino fácil\, te diría hasta difícil.Pase por enojos\, frustraciones\, miedos y tristezas.Pero había tomado una decisión y estaba lista para cumplirla..Hoy siento compartirte mi camino y mi experiencia de cómo lograr ser feliz y disfrutar de la vida como te merecés!.Quiero escucharte\, conocerte\, saber en que momento de tu vida estás\, asi juntas/os\, planificamos una realidad mejor 😊.SER FELIZ se puede!Regalate la oportunidad de ver la vida de otra manera! ⚘️.El curso: \n\n\n\n☘️ 4 encuentros virtuales de 2hs y media \n\n\n\n☘️ Martes 4\, 11\, 18 y 25 de Noviembre \n\n\n\n☘️Horario: 19 a 21:30 hs \n\n\n\n☘️quedarán grabados por si faltas a alguna clase \n\n\n\nSi estás interesado en recibir más información escribí CURSO y te escribo por privado 😉.Te imaginas cómo sería el mundo si todos fuéramos felices?!?!?!🥹♥️.Yo si\, y eso quiero 😁.Te veo en el curso! 🙏♥️
URL:https://bindi.world/blog/evento/curso-de-tete-dedyn-el-coraje-de-ser-feliz-2/
CATEGORIES:Clases, cursos y ciclos
ATTACH;FMTTYPE=image/jpeg:https://bindi.world/blog/wp-content/uploads/2025/10/e702cb0b-0b2a-4fa9-be5e-fdebaf47e77e.jpg
END:VEVENT
END:VCALENDAR