BEGIN:VCALENDAR
VERSION:2.0
PRODID:-//Bindi - ECPv6.15.14//NONSGML v1.0//EN
CALSCALE:GREGORIAN
METHOD:PUBLISH
X-WR-CALNAME:Bindi
X-ORIGINAL-URL:https://bindi.world/blog
X-WR-CALDESC:Eventos para Bindi
REFRESH-INTERVAL;VALUE=DURATION:PT1H
X-Robots-Tag:noindex
X-PUBLISHED-TTL:PT1H
BEGIN:VTIMEZONE
TZID:America/Argentina/Buenos_Aires
BEGIN:STANDARD
TZOFFSETFROM:-0300
TZOFFSETTO:-0300
TZNAME:-03
DTSTART:20240101T000000
END:STANDARD
END:VTIMEZONE
BEGIN:VEVENT
DTSTART;TZID=America/Argentina/Buenos_Aires:20251118T000000
DTEND;TZID=America/Argentina/Buenos_Aires:20251124T235959
DTSTAMP:20260419T121049
CREATED:20251110T175910Z
LAST-MODIFIED:20251110T175911Z
UID:3555-1763424000-1764028799@bindi.world
SUMMARY:Curso Online de Piscinas Biológicas
DESCRIPTION:Curso online de piscina biologicas\, para aprender a diseñar\, construir y mantener piscinas biologicas 22 de noviembre visita a piscina biologica de 9:00 a 12:00 (grabada y enviada a quienes no puedan asistir) 18\,19\, 20\, 21 y 24 de noviembre \, clases teóricas de 19:00 a 21:00 (grabadas yndisponibles para verlas 10 dias) 25 de noviembre: 18:00 a 21:00 horas\, corrección proyectos alumnos
URL:https://bindi.world/blog/evento/curso-online-de-piscinas-biologicas/
CATEGORIES:Clases, cursos y ciclos
ATTACH;FMTTYPE=image/png:https://bindi.world/blog/wp-content/uploads/2025/11/Screenshot-2025-11-10-144922.png
END:VEVENT
BEGIN:VEVENT
DTSTART;TZID=America/Argentina/Buenos_Aires:20251121T000000
DTEND;TZID=America/Argentina/Buenos_Aires:20251122T235959
DTSTAMP:20260419T121049
CREATED:20251110T173244Z
LAST-MODIFIED:20251110T173244Z
UID:3549-1763683200-1763855999@bindi.world
SUMMARY:Forum Nutrición Celular y Longevidad por Viva Consciente
DESCRIPTION:📢 2 DÍAS QUE PUEDEN CAMBIAR TU VIDA CELULARMENTEFORUM NUTRICIÓN CELULAR & LONGEVIDAD🗓️ 21 y 22 de noviembre 2025📍 Buenos Aires\, Argentina¿Sabías que tus mitocondrias son las baterías de tu cuerpo y que puedes recargarlas con ciencia + naturaleza?En este encuentro transformador descubrirás:✅ Hongos medicinales adaptógenos (Reishi\, Melena de León\, Cordyceps)✅ Biohacking mitocondrial con luz\, respiración y propósito✅ Desintoxicación de disruptores endocrinos del día a día✅ Fórmulas herbales para fatiga crónica✅ Cómo elevar tu energía sin café ni pastillasDIRECTOR: Sacha Barrio HealeyDISERTANTES ESTRELLA:• Dra. María Fernanda Medavar• Dr. Mauricio Vela• Dra. Alejandra Rodríguez Zía• Dra. Silvina Guala• Dr. Roberto Grau• Dr. Jorge Alonso• Dr. Matías KraglievichPRESENCIAL + STREAMING EN VIVO + ASINCRÓNICO🎟️ Entradas LIMITADAS en @vivaconscienteorg \n\n\n\n@sachabarriohealey@dra.medavar@drjorgealonso@biomednuevamedicina@dra.alejandra.rodriguezzia@mauricio.e.vela@dr.matiaskraglievich@eimo.orthomolecular@dataestetica@vivaconscienteorg👉 ¿Te sumás a la revolución celular?
URL:https://bindi.world/blog/evento/forum-nutricion-celular-y-longevidad-por-viva-consciente/
CATEGORIES:Clases, cursos y ciclos
ATTACH;FMTTYPE=image/jpeg:https://bindi.world/blog/wp-content/uploads/2025/11/62eef378-9c88-4075-bbec-e459b4f5aef5.jpg
END:VEVENT
BEGIN:VEVENT
DTSTART;TZID=America/Argentina/Buenos_Aires:20251122T100000
DTEND;TZID=America/Argentina/Buenos_Aires:20251122T130000
DTSTAMP:20260419T121049
CREATED:20251112T200122Z
LAST-MODIFIED:20251112T200122Z
UID:3612-1763805600-1763816400@bindi.world
SUMMARY:Mi Propio Botiquín Herbal | Taller Ritual Plantas de Poder
DESCRIPTION:Un llamado a conectar con tu propio potencial \, tu propio bienestar y equilibrio. De la mano de las plantas medicinales como guía. \n\n\n\n -Acompañarse en el día a día con las plantas es un camino de re conexión. Y para ello quiero contarte cuáles y cómo usarlas en cada momento \, según tus malestares .
URL:https://bindi.world/blog/evento/mi-propio-botiquin-herbal-taller-ritual-plantas-de-poder/
CATEGORIES:Clases, cursos y ciclos
ATTACH;FMTTYPE=image/jpeg:https://bindi.world/blog/wp-content/uploads/2025/11/04e96da7-ce16-407a-97c8-ef396140e151.jpg
END:VEVENT
BEGIN:VEVENT
DTSTART;TZID=America/Argentina/Buenos_Aires:20251122T180000
DTEND;TZID=America/Argentina/Buenos_Aires:20251122T200000
DTSTAMP:20260419T121049
CREATED:20251114T181155Z
LAST-MODIFIED:20251114T181155Z
UID:3679-1763834400-1763841600@bindi.world
SUMMARY:Armonización con Cuencos - Encuentro Grupal
DESCRIPTION:Los CUENCOS producen sonidos armónicos que promueven efectos relajantes e inducen a una profunda serenidad en las personas. \n\n\n\nFinalizaremos el encuentro compartiendo tes para quien desee quedarse luego. \n\n\n\n𝙇𝙖𝙨 𝘼𝙧𝙢𝙤𝙣𝙞𝙯𝙖𝙘𝙞𝙤𝙣𝙚𝙨 𝙜𝙧𝙪𝙥𝙖𝙡𝙚𝙨 𝙨𝙤𝙣 𝙪𝙣𝙖 𝙞𝙣𝙫𝙞𝙩𝙖𝙘𝙞ó𝙣 𝙖: \n\n\n\n🧿 Bañarnos con los sonidos y las vibraciones de los cuencos tibetanos y cuencos de cuarzo\, estimulando lo auditivo y lo sensorial. \n\n\n\n🧿 Brindar un espacio cuidado de silencio que induce a la meditación y a la calma \n\n\n\n🧿 Conectarnos con la respiración\, calmando el ruido mental y la rumia de los pensamientos \n\n\n\n🧿 Reducir el nivel de estrés\, episodios de ansiedad e insomnio \n\n\n\n🧿 Alcanzar la sensación de liviandad y serenidad. \n\n\n\nDÓNDE: COLEGIALES – Cespedes 3249 (Timbre 003) \n\n\n\nGUÍA: Damián Huala(Lic. en Psicología Y Terapeuta Sonoro) \n\n\n\nSe reserva el lugar abonando la totalidad del encuentro. \n\n\n\nBco Galicia: alias: palabra.sonidoMP: alias: «damianhuala»
URL:https://bindi.world/blog/evento/armonizacion-con-cuencos-encuentro-grupal/
CATEGORIES:Clases, cursos y ciclos
ATTACH;FMTTYPE=image/jpeg:https://bindi.world/blog/wp-content/uploads/2025/11/298ebb84-8fb2-4903-8df1-dcb70b2e60e3.jpg
END:VEVENT
END:VCALENDAR